Workbook

Sheet INICIO

Sheet DASHBOARD
C6: ESTRATEGIAS POR ÁREAS FUNCIONALES
C7: ÁREA | D7: Cantidad | E7: %
C8: =IF(BASES!B15<>"",BASES!B15,"") -> area 1 | D8: =IF(C8<>"",COUNTIF('TABLA DE OBJETIVOS'!$D$6:$D$130,C8),"") -> 3 | E8: =IFERROR(D8/SUM($D$8:$D$14),"") -> 0.375
C9: =IF(BASES!B16<>"",BASES!B16,"") -> area 2 | D9: =IF(C9<>"",COUNTIF('TABLA DE OBJETIVOS'!$D$6:$D$130,C9),"") -> 1 | E9: =IFERROR(D9/SUM($D$8:$D$14),"") -> 0.125
C10: =IF(BASES!B17<>"",BASES!B17,"") -> area 3 | D10: =IF(C10<>"",COUNTIF('TABLA DE OBJETIVOS'!$D$6:$D$130,C10),"") -> 2 | E10: =IFERROR(D10/SUM($D$8:$D$14),"") -> 0.25
C11: =IF(BASES!B18<>"",BASES!B18,"") -> area 4 | D11: =IF(C11<>"",COUNTIF('TABLA DE OBJETIVOS'!$D$6:$D$130,C11),"") -> 2 | E11: =IFERROR(D11/SUM($D$8:$D$14),"") -> 0.25
C12: =IF(BASES!B19<>"",BASES!B19,"") -> area 5 | D12: =IF(C12<>"",COUNTIF('TABLA DE OBJETIVOS'!$D$6:$D$130,C12),"") -> 0 | E12: =IFERROR(D12/SUM($D$8:$D$14),"") -> 0
C13: =IF(BASES!B20<>"",BASES!B20,"") | D13: =IF(C13<>"",COUNTIF('TABLA DE OBJETIVOS'!$D$6:$D$130,C13),"") | E13: =IFERROR(D13/SUM($D$8:$D$14),"")
C14: =IF(BASES!B21<>"",BASES!B21,"") | D14: =IF(C14<>"",COUNTIF('TABLA DE OBJETIVOS'!$D$6:$D$130,C14),"") | E14: =IFERROR(D14/SUM($D$8:$D$14),"")
C17: ESTRATEGIAS POR OBJETIVOS
C18: ÁREA | D18: Cantidad | E18: %
C19: =IF(BASES!B6<>"",BASES!B6,"") -> Obj Estrategico 0 | D19: =IF(C19<>"",COUNTIF('TABLA DE OBJETIVOS'!$F$6:$F$130,C19),"") -> 2 | E19: =IFERROR(D19/SUM($D$19:$D$25),"") -> 0.25
C20: =IF(BASES!B7<>"",BASES!B7,"") -> Obj Estrategico 1 | D20: =IF(C20<>"",COUNTIF('TABLA DE OBJETIVOS'!$F$6:$F$130,C20),"") -> 1 | E20: =IFERROR(D20/SUM($D$19:$D$25),"") -> 0.125
C21: =IF(BASES!B8<>"",BASES!B8,"") -> Obj Estrategico 2 | D21: =IF(C21<>"",COUNTIF('TABLA DE OBJETIVOS'!$F$6:$F$130,C21),"") -> 1 | E21: =IFERROR(D21/SUM($D$19:$D$25),"") -> 0.125
C22: =IF(BASES!B9<>"",BASES!B9,"") -> Obj Estrategico 3 | D22: =IF(C22<>"",COUNTIF('TABLA DE OBJETIVOS'!$F$6:$F$130,C22),"") -> 1 | E22: =IFERROR(D22/SUM($D$19:$D$25),"") -> 0.125
C23: =IF(BASES!B10<>"",BASES!B10,"") -> Obj Estrategico 4 | D23: =IF(C23<>"",COUNTIF('TABLA DE OBJETIVOS'!$F$6:$F$130,C23),"") -> 1 | E23: =IFERROR(D23/SUM($D$19:$D$25),"") -> 0.125
C24: =IF(BASES!B11<>"",BASES!B11,"") -> Obj Estrategico 5 | D24: =IF(C24<>"",COUNTIF('TABLA DE OBJETIVOS'!$F$6:$F$130,C24),"") -> 2 | E24: =IFERROR(D24/SUM($D$19:$D$25),"") -> 0.25
C25: =IF(BASES!B12<>"",BASES!B12,"") | D25: =IF(C25<>"",COUNTIF('TABLA DE OBJETIVOS'!$F$6:$F$130,C25),"") | E25: =IFERROR(D25/SUM($D$19:$D$25),"")
C28: PERSONAS RESPONSABLES - ESTRATEGIAS
C29: ÁREA | D29: Cantidad | E29: %
C30: =IF(BASES!B15<>"",BASES!B15,"") -> area 1 | D30: =IF(IF(C30<>"",COUNTIF(BASES!$W$25:$W$65,C30),"")<>0,IF(C30<>"",COUNTIF(BASES!$W$25:$W$65,C30),""),"") -> 2 | E30: =IFERROR(D30/SUM($D$30:$D$36),"") -> 0.33333333
C31: =IF(BASES!B16<>"",BASES!B16,"") -> area 2 | D31: =IF(IF(C31<>"",COUNTIF(BASES!$W$25:$W$65,C31),"")<>0,IF(C31<>"",COUNTIF(BASES!$W$25:$W$65,C31),""),"") -> 2 | E31: =IFERROR(D31/SUM($D$30:$D$36),"") -> 0.33333333
C32: =IF(BASES!B17<>"",BASES!B17,"") -> area 3 | D32: =IF(IF(C32<>"",COUNTIF(BASES!$W$25:$W$65,C32),"")<>0,IF(C32<>"",COUNTIF(BASES!$W$25:$W$65,C32),""),"") -> 1 | E32: =IFERROR(D32/SUM($D$30:$D$36),"") -> 0.16666667
C33: =IF(BASES!B18<>"",BASES!B18,"") -> area 4 | D33: =IF(IF(C33<>"",COUNTIF(BASES!$W$25:$W$65,C33),"")<>0,IF(C33<>"",COUNTIF(BASES!$W$25:$W$65,C33),""),"") -> 1 | E33: =IFERROR(D33/SUM($D$30:$D$36),"") -> 0.16666667
C34: =IF(BASES!B19<>"",BASES!B19,"") -> area 5 | D34: =IF(IF(C34<>"",COUNTIF(BASES!$W$25:$W$65,C34),"")<>0,IF(C34<>"",COUNTIF(BASES!$W$25:$W$65,C34),""),"") | E34: =IFERROR(D34/SUM($D$30:$D$36),"")
C35: =IF(BASES!B20<>"",BASES!B20,"") | D35: =IF(IF(C35<>"",COUNTIF(BASES!$W$25:$W$65,C35),"")<>0,IF(C35<>"",COUNTIF(BASES!$W$25:$W$65,C35),""),"") | E35: =IFERROR(D35/SUM($D$30:$D$36),"")
C36: =IF(BASES!B21<>"",BASES!B21,"") | D36: =IF(IF(C36<>"",COUNTIF(BASES!$W$25:$W$65,C36),"")<>0,IF(C36<>"",COUNTIF(BASES!$W$25:$W$65,C36),""),"") | E36: =IFERROR(D36/SUM($D$30:$D$36),"")
C39: ESTADÍSTICAS DE PARTICIPACIÓN
C41: ÁREA | D41: Cantidad | E41: %
C42: PERSONAS RESPONSABLES DE ESTRATEGIAS | D42: =IF(C42<>"",BASES!V24,"") -> 6 | E42: =IFERROR(D42/SUM($D$42:$D$43),"") -> 0.75
C43: PERSONAS QUE NO SON RESPONSABLES DE ESTRATEGIAS | D43: =IF(C43<>"",MAX(BASES!A25:A65)-BASES!V24,"") -> 2 | E43: =IFERROR(D43/SUM($D$42:$D$43),"") -> 0.25
C44: ÁREAS RESPONSABLES DE ESTRATEGIAS | D44: =COUNT(D30:D36) -> 4 | E44: =IFERROR(D44/SUM($D$44:$D$45),"") -> 0.8
C45: ÁREAS NO RESPONSABLES DE ESTRATEGIAS | D45: =IF(C45<>"",MAX(BASES!A15:A21)-D44,"") -> 1 | E45: =IFERROR(D45/SUM($D$44:$D$45),"") -> 0.2
C50: PERSONAS RESPONSABLES - ACCIONES
C51: ÁREA | D51: ESTR 1 | E51: =CONCATENATE("% ",D51) -> % ESTR 1 | F51: ESTR 2 | G51: =CONCATENATE("% ",F51) -> % ESTR 2 | H51: ESTR 3 | I51: =CONCATENATE("% ",H51) -> % ESTR 3 | J51: ESTR 4 | K51: =CONCATENATE("% ",J51) -> % ESTR 4 | L51: ESTR 5 | M51: =CONCATENATE("% ",L51) -> % ESTR 5 | N51: ESTR 6 | O51: =CONCATENATE("% ",N51) -> % ESTR 6 | P51: ESTR 7 | Q51: =CONCATENATE("% ",P51) -> % ESTR 7
C52: =IF(BASES!B15<>"",BASES!B15,"") -> area 1 | D52: =IF(IF($C52<>"",COUNTIF(BASES!$Y$25:$Y$65,$C52),"")<>0,IF($C52<>"",COUNTIF(BASES!$Y$25:$Y$65,$C52),""),"") -> 2 | E52: =IFERROR(D52/MAX(BASES!$A$24:$A$65),"") -> 0.25 | F52: =IF(IF($C52<>"",COUNTIF(BASES!$AA$25:$AA$65,$C52),"")<>0,IF($C52<>"",COUNTIF(BASES!$AA$25:$AA$65,$C52),""),"") | G52: =IFERROR(F52/MAX(BASES!$A$24:$A$65),"") | H52: =IF(IF($C52<>"",COUNTIF(BASES!$AC$25:$AC$65,$C52),"")<>0,IF($C52<>"",COUNTIF(BASES!$AC$25:$AC$65,$C52),""),"") | I52: =IFERROR(H52/MAX(BASES!$A$24:$A$65),"") | J52: =IF(IF($C52<>"",COUNTIF(BASES!$AE$25:$AE$65,$C52),"")<>0,IF($C52<>"",COUNTIF(BASES!$AE$25:$AE$65,$C52),""),"") | K52: =IFERROR(J52/MAX(BASES!$A$24:$A$65),"") | L52: =IF(IF($C52<>"",COUNTIF(BASES!$AG$25:$AG$65,$C52),"")<>0,IF($C52<>"",COUNTIF(BASES!$AG$25:$AG$65,$C52),""),"") | M52: =IFERROR(L52/MAX(BASES!$A$24:$A$65),"") | N52: =IF(IF($C52<>"",COUNTIF(BASES!$AI$25:$AI$65,$C52),"")<>0,IF($C52<>"",COUNTIF(BASES!$AI$25:$AI$65,$C52),""),"") | O52: =IFERROR(N52/MAX(BASES!$A$24:$A$65),"") | P52: =IF(IF($C52<>"",COUNTIF(BASES!$AK$25:$AK$65,$C52),"")<>0,IF($C52<>"",COUNTIF(BASES!$AK$25:$AK$65,$C52),""),"") | Q52: =IFERROR(P52/MAX(BASES!$A$24:$A$65),"")
C53: =IF(BASES!B16<>"",BASES!B16,"") -> area 2 | D53: =IF(IF($C53<>"",COUNTIF(BASES!$Y$25:$Y$65,$C53),"")<>0,IF($C53<>"",COUNTIF(BASES!$Y$25:$Y$65,$C53),""),"") -> 1 | E53: =IFERROR(D53/MAX(BASES!$A$24:$A$65),"") -> 0.125 | F53: =IF(IF($C53<>"",COUNTIF(BASES!$AA$25:$AA$65,$C53),"")<>0,IF($C53<>"",COUNTIF(BASES!$AA$25:$AA$65,$C53),""),"") | G53: =IFERROR(F53/MAX(BASES!$A$24:$A$65),"") | H53: =IF(IF($C53<>"",COUNTIF(BASES!$AC$25:$AC$65,$C53),"")<>0,IF($C53<>"",COUNTIF(BASES!$AC$25:$AC$65,$C53),""),"") | I53: =IFERROR(H53/MAX(BASES!$A$24:$A$65),"") | J53: =IF(IF($C53<>"",COUNTIF(BASES!$AE$25:$AE$65,$C53),"")<>0,IF($C53<>"",COUNTIF(BASES!$AE$25:$AE$65,$C53),""),"") | K53: =IFERROR(J53/MAX(BASES!$A$24:$A$65),"") | L53: =IF(IF($C53<>"",COUNTIF(BASES!$AG$25:$AG$65,$C53),"")<>0,IF($C53<>"",COUNTIF(BASES!$AG$25:$AG$65,$C53),""),"") | M53: =IFERROR(L53/MAX(BASES!$A$24:$A$65),"") | N53: =IF(IF($C53<>"",COUNTIF(BASES!$AI$25:$AI$65,$C53),"")<>0,IF($C53<>"",COUNTIF(BASES!$AI$25:$AI$65,$C53),""),"") | O53: =IFERROR(N53/MAX(BASES!$A$24:$A$65),"") | P53: =IF(IF($C53<>"",COUNTIF(BASES!$AK$25:$AK$65,$C53),"")<>0,IF($C53<>"",COUNTIF(BASES!$AK$25:$AK$65,$C53),""),"") | Q53: =IFERROR(P53/MAX(BASES!$A$24:$A$65),"")
C54: =IF(BASES!B17<>"",BASES!B17,"") -> area 3 | D54: =IF(IF($C54<>"",COUNTIF(BASES!$Y$25:$Y$65,$C54),"")<>0,IF($C54<>"",COUNTIF(BASES!$Y$25:$Y$65,$C54),""),"") -> 1 | E54: =IFERROR(D54/MAX(BASES!$A$24:$A$65),"") -> 0.125 | F54: =IF(IF($C54<>"",COUNTIF(BASES!$AA$25:$AA$65,$C54),"")<>0,IF($C54<>"",COUNTIF(BASES!$AA$25:$AA$65,$C54),""),"") | G54: =IFERROR(F54/MAX(BASES!$A$24:$A$65),"") | H54: =IF(IF($C54<>"",COUNTIF(BASES!$AC$25:$AC$65,$C54),"")<>0,IF($C54<>"",COUNTIF(BASES!$AC$25:$AC$65,$C54),""),"") | I54: =IFERROR(H54/MAX(BASES!$A$24:$A$65),"") | J54: =IF(IF($C54<>"",COUNTIF(BASES!$AE$25:$AE$65,$C54),"")<>0,IF($C54<>"",COUNTIF(BASES!$AE$25:$AE$65,$C54),""),"") | K54: =IFERROR(J54/MAX(BASES!$A$24:$A$65),"") | L54: =IF(IF($C54<>"",COUNTIF(BASES!$AG$25:$AG$65,$C54),"")<>0,IF($C54<>"",COUNTIF(BASES!$AG$25:$AG$65,$C54),""),"") | M54: =IFERROR(L54/MAX(BASES!$A$24:$A$65),"") | N54: =IF(IF($C54<>"",COUNTIF(BASES!$AI$25:$AI$65,$C54),"")<>0,IF($C54<>"",COUNTIF(BASES!$AI$25:$AI$65,$C54),""),"") | O54: =IFERROR(N54/MAX(BASES!$A$24:$A$65),"") | P54: =IF(IF($C54<>"",COUNTIF(BASES!$AK$25:$AK$65,$C54),"")<>0,IF($C54<>"",COUNTIF(BASES!$AK$25:$AK$65,$C54),""),"") | Q54: =IFERROR(P54/MAX(BASES!$A$24:$A$65),"")
C55: =IF(BASES!B18<>"",BASES!B18,"") -> area 4 | D55: =IF(IF($C55<>"",COUNTIF(BASES!$Y$25:$Y$65,$C55),"")<>0,IF($C55<>"",COUNTIF(BASES!$Y$25:$Y$65,$C55),""),"") -> 1 | E55: =IFERROR(D55/MAX(BASES!$A$24:$A$65),"") -> 0.125 | F55: =IF(IF($C55<>"",COUNTIF(BASES!$AA$25:$AA$65,$C55),"")<>0,IF($C55<>"",COUNTIF(BASES!$AA$25:$AA$65,$C55),""),"") | G55: =IFERROR(F55/MAX(BASES!$A$24:$A$65),"") | H55: =IF(IF($C55<>"",COUNTIF(BASES!$AC$25:$AC$65,$C55),"")<>0,IF($C55<>"",COUNTIF(BASES!$AC$25:$AC$65,$C55),""),"") | I55: =IFERROR(H55/MAX(BASES!$A$24:$A$65),"") | J55: =IF(IF($C55<>"",COUNTIF(BASES!$AE$25:$AE$65,$C55),"")<>0,IF($C55<>"",COUNTIF(BASES!$AE$25:$AE$65,$C55),""),"") | K55: =IFERROR(J55/MAX(BASES!$A$24:$A$65),"") | L55: =IF(IF($C55<>"",COUNTIF(BASES!$AG$25:$AG$65,$C55),"")<>0,IF($C55<>"",COUNTIF(BASES!$AG$25:$AG$65,$C55),""),"") | M55: =IFERROR(L55/MAX(BASES!$A$24:$A$65),"") | N55: =IF(IF($C55<>"",COUNTIF(BASES!$AI$25:$AI$65,$C55),"")<>0,IF($C55<>"",COUNTIF(BASES!$AI$25:$AI$65,$C55),""),"") | O55: =IFERROR(N55/MAX(BASES!$A$24:$A$65),"") | P55: =IF(IF($C55<>"",COUNTIF(BASES!$AK$25:$AK$65,$C55),"")<>0,IF($C55<>"",COUNTIF(BASES!$AK$25:$AK$65,$C55),""),"") | Q55: =IFERROR(P55/MAX(BASES!$A$24:$A$65),"")
C56: =IF(BASES!B19<>"",BASES!B19,"") -> area 5 | D56: =IF(IF($C56<>"",COUNTIF(BASES!$Y$25:$Y$65,$C56),"")<>0,IF($C56<>"",COUNTIF(BASES!$Y$25:$Y$65,$C56),""),"") | E56: =IFERROR(D56/MAX(BASES!$A$24:$A$65),"") | F56: =IF(IF($C56<>"",COUNTIF(BASES!$AA$25:$AA$65,$C56),"")<>0,IF($C56<>"",COUNTIF(BASES!$AA$25:$AA$65,$C56),""),"") | G56: =IFERROR(F56/MAX(BASES!$A$24:$A$65),"") | H56: =IF(IF($C56<>"",COUNTIF(BASES!$AC$25:$AC$65,$C56),"")<>0,IF($C56<>"",COUNTIF(BASES!$AC$25:$AC$65,$C56),""),"") | I56: =IFERROR(H56/MAX(BASES!$A$24:$A$65),"") | J56: =IF(IF($C56<>"",COUNTIF(BASES!$AE$25:$AE$65,$C56),"")<>0,IF($C56<>"",COUNTIF(BASES!$AE$25:$AE$65,$C56),""),"") | K56: =IFERROR(J56/MAX(BASES!$A$24:$A$65),"") | L56: =IF(IF($C56<>"",COUNTIF(BASES!$AG$25:$AG$65,$C56),"")<>0,IF($C56<>"",COUNTIF(BASES!$AG$25:$AG$65,$C56),""),"") | M56: =IFERROR(L56/MAX(BASES!$A$24:$A$65),"") | N56: =IF(IF($C56<>"",COUNTIF(BASES!$AI$25:$AI$65,$C56),"")<>0,IF($C56<>"",COUNTIF(BASES!$AI$25:$AI$65,$C56),""),"") | O56: =IFERROR(N56/MAX(BASES!$A$24:$A$65),"") | P56: =IF(IF($C56<>"",COUNTIF(BASES!$AK$25:$AK$65,$C56),"")<>0,IF($C56<>"",COUNTIF(BASES!$AK$25:$AK$65,$C56),""),"") | Q56: =IFERROR(P56/MAX(BASES!$A$24:$A$65),"")
...

Sheet BASES
A5: Define los objetivos estratégicos | D5: Indica fechas límites | G5: Status
A6: 1 | B6: Obj Estrategico 0 | D6: 1 | E6: 1 | G6: Activo
A7: =IF(B7<>"",A6+1,"") -> 2 | B7: Obj Estrategico 1 | D7: 2 | E7: 2 | G7: Parado
A8: =IF(B8<>"",A7+1,"") -> 3 | B8: Obj Estrategico 2 | D8: 3 | E8: 3 | G8: Alcanzado
A9: =IF(B9<>"",A8+1,"") -> 4 | B9: Obj Estrategico 3 | D9: 4 | E9: 4
A10: =IF(B10<>"",A9+1,"") -> 5 | B10: Obj Estrategico 4 | D10: 5 | E10: 6
A11: =IF(B11<>"",A10+1,"") -> 6 | B11: Obj Estrategico 5 | D11: 6 | E11: 9
A12: =IF(B12<>"",A11+1,"") | D12: 7 | E12: 12
A14: Define áreas de responsabilidad | D14: Indica dedicación necesaria
A15: 1 | B15: area 1 | D15: 1 | E15: 1
A16: =IF(B16<>"",A15+1,"") -> 2 | B16: area 2 | D16: 2 | E16: 3
A17: =IF(B17<>"",A16+1,"") -> 3 | B17: area 3 | D17: 3 | E17: 5
A18: =IF(B18<>"",A17+1,"") -> 4 | B18: area 4 | D18: 4 | E18: 8
A19: =IF(B19<>"",A18+1,"") -> 5 | B19: area 5 | D19: 5 | E19: 10
A20: =IF(B20<>"",A19+1,"") | D20: 6 | E20: 15
A21: =IF(B21<>"",A20+1,"") | D21: 7 | E21: 20
A23: Responsables | C23: Área de trabajo | V23: PRT | W23: EST | X23: PRT TA1 | Y23: TA1 | Z23: PRT TA2 | AA23: TA2 | AB23: PRT TA3 | AC23: TA3 | AD23: PRT TA4 | AE23: TA4 | AF23: PRT TA5 | AG23: TA5 | AH23: PRT TA6 | AI23: TA6 | AJ23: PRT TA7 | AK23: TA7
V24: =COUNT(V25:V65) -> 6 | X24: =COUNT(X25:X65) -> 5 | Z24: =COUNT(Z25:Z65) -> 0 | AB24: =COUNT(AB25:AB65) -> 0 | AD24: =COUNT(AD25:AD65) -> 0 | AF24: =COUNT(AF25:AF65) -> 0 | AH24: =COUNT(AH25:AH65) -> 0 | AJ24: =COUNT(AJ25:AJ65) -> 0
A25: =IF(B25<>"",A24+1,"") -> 1 | B25: responsable 1 | C25: area 1 | V25: =IF(COUNTIF('TABLA DE OBJETIVOS'!$E$6:$E$250,B25)=0,"",COUNTIF('TABLA DE OBJETIVOS'!$E$6:$E$250,B25)) -> 1 | W25: =IF(V25<>"",C25,"") -> area 1 | X25: =IF(COUNTIF('TA1'!$E$6:$E$250,$B25)=0,"",COUNTIF('TA1'!$E$6:$E$250,$B25)) -> 1 | Y25: =IF(X25<>"",$C25,"") -> area 1 | Z25: =IF(COUNTIF('TA2'!$E$6:$E$250,$B25)=0,"",COUNTIF('TA2'!$E$6:$E$250,$B25)) | AA25: =IF(Z25<>"",$C25,"") | AB25: =IF(COUNTIF('TA3'!$E$6:$E$250,$B25)=0,"",COUNTIF('TA3'!$E$6:$E$250,$B25)) | AC25: =IF(AB25<>"",$C25,"") | AD25: =IF(COUNTIF('TA4'!$E$6:$E$250,$B25)=0,"",COUNTIF('TA4'!$E$6:$E$250,$B25)) | AE25: =IF(AD25<>"",$C25,"") | AF25: =IF(COUNTIF('TA5'!$E$6:$E$250,$B25)=0,"",COUNTIF('TA5'!$E$6:$E$250,$B25)) | AG25: =IF(AF25<>"",$C25,"") | AH25: =IF(COUNTIF('TA6'!$E$6:$E$250,$B25)=0,"",COUNTIF('TA6'!$E$6:$E$250,$B25)) | AI25: =IF(AH25<>"",$C25,"") | AJ25: =IF(COUNTIF('TA7'!$E$6:$E$250,$B25)=0,"",COUNTIF('TA7'!$E$6:$E$250,$B25)) | AK25: =IF(AJ25<>"",$C25,"")
A26: =IF(B26<>"",A25+1,"") -> 2 | B26: responsable 2 | C26: area 2 | V26: =IF(COUNTIF('TABLA DE OBJETIVOS'!$E$6:$E$250,B26)=0,"",COUNTIF('TABLA DE OBJETIVOS'!$E$6:$E$250,B26)) -> 2 | W26: =IF(V26<>"",C26,"") -> area 2 | X26: =IF(COUNTIF('TA1'!$E$6:$E$250,$B26)=0,"",COUNTIF('TA1'!$E$6:$E$250,$B26)) -> 1 | Y26: =IF(X26<>"",$C26,"") -> area 2 | Z26: =IF(COUNTIF('TA2'!$E$6:$E$250,$B26)=0,"",COUNTIF('TA2'!$E$6:$E$250,$B26)) | AA26: =IF(Z26<>"",$C26,"") | AB26: =IF(COUNTIF('TA3'!$E$6:$E$250,$B26)=0,"",COUNTIF('TA3'!$E$6:$E$250,$B26)) | AC26: =IF(AB26<>"",$C26,"") | AD26: =IF(COUNTIF('TA4'!$E$6:$E$250,$B26)=0,"",COUNTIF('TA4'!$E$6:$E$250,$B26)) | AE26: =IF(AD26<>"",$C26,"") | AF26: =IF(COUNTIF('TA5'!$E$6:$E$250,$B26)=0,"",COUNTIF('TA5'!$E$6:$E$250,$B26)) | AG26: =IF(AF26<>"",$C26,"") | AH26: =IF(COUNTIF('TA6'!$E$6:$E$250,$B26)=0,"",COUNTIF('TA6'!$E$6:$E$250,$B26)) | AI26: =IF(AH26<>"",$C26,"") | AJ26: =IF(COUNTIF('TA7'!$E$6:$E$250,$B26)=0,"",COUNTIF('TA7'!$E$6:$E$250,$B26)) | AK26: =IF(AJ26<>"",$C26,"")
A27: =IF(B27<>"",A26+1,"") -> 3 | B27: responsable 3 | C27: area 3 | V27: =IF(COUNTIF('TABLA DE OBJETIVOS'!$E$6:$E$250,B27)=0,"",COUNTIF('TABLA DE OBJETIVOS'!$E$6:$E$250,B27)) -> 2 | W27: =IF(V27<>"",C27,"") -> area 3 | X27: =IF(COUNTIF('TA1'!$E$6:$E$250,$B27)=0,"",COUNTIF('TA1'!$E$6:$E$250,$B27)) -> 1 | Y27: =IF(X27<>"",$C27,"") -> area 3 | Z27: =IF(COUNTIF('TA2'!$E$6:$E$250,$B27)=0,"",COUNTIF('TA2'!$E$6:$E$250,$B27)) | AA27: =IF(Z27<>"",$C27,"") | AB27: =IF(COUNTIF('TA3'!$E$6:$E$250,$B27)=0,"",COUNTIF('TA3'!$E$6:$E$250,$B27)) | AC27: =IF(AB27<>"",$C27,"") | AD27: =IF(COUNTIF('TA4'!$E$6:$E$250,$B27)=0,"",COUNTIF('TA4'!$E$6:$E$250,$B27)) | AE27: =IF(AD27<>"",$C27,"") | AF27: =IF(COUNTIF('TA5'!$E$6:$E$250,$B27)=0,"",COUNTIF('TA5'!$E$6:$E$250,$B27)) | AG27: =IF(AF27<>"",$C27,"") | AH27: =IF(COUNTIF('TA6'!$E$6:$E$250,$B27)=0,"",COUNTIF('TA6'!$E$6:$E$250,$B27)) | AI27: =IF(AH27<>"",$C27,"") | AJ27: =IF(COUNTIF('TA7'!$E$6:$E$250,$B27)=0,"",COUNTIF('TA7'!$E$6:$E$250,$B27)) | AK27: =IF(AJ27<>"",$C27,"")
A28: =IF(B28<>"",A27+1,"") -> 4 | B28: responsable 4 | C28: area 4 | V28: =IF(COUNTIF('TABLA DE OBJETIVOS'!$E$6:$E$250,B28)=0,"",COUNTIF('TABLA DE OBJETIVOS'!$E$6:$E$250,B28)) -> 1 | W28: =IF(V28<>"",C28,"") -> area 4 | X28: =IF(COUNTIF('TA1'!$E$6:$E$250,$B28)=0,"",COUNTIF('TA1'!$E$6:$E$250,$B28)) -> 1 | Y28: =IF(X28<>"",$C28,"") -> area 4 | Z28: =IF(COUNTIF('TA2'!$E$6:$E$250,$B28)=0,"",COUNTIF('TA2'!$E$6:$E$250,$B28)) | AA28: =IF(Z28<>"",$C28,"") | AB28: =IF(COUNTIF('TA3'!$E$6:$E$250,$B28)=0,"",COUNTIF('TA3'!$E$6:$E$250,$B28)) | AC28: =IF(AB28<>"",$C28,"") | AD28: =IF(COUNTIF('TA4'!$E$6:$E$250,$B28)=0,"",COUNTIF('TA4'!$E$6:$E$250,$B28)) | AE28: =IF(AD28<>"",$C28,"") | AF28: =IF(COUNTIF('TA5'!$E$6:$E$250,$B28)=0,"",COUNTIF('TA5'!$E$6:$E$250,$B28)) | AG28: =IF(AF28<>"",$C28,"") | AH28: =IF(COUNTIF('TA6'!$E$6:$E$250,$B28)=0,"",COUNTIF('TA6'!$E$6:$E$250,$B28)) | AI28: =IF(AH28<>"",$C28,"") | AJ28: =IF(COUNTIF('TA7'!$E$6:$E$250,$B28)=0,"",COUNTIF('TA7'!$E$6:$E$250,$B28)) | AK28: =IF(AJ28<>"",$C28,"")
A29: =IF(B29<>"",A28+1,"") -> 5 | B29: responsable 5 | C29: area 1 | V29: =IF(COUNTIF('TABLA DE OBJETIVOS'!$E$6:$E$250,B29)=0,"",COUNTIF('TABLA DE OBJETIVOS'!$E$6:$E$250,B29)) -> 1 | W29: =IF(V29<>"",C29,"") -> area 1 | X29: =IF(COUNTIF('TA1'!$E$6:$E$250,$B29)=0,"",COUNTIF('TA1'!$E$6:$E$250,$B29)) -> 1 | Y29: =IF(X29<>"",$C29,"") -> area 1 | Z29: =IF(COUNTIF('TA2'!$E$6:$E$250,$B29)=0,"",COUNTIF('TA2'!$E$6:$E$250,$B29)) | AA29: =IF(Z29<>"",$C29,"") | AB29: =IF(COUNTIF('TA3'!$E$6:$E$250,$B29)=0,"",COUNTIF('TA3'!$E$6:$E$250,$B29)) | AC29: =IF(AB29<>"",$C29,"") | AD29: =IF(COUNTIF('TA4'!$E$6:$E$250,$B29)=0,"",COUNTIF('TA4'!$E$6:$E$250,$B29)) | AE29: =IF(AD29<>"",$C29,"") | AF29: =IF(COUNTIF('TA5'!$E$6:$E$250,$B29)=0,"",COUNTIF('TA5'!$E$6:$E$250,$B29)) | AG29: =IF(AF29<>"",$C29,"") | AH29: =IF(COUNTIF('TA6'!$E$6:$E$250,$B29)=0,"",COUNTIF('TA6'!$E$6:$E$250,$B29)) | AI29: =IF(AH29<>"",$C29,"") | AJ29: =IF(COUNTIF('TA7'!$E$6:$E$250,$B29)=0,"",COUNTIF('TA7'!$E$6:$E$250,$B29)) | AK29: =IF(AJ29<>"",$C29,"")
A30: =IF(B30<>"",A29+1,"") -> 6 | B30: responsable 6 | C30: area 2 | V30: =IF(COUNTIF('TABLA DE OBJETIVOS'!$E$6:$E$250,B30)=0,"",COUNTIF('TABLA DE OBJETIVOS'!$E$6:$E$250,B30)) -> 1 | W30: =IF(V30<>"",C30,"") -> area 2 | X30: =IF(COUNTIF('TA1'!$E$6:$E$250,$B30)=0,"",COUNTIF('TA1'!$E$6:$E$250,$B30)) | Y30: =IF(X30<>"",$C30,"") | Z30: =IF(COUNTIF('TA2'!$E$6:$E$250,$B30)=0,"",COUNTIF('TA2'!$E$6:$E$250,$B30)) | AA30: =IF(Z30<>"",$C30,"") | AB30: =IF(COUNTIF('TA3'!$E$6:$E$250,$B30)=0,"",COUNTIF('TA3'!$E$6:$E$250,$B30)) | AC30: =IF(AB30<>"",$C30,"") | AD30: =IF(COUNTIF('TA4'!$E$6:$E$250,$B30)=0,"",COUNTIF('TA4'!$E$6:$E$250,$B30)) | AE30: =IF(AD30<>"",$C30,"") | AF30: =IF(COUNTIF('TA5'!$E$6:$E$250,$B30)=0,"",COUNTIF('TA5'!$E$6:$E$250,$B30)) | AG30: =IF(AF30<>"",$C30,"") | AH30: =IF(COUNTIF('TA6'!$E$6:$E$250,$B30)=0,"",COUNTIF('TA6'!$E$6:$E$250,$B30)) | AI30: =IF(AH30<>"",$C30,"") | AJ30: =IF(COUNTIF('TA7'!$E$6:$E$250,$B30)=0,"",COUNTIF('TA7'!$E$6:$E$250,$B30)) | AK30: =IF(AJ30<>"",$C30,"")
A31: =IF(B31<>"",A30+1,"") -> 7 | B31: responsable 7 | C31: area 2 | V31: =IF(COUNTIF('TABLA DE OBJETIVOS'!$E$6:$E$250,B31)=0,"",COUNTIF('TABLA DE OBJETIVOS'!$E$6:$E$250,B31)) | W31: =IF(V31<>"",C31,"") | X31: =IF(COUNTIF('TA1'!$E$6:$E$250,$B31)=0,"",COUNTIF('TA1'!$E$6:$E$250,$B31)) | Y31: =IF(X31<>"",$C31,"") | Z31: =IF(COUNTIF('TA2'!$E$6:$E$250,$B31)=0,"",COUNTIF('TA2'!$E$6:$E$250,$B31)) | AA31: =IF(Z31<>"",$C31,"") | AB31: =IF(COUNTIF('TA3'!$E$6:$E$250,$B31)=0,"",COUNTIF('TA3'!$E$6:$E$250,$B31)) | AC31: =IF(AB31<>"",$C31,"") | AD31: =IF(COUNTIF('TA4'!$E$6:$E$250,$B31)=0,"",COUNTIF('TA4'!$E$6:$E$250,$B31)) | AE31: =IF(AD31<>"",$C31,"") | AF31: =IF(COUNTIF('TA5'!$E$6:$E$250,$B31)=0,"",COUNTIF('TA5'!$E$6:$E$250,$B31)) | AG31: =IF(AF31<>"",$C31,"") | AH31: =IF(COUNTIF('TA6'!$E$6:$E$250,$B31)=0,"",COUNTIF('TA6'!$E$6:$E$250,$B31)) | AI31: =IF(AH31<>"",$C31,"") | AJ31: =IF(COUNTIF('TA7'!$E$6:$E$250,$B31)=0,"",COUNTIF('TA7'!$E$6:$E$250,$B31)) | AK31: =IF(AJ31<>"",$C31,"")
A32: =IF(B32<>"",A31+1,"") -> 8 | B32: responsable 8 | C32: area 4 | V32: =IF(COUNTIF('TABLA DE OBJETIVOS'!$E$6:$E$250,B32)=0,"",COUNTIF('TABLA DE OBJETIVOS'!$E$6:$E$250,B32)) | W32: =IF(V32<>"",C32,"") | X32: =IF(COUNTIF('TA1'!$E$6:$E$250,$B32)=0,"",COUNTIF('TA1'!$E$6:$E$250,$B32)) | Y32: =IF(X32<>"",$C32,"") | Z32: =IF(COUNTIF('TA2'!$E$6:$E$250,$B32)=0,"",COUNTIF('TA2'!$E$6:$E$250,$B32)) | AA32: =IF(Z32<>"",$C32,"") | AB32: =IF(COUNTIF('TA3'!$E$6:$E$250,$B32)=0,"",COUNTIF('TA3'!$E$6:$E$250,$B32)) | AC32: =IF(AB32<>"",$C32,"") | AD32: =IF(COUNTIF('TA4'!$E$6:$E$250,$B32)=0,"",COUNTIF('TA4'!$E$6:$E$250,$B32)) | AE32: =IF(AD32<>"",$C32,"") | AF32: =IF(COUNTIF('TA5'!$E$6:$E$250,$B32)=0,"",COUNTIF('TA5'!$E$6:$E$250,$B32)) | AG32: =IF(AF32<>"",$C32,"") | AH32: =IF(COUNTIF('TA6'!$E$6:$E$250,$B32)=0,"",COUNTIF('TA6'!$E$6:$E$250,$B32)) | AI32: =IF(AH32<>"",$C32,"") | AJ32: =IF(COUNTIF('TA7'!$E$6:$E$250,$B32)=0,"",COUNTIF('TA7'!$E$6:$E$250,$B32)) | AK32: =IF(AJ32<>"",$C32,"")
A33: =IF(B33<>"",A32+1,"") | V33: =IF(COUNTIF('TABLA DE OBJETIVOS'!$E$6:$E$250,B33)=0,"",COUNTIF('TABLA DE OBJETIVOS'!$E$6:$E$250,B33)) | W33: =IF(V33<>"",C33,"") | X33: =IF(COUNTIF('TA1'!$E$6:$E$250,$B33)=0,"",COUNTIF('TA1'!$E$6:$E$250,$B33)) | Y33: =IF(X33<>"",$C33,"") | Z33: =IF(COUNTIF('TA2'!$E$6:$E$250,$B33)=0,"",COUNTIF('TA2'!$E$6:$E$250,$B33)) | AA33: =IF(Z33<>"",$C33,"") | AB33: =IF(COUNTIF('TA3'!$E$6:$E$250,$B33)=0,"",COUNTIF('TA3'!$E$6:$E$250,$B33)) | AC33: =IF(AB33<>"",$C33,"") | AD33: =IF(COUNTIF('TA4'!$E$6:$E$250,$B33)=0,"",COUNTIF('TA4'!$E$6:$E$250,$B33)) | AE33: =IF(AD33<>"",$C33,"") | AF33: =IF(COUNTIF('TA5'!$E$6:$E$250,$B33)=0,"",COUNTIF('TA5'!$E$6:$E$250,$B33)) | AG33: =IF(AF33<>"",$C33,"") | AH33: =IF(COUNTIF('TA6'!$E$6:$E$250,$B33)=0,"",COUNTIF('TA6'!$E$6:$E$250,$B33)) | AI33: =IF(AH33<>"",$C33,"") | AJ33: =IF(COUNTIF('TA7'!$E$6:$E$250,$B33)=0,"",COUNTIF('TA7'!$E$6:$E$250,$B33)) | AK33: =IF(AJ33<>"",$C33,"")
A34: =IF(B34<>"",A33+1,"") | V34: =IF(COUNTIF('TABLA DE OBJETIVOS'!$E$6:$E$250,B34)=0,"",COUNTIF('TABLA DE OBJETIVOS'!$E$6:$E$250,B34)) | W34: =IF(V34<>"",C34,"") | X34: =IF(COUNTIF('TA1'!$E$6:$E$250,$B34)=0,"",COUNTIF('TA1'!$E$6:$E$250,$B34)) | Y34: =IF(X34<>"",$C34,"") | Z34: =IF(COUNTIF('TA2'!$E$6:$E$250,$B34)=0,"",COUNTIF('TA2'!$E$6:$E$250,$B34)) | AA34: =IF(Z34<>"",$C34,"") | AB34: =IF(COUNTIF('TA3'!$E$6:$E$250,$B34)=0,"",COUNTIF('TA3'!$E$6:$E$250,$B34)) | AC34: =IF(AB34<>"",$C34,"") | AD34: =IF(COUNTIF('TA4'!$E$6:$E$250,$B34)=0,"",COUNTIF('TA4'!$E$6:$E$250,$B34)) | AE34: =IF(AD34<>"",$C34,"") | AF34: =IF(COUNTIF('TA5'!$E$6:$E$250,$B34)=0,"",COUNTIF('TA5'!$E$6:$E$250,$B34)) | AG34: =IF(AF34<>"",$C34,"") | AH34: =IF(COUNTIF('TA6'!$E$6:$E$250,$B34)=0,"",COUNTIF('TA6'!$E$6:$E$250,$B34)) | AI34: =IF(AH34<>"",$C34,"") | AJ34: =IF(COUNTIF('TA7'!$E$6:$E$250,$B34)=0,"",COUNTIF('TA7'!$E$6:$E$250,$B34)) | AK34: =IF(AJ34<>"",$C34,"")
A35: =IF(B35<>"",A34+1,"") | V35: =IF(COUNTIF('TABLA DE OBJETIVOS'!$E$6:$E$250,B35)=0,"",COUNTIF('TABLA DE OBJETIVOS'!$E$6:$E$250,B35)) | W35: =IF(V35<>"",C35,"") | X35: =IF(COUNTIF('TA1'!$E$6:$E$250,$B35)=0,"",COUNTIF('TA1'!$E$6:$E$250,$B35)) | Y35: =IF(X35<>"",$C35,"") | Z35: =IF(COUNTIF('TA2'!$E$6:$E$250,$B35)=0,"",COUNTIF('TA2'!$E$6:$E$250,$B35)) | AA35: =IF(Z35<>"",$C35,"") | AB35: =IF(COUNTIF('TA3'!$E$6:$E$250,$B35)=0,"",COUNTIF('TA3'!$E$6:$E$250,$B35)) | AC35: =IF(AB35<>"",$C35,"") | AD35: =IF(COUNTIF('TA4'!$E$6:$E$250,$B35)=0,"",COUNTIF('TA4'!$E$6:$E$250,$B35)) | AE35: =IF(AD35<>"",$C35,"") | AF35: =IF(COUNTIF('TA5'!$E$6:$E$250,$B35)=0,"",COUNTIF('TA5'!$E$6:$E$250,$B35)) | AG35: =IF(AF35<>"",$C35,"") | AH35: =IF(COUNTIF('TA6'!$E$6:$E$250,$B35)=0,"",COUNTIF('TA6'!$E$6:$E$250,$B35)) | AI35: =IF(AH35<>"",$C35,"") | AJ35: =IF(COUNTIF('TA7'!$E$6:$E$250,$B35)=0,"",COUNTIF('TA7'!$E$6:$E$250,$B35)) | AK35: =IF(AJ35<>"",$C35,"")
A36: =IF(B36<>"",A35+1,"") | V36: =IF(COUNTIF('TABLA DE OBJETIVOS'!$E$6:$E$250,B36)=0,"",COUNTIF('TABLA DE OBJETIVOS'!$E$6:$E$250,B36)) | W36: =IF(V36<>"",C36,"") | X36: =IF(COUNTIF('TA1'!$E$6:$E$250,$B36)=0,"",COUNTIF('TA1'!$E$6:$E$250,$B36)) | Y36: =IF(X36<>"",$C36,"") | Z36: =IF(COUNTIF('TA2'!$E$6:$E$250,$B36)=0,"",COUNTIF('TA2'!$E$6:$E$250,$B36)) | AA36: =IF(Z36<>"",$C36,"") | AB36: =IF(COUNTIF('TA3'!$E$6:$E$250,$B36)=0,"",COUNTIF('TA3'!$E$6:$E$250,$B36)) | AC36: =IF(AB36<>"",$C36,"") | AD36: =IF(COUNTIF('TA4'!$E$6:$E$250,$B36)=0,"",COUNTIF('TA4'!$E$6:$E$250,$B36)) | AE36: =IF(AD36<>"",$C36,"") | AF36: =IF(COUNTIF('TA5'!$E$6:$E$250,$B36)=0,"",COUNTIF('TA5'!$E$6:$E$250,$B36)) | AG36: =IF(AF36<>"",$C36,"") | AH36: =IF(COUNTIF('TA6'!$E$6:$E$250,$B36)=0,"",COUNTIF('TA6'!$E$6:$E$250,$B36)) | AI36: =IF(AH36<>"",$C36,"") | AJ36: =IF(COUNTIF('TA7'!$E$6:$E$250,$B36)=0,"",COUNTIF('TA7'!$E$6:$E$250,$B36)) | AK36: =IF(AJ36<>"",$C36,"")
A37: =IF(B37<>"",A36+1,"") | V37: =IF(COUNTIF('TABLA DE OBJETIVOS'!$E$6:$E$250,B37)=0,"",COUNTIF('TABLA DE OBJETIVOS'!$E$6:$E$250,B37)) | W37: =IF(V37<>"",C37,"") | X37: =IF(COUNTIF('TA1'!$E$6:$E$250,$B37)=0,"",COUNTIF('TA1'!$E$6:$E$250,$B37)) | Y37: =IF(X37<>"",$C37,"") | Z37: =IF(COUNTIF('TA2'!$E$6:$E$250,$B37)=0,"",COUNTIF('TA2'!$E$6:$E$250,$B37)) | AA37: =IF(Z37<>"",$C37,"") | AB37: =IF(COUNTIF('TA3'!$E$6:$E$250,$B37)=0,"",COUNTIF('TA3'!$E$6:$E$250,$B37)) | AC37: =IF(AB37<>"",$C37,"") | AD37: =IF(COUNTIF('TA4'!$E$6:$E$250,$B37)=0,"",COUNTIF('TA4'!$E$6:$E$250,$B37)) | AE37: =IF(AD37<>"",$C37,"") | AF37: =IF(COUNTIF('TA5'!$E$6:$E$250,$B37)=0,"",COUNTIF('TA5'!$E$6:$E$250,$B37)) | AG37: =IF(AF37<>"",$C37,"") | AH37: =IF(COUNTIF('TA6'!$E$6:$E$250,$B37)=0,"",COUNTIF('TA6'!$E$6:$E$250,$B37)) | AI37: =IF(AH37<>"",$C37,"") | AJ37: =IF(COUNTIF('TA7'!$E$6:$E$250,$B37)=0,"",COUNTIF('TA7'!$E$6:$E$250,$B37)) | AK37: =IF(AJ37<>"",$C37,"")
A38: =IF(B38<>"",A37+1,"") | V38: =IF(COUNTIF('TABLA DE OBJETIVOS'!$E$6:$E$250,B38)=0,"",COUNTIF('TABLA DE OBJETIVOS'!$E$6:$E$250,B38)) | W38: =IF(V38<>"",C38,"") | X38: =IF(COUNTIF('TA1'!$E$6:$E$250,$B38)=0,"",COUNTIF('TA1'!$E$6:$E$250,$B38)) | Y38: =IF(X38<>"",$C38,"") | Z38: =IF(COUNTIF('TA2'!$E$6:$E$250,$B38)=0,"",COUNTIF('TA2'!$E$6:$E$250,$B38)) | AA38: =IF(Z38<>"",$C38,"") | AB38: =IF(COUNTIF('TA3'!$E$6:$E$250,$B38)=0,"",COUNTIF('TA3'!$E$6:$E$250,$B38)) | AC38: =IF(AB38<>"",$C38,"") | AD38: =IF(COUNTIF('TA4'!$E$6:$E$250,$B38)=0,"",COUNTIF('TA4'!$E$6:$E$250,$B38)) | AE38: =IF(AD38<>"",$C38,"") | AF38: =IF(COUNTIF('TA5'!$E$6:$E$250,$B38)=0,"",COUNTIF('TA5'!$E$6:$E$250,$B38)) | AG38: =IF(AF38<>"",$C38,"") | AH38: =IF(COUNTIF('TA6'!$E$6:$E$250,$B38)=0,"",COUNTIF('TA6'!$E$6:$E$250,$B38)) | AI38: =IF(AH38<>"",$C38,"") | AJ38: =IF(COUNTIF('TA7'!$E$6:$E$250,$B38)=0,"",COUNTIF('TA7'!$E$6:$E$250,$B38)) | AK38: =IF(AJ38<>"",$C38,"")
A39: =IF(B39<>"",A38+1,"") | V39: =IF(COUNTIF('TABLA DE OBJETIVOS'!$E$6:$E$250,B39)=0,"",COUNTIF('TABLA DE OBJETIVOS'!$E$6:$E$250,B39)) | W39: =IF(V39<>"",C39,"") | X39: =IF(COUNTIF('TA1'!$E$6:$E$250,$B39)=0,"",COUNTIF('TA1'!$E$6:$E$250,$B39)) | Y39: =IF(X39<>"",$C39,"") | Z39: =IF(COUNTIF('TA2'!$E$6:$E$250,$B39)=0,"",COUNTIF('TA2'!$E$6:$E$250,$B39)) | AA39: =IF(Z39<>"",$C39,"") | AB39: =IF(COUNTIF('TA3'!$E$6:$E$250,$B39)=0,"",COUNTIF('TA3'!$E$6:$E$250,$B39)) | AC39: =IF(AB39<>"",$C39,"") | AD39: =IF(COUNTIF('TA4'!$E$6:$E$250,$B39)=0,"",COUNTIF('TA4'!$E$6:$E$250,$B39)) | AE39: =IF(AD39<>"",$C39,"") | AF39: =IF(COUNTIF('TA5'!$E$6:$E$250,$B39)=0,"",COUNTIF('TA5'!$E$6:$E$250,$B39)) | AG39: =IF(AF39<>"",$C39,"") | AH39: =IF(COUNTIF('TA6'!$E$6:$E$250,$B39)=0,"",COUNTIF('TA6'!$E$6:$E$250,$B39)) | AI39: =IF(AH39<>"",$C39,"") | AJ39: =IF(COUNTIF('TA7'!$E$6:$E$250,$B39)=0,"",COUNTIF('TA7'!$E$6:$E$250,$B39)) | AK39: =IF(AJ39<>"",$C39,"")
A40: =IF(B40<>"",A39+1,"") | V40: =IF(COUNTIF('TABLA DE OBJETIVOS'!$E$6:$E$250,B40)=0,"",COUNTIF('TABLA DE OBJETIVOS'!$E$6:$E$250,B40)) | W40: =IF(V40<>"",C40,"") | X40: =IF(COUNTIF('TA1'!$E$6:$E$250,$B40)=0,"",COUNTIF('TA1'!$E$6:$E$250,$B40)) | Y40: =IF(X40<>"",$C40,"") | Z40: =IF(COUNTIF('TA2'!$E$6:$E$250,$B40)=0,"",COUNTIF('TA2'!$E$6:$E$250,$B40)) | AA40: =IF(Z40<>"",$C40,"") | AB40: =IF(COUNTIF('TA3'!$E$6:$E$250,$B40)=0,"",COUNTIF('TA3'!$E$6:$E$250,$B40)) | AC40: =IF(AB40<>"",$C40,"") | AD40: =IF(COUNTIF('TA4'!$E$6:$E$250,$B40)=0,"",COUNTIF('TA4'!$E$6:$E$250,$B40)) | AE40: =IF(AD40<>"",$C40,"") | AF40: =IF(COUNTIF('TA5'!$E$6:$E$250,$B40)=0,"",COUNTIF('TA5'!$E$6:$E$250,$B40)) | AG40: =IF(AF40<>"",$C40,"") | AH40: =IF(COUNTIF('TA6'!$E$6:$E$250,$B40)=0,"",COUNTIF('TA6'!$E$6:$E$250,$B40)) | AI40: =IF(AH40<>"",$C40,"") | AJ40: =IF(COUNTIF('TA7'!$E$6:$E$250,$B40)=0,"",COUNTIF('TA7'!$E$6:$E$250,$B40)) | AK40: =IF(AJ40<>"",$C40,"")
A41: =IF(B41<>"",A40+1,"") | V41: =IF(COUNTIF('TABLA DE OBJETIVOS'!$E$6:$E$250,B41)=0,"",COUNTIF('TABLA DE OBJETIVOS'!$E$6:$E$250,B41)) | W41: =IF(V41<>"",C41,"") | X41: =IF(COUNTIF('TA1'!$E$6:$E$250,$B41)=0,"",COUNTIF('TA1'!$E$6:$E$250,$B41)) | Y41: =IF(X41<>"",$C41,"") | Z41: =IF(COUNTIF('TA2'!$E$6:$E$250,$B41)=0,"",COUNTIF('TA2'!$E$6:$E$250,$B41)) | AA41: =IF(Z41<>"",$C41,"") | AB41: =IF(COUNTIF('TA3'!$E$6:$E$250,$B41)=0,"",COUNTIF('TA3'!$E$6:$E$250,$B41)) | AC41: =IF(AB41<>"",$C41,"") | AD41: =IF(COUNTIF('TA4'!$E$6:$E$250,$B41)=0,"",COUNTIF('TA4'!$E$6:$E$250,$B41)) | AE41: =IF(AD41<>"",$C41,"") | AF41: =IF(COUNTIF('TA5'!$E$6:$E$250,$B41)=0,"",COUNTIF('TA5'!$E$6:$E$250,$B41)) | AG41: =IF(AF41<>"",$C41,"") | AH41: =IF(COUNTIF('TA6'!$E$6:$E$250,$B41)=0,"",COUNTIF('TA6'!$E$6:$E$250,$B41)) | AI41: =IF(AH41<>"",$C41,"") | AJ41: =IF(COUNTIF('TA7'!$E$6:$E$250,$B41)=0,"",COUNTIF('TA7'!$E$6:$E$250,$B41)) | AK41: =IF(AJ41<>"",$C41,"")
A42: =IF(B42<>"",A41+1,"") | V42: =IF(COUNTIF('TABLA DE OBJETIVOS'!$E$6:$E$250,B42)=0,"",COUNTIF('TABLA DE OBJETIVOS'!$E$6:$E$250,B42)) | W42: =IF(V42<>"",C42,"") | X42: =IF(COUNTIF('TA1'!$E$6:$E$250,$B42)=0,"",COUNTIF('TA1'!$E$6:$E$250,$B42)) | Y42: =IF(X42<>"",$C42,"") | Z42: =IF(COUNTIF('TA2'!$E$6:$E$250,$B42)=0,"",COUNTIF('TA2'!$E$6:$E$250,$B42)) | AA42: =IF(Z42<>"",$C42,"") | AB42: =IF(COUNTIF('TA3'!$E$6:$E$250,$B42)=0,"",COUNTIF('TA3'!$E$6:$E$250,$B42)) | AC42: =IF(AB42<>"",$C42,"") | AD42: =IF(COUNTIF('TA4'!$E$6:$E$250,$B42)=0,"",COUNTIF('TA4'!$E$6:$E$250,$B42)) | AE42: =IF(AD42<>"",$C42,"") | AF42: =IF(COUNTIF('TA5'!$E$6:$E$250,$B42)=0,"",COUNTIF('TA5'!$E$6:$E$250,$B42)) | AG42: =IF(AF42<>"",$C42,"") | AH42: =IF(COUNTIF('TA6'!$E$6:$E$250,$B42)=0,"",COUNTIF('TA6'!$E$6:$E$250,$B42)) | AI42: =IF(AH42<>"",$C42,"") | AJ42: =IF(COUNTIF('TA7'!$E$6:$E$250,$B42)=0,"",COUNTIF('TA7'!$E$6:$E$250,$B42)) | AK42: =IF(AJ42<>"",$C42,"")
A43: =IF(B43<>"",A42+1,"") | V43: =IF(COUNTIF('TABLA DE OBJETIVOS'!$E$6:$E$250,B43)=0,"",COUNTIF('TABLA DE OBJETIVOS'!$E$6:$E$250,B43)) | W43: =IF(V43<>"",C43,"") | X43: =IF(COUNTIF('TA1'!$E$6:$E$250,$B43)=0,"",COUNTIF('TA1'!$E$6:$E$250,$B43)) | Y43: =IF(X43<>"",$C43,"") | Z43: =IF(COUNTIF('TA2'!$E$6:$E$250,$B43)=0,"",COUNTIF('TA2'!$E$6:$E$250,$B43)) | AA43: =IF(Z43<>"",$C43,"") | AB43: =IF(COUNTIF('TA3'!$E$6:$E$250,$B43)=0,"",COUNTIF('TA3'!$E$6:$E$250,$B43)) | AC43: =IF(AB43<>"",$C43,"") | AD43: =IF(COUNTIF('TA4'!$E$6:$E$250,$B43)=0,"",COUNTIF('TA4'!$E$6:$E$250,$B43)) | AE43: =IF(AD43<>"",$C43,"") | AF43: =IF(COUNTIF('TA5'!$E$6:$E$250,$B43)=0,"",COUNTIF('TA5'!$E$6:$E$250,$B43)) | AG43: =IF(AF43<>"",$C43,"") | AH43: =IF(COUNTIF('TA6'!$E$6:$E$250,$B43)=0,"",COUNTIF('TA6'!$E$6:$E$250,$B43)) | AI43: =IF(AH43<>"",$C43,"") | AJ43: =IF(COUNTIF('TA7'!$E$6:$E$250,$B43)=0,"",COUNTIF('TA7'!$E$6:$E$250,$B43)) | AK43: =IF(AJ43<>"",$C43,"")
A44: =IF(B44<>"",A43+1,"") | V44: =IF(COUNTIF('TABLA DE OBJETIVOS'!$E$6:$E$250,B44)=0,"",COUNTIF('TABLA DE OBJETIVOS'!$E$6:$E$250,B44)) | W44: =IF(V44<>"",C44,"") | X44: =IF(COUNTIF('TA1'!$E$6:$E$250,$B44)=0,"",COUNTIF('TA1'!$E$6:$E$250,$B44)) | Y44: =IF(X44<>"",$C44,"") | Z44: =IF(COUNTIF('TA2'!$E$6:$E$250,$B44)=0,"",COUNTIF('TA2'!$E$6:$E$250,$B44)) | AA44: =IF(Z44<>"",$C44,"") | AB44: =IF(COUNTIF('TA3'!$E$6:$E$250,$B44)=0,"",COUNTIF('TA3'!$E$6:$E$250,$B44)) | AC44: =IF(AB44<>"",$C44,"") | AD44: =IF(COUNTIF('TA4'!$E$6:$E$250,$B44)=0,"",COUNTIF('TA4'!$E$6:$E$250,$B44)) | AE44: =IF(AD44<>"",$C44,"") | AF44: =IF(COUNTIF('TA5'!$E$6:$E$250,$B44)=0,"",COUNTIF('TA5'!$E$6:$E$250,$B44)) | AG44: =IF(AF44<>"",$C44,"") | AH44: =IF(COUNTIF('TA6'!$E$6:$E$250,$B44)=0,"",COUNTIF('TA6'!$E$6:$E$250,$B44)) | AI44: =IF(AH44<>"",$C44,"") | AJ44: =IF(COUNTIF('TA7'!$E$6:$E$250,$B44)=0,"",COUNTIF('TA7'!$E$6:$E$250,$B44)) | AK44: =IF(AJ44<>"",$C44,"")
... A65: =IF(B65<>"",A64+1,"") | V65: =IF(COUNTIF('TABLA DE OBJETIVOS'!$E$6:$E$250,B65)=0,"",COUNTIF('TABLA DE OBJETIVOS'!$E$6:$E$250,B65)) | W65: =IF(V65<>"",C65,"") | X65: =IF(COUNTIF('TA1'!$E$6:$E$250,$B65)=0,"",COUNTIF('TA1'!$E$6:$E$250,$B65)) | Y65: =IF(X65<>"",$C65,"") | Z65: =IF(COUNTIF('TA2'!$E$6:$E$250,$B65)=0,"",COUNTIF('TA2'!$E$6:$E$250,$B65)) | AA65: =IF(Z65<>"",$C65,"") | AB65: =IF(COUNTIF('TA3'!$E$6:$E$250,$B65)=0,"",COUNTIF('TA3'!$E$6:$E$250,$B65)) | AC65: =IF(AB65<>"",$C65,"") | AD65: =IF(COUNTIF('TA4'!$E$6:$E$250,$B65)=0,"",COUNTIF('TA4'!$E$6:$E$250,$B65)) | AE65: =IF(AD65<>"",$C65,"") | AF65: =IF(COUNTIF('TA5'!$E$6:$E$250,$B65)=0,"",COUNTIF('TA5'!$E$6:$E$250,$B65)) | AG65: =IF(AF65<>"",$C65,"") | AH65: =IF(COUNTIF('TA6'!$E$6:$E$250,$B65)=0,"",COUNTIF('TA6'!$E$6:$E$250,$B65)) | AI65: =IF(AH65<>"",$C65,"") | AJ65: =IF(COUNTIF('TA7'!$E$6:$E$250,$B65)=0,"",COUNTIF('TA7'!$E$6:$E$250,$B65)) | AK65: =IF(AJ65<>"",$C65,"")

Sheet ACCIONES
B5: Objetivo 1 | C5: =IF(BASES!B6<>"",BASES!B6,"") -> Obj Estrategico 0
B6: Objetivo 2 | C6: =IF(BASES!B7<>"",BASES!B7,"") -> Obj Estrategico 1
B7: Objetivo 3 | C7: =IF(BASES!B8<>"",BASES!B8,"") -> Obj Estrategico 2
B8: Objetivo 4 | C8: =IF(BASES!B9<>"",BASES!B9,"") -> Obj Estrategico 3
B9: Objetivo 5 | C9: =IF(BASES!B10<>"",BASES!B10,"") -> Obj Estrategico 4
B10: Objetivo 6 | C10: =IF(BASES!B11<>"",BASES!B11,"") -> Obj Estrategico 5
B11: Objetivo 7 | C11: =IF(BASES!B12<>"",BASES!B12,"")

Sheet ESTRATEGIAS
C4: =SUM(C7:C31) -> 1 | D4: =SUM(D7:D31) -> 0.17150101 | G4: =SUM(G7:G31) -> 1 | H4: =SUM(H7:H31) -> 0.22 | K4: =SUM(K7:K31) -> 1 | L4: =SUM(L7:L31) -> 0.54545455 | O4: =SUM(O7:O31) -> 1 | P4: =SUM(P7:P31) -> 0.54545455 | S4: =SUM(S7:S31) -> 1 | T4: =SUM(T7:T31) -> 0.26390293 | W4: =SUM(W7:W31) -> 1 | X4: =SUM(X7:X31) -> 0.39736402 | AA4: =SUM(AA7:AA31) -> 0 | AB4: =SUM(AB7:AB31) -> 0
A5: Objetivo 1 | B5: =IF(BASES!B6<>"",BASES!B6,"") -> Obj Estrategico 0 | C5: Peso sobre el objetivo (%) | D5: (%) | E5: Objetivo 2 | F5: =IF(BASES!B7<>"",BASES!B7,"") -> Obj Estrategico 1 | G5: Peso sobre el objetivo (%) | H5: (%) | I5: Objetivo 3 | J5: =IF(BASES!B8<>"",BASES!B8,"") -> Obj Estrategico 2 | K5: Peso sobre el objetivo (%) | L5: (%) | M5: Objetivo 4 | N5: =IF(BASES!B9<>"",BASES!B9,"") -> Obj Estrategico 3 | O5: Peso sobre el objetivo (%) | P5: (%) | Q5: Objetivo 5 | R5: =IF(BASES!B10<>"",BASES!B10,"") -> Obj Estrategico 4 | S5: Peso sobre el objetivo (%) | T5: (%) | U5: Objetivo 6 | V5: =IF(BASES!B11<>"",BASES!B11,"") -> Obj Estrategico 5 | W5: Peso sobre el objetivo (%) | X5: (%) | Y5: Objetivo 7 | Z5: =IF(BASES!B12<>"",BASES!B12,"") | AA5: Peso sobre el objetivo (%) | AB5: (%)
A7: 1 | B7: =IFERROR(VLOOKUP(A7,'A1 estrategias'!X$4:Z$28,3,0),"") -> Estrategia 0 | C7: 0.33 | D7: =IF(B7<>"",C7*VLOOKUP(B7,'TABLA DE OBJETIVOS'!$G$6:$P$250,9,0),"") -> 0.1089 | E7: 1 | F7: =IFERROR(VLOOKUP(E7,'A1 estrategias'!AA$4:AC$28,3,0),"") -> Estrategia 1 | G7: 1 | H7: =IF(F7<>"",G7*VLOOKUP(F7,'TABLA DE OBJETIVOS'!$G$6:$P$250,9,0),"") -> 0.22 | I7: 1 | J7: =IFERROR(VLOOKUP(I7,'A1 estrategias'!AD$4:AF$28,3,0),"") -> Estrategia 2 | K7: 1 | L7: =IF(J7<>"",K7*VLOOKUP(J7,'TABLA DE OBJETIVOS'!$G$6:$P$250,9,0),"") -> 0.54545455 | M7: 1 | N7: =IFERROR(VLOOKUP(M7,'A1 estrategias'!AG$4:AI$28,3,0),"") -> Estrategia 3 | O7: 1 | P7: =IF(N7<>"",O7*VLOOKUP(N7,'TABLA DE OBJETIVOS'!$G$6:$P$250,9,0),"") -> 0.54545455 | Q7: 1 | R7: =IFERROR(VLOOKUP(Q7,'A1 estrategias'!AJ$4:AL$28,3,0),"") -> Estrategia 4 | S7: 1 | T7: =IF(R7<>"",S7*VLOOKUP(R7,'TABLA DE OBJETIVOS'!$G$6:$P$250,9,0),"") -> 0.26390293 | U7: 1 | V7: =IFERROR(VLOOKUP(U7,'A1 estrategias'!AM$4:AO$28,3,0),"") -> Estrategia 5 | W7: 0.6 | X7: =IF(V7<>"",W7*VLOOKUP(V7,'TABLA DE OBJETIVOS'!$G$6:$P$250,9,0),"") -> 0.23 | Y7: 1 | Z7: =IFERROR(VLOOKUP(Y7,'A1 estrategias'!AP$4:AR$28,3,0),"") | AB7: =IF(Z7<>"",AA7*VLOOKUP(Z7,'TABLA DE OBJETIVOS'!$G$6:$P$250,9,0),"")
A8: 2 | B8: =IFERROR(VLOOKUP(A8,'A1 estrategias'!X$4:Z$28,3,0),"") -> Estrategia 7 | C8: 0.67 | D8: =IF(B8<>"",C8*VLOOKUP(B8,'TABLA DE OBJETIVOS'!$G$6:$P$250,9,0),"") -> 0.06260101 | E8: 2 | F8: =IFERROR(VLOOKUP(E8,'A1 estrategias'!AA$4:AC$28,3,0),"") | H8: =IF(F8<>"",G8*VLOOKUP(F8,'TABLA DE OBJETIVOS'!$G$6:$P$250,9,0),"") | I8: 2 | J8: =IFERROR(VLOOKUP(I8,'A1 estrategias'!AD$4:AF$28,3,0),"") | L8: =IF(J8<>"",K8*VLOOKUP(J8,'TABLA DE OBJETIVOS'!$G$6:$P$250,9,0),"") | M8: 2 | N8: =IFERROR(VLOOKUP(M8,'A1 estrategias'!AG$4:AI$28,3,0),"") | P8: =IF(N8<>"",O8*VLOOKUP(N8,'TABLA DE OBJETIVOS'!$G$6:$P$250,9,0),"") | Q8: 2 | R8: =IFERROR(VLOOKUP(Q8,'A1 estrategias'!AJ$4:AL$28,3,0),"") | T8: =IF(R8<>"",S8*VLOOKUP(R8,'TABLA DE OBJETIVOS'!$G$6:$P$250,9,0),"") | U8: 2 | V8: =IFERROR(VLOOKUP(U8,'A1 estrategias'!AM$4:AO$28,3,0),"") -> Estrategia 6 | W8: 0.4 | X8: =IF(V8<>"",W8*VLOOKUP(V8,'TABLA DE OBJETIVOS'!$G$6:$P$250,9,0),"") -> 0.16736402 | Y8: 2 | Z8: =IFERROR(VLOOKUP(Y8,'A1 estrategias'!AP$4:AR$28,3,0),"") | AB8: =IF(Z8<>"",AA8*VLOOKUP(Z8,'TABLA DE OBJETIVOS'!$G$6:$P$250,9,0),"")
A9: 3 | B9: =IFERROR(VLOOKUP(A9,'A1 estrategias'!X$4:Z$28,3,0),"") | D9: =IF(B9<>"",C9*VLOOKUP(B9,'TABLA DE OBJETIVOS'!$G$6:$P$250,9,0),"") | E9: 3 | F9: =IFERROR(VLOOKUP(E9,'A1 estrategias'!AA$4:AC$28,3,0),"") | H9: =IF(F9<>"",G9*VLOOKUP(F9,'TABLA DE OBJETIVOS'!$G$6:$P$250,9,0),"") | I9: 3 | J9: =IFERROR(VLOOKUP(I9,'A1 estrategias'!AD$4:AF$28,3,0),"") | L9: =IF(J9<>"",K9*VLOOKUP(J9,'TABLA DE OBJETIVOS'!$G$6:$P$250,9,0),"") | M9: 3 | N9: =IFERROR(VLOOKUP(M9,'A1 estrategias'!AG$4:AI$28,3,0),"") | P9: =IF(N9<>"",O9*VLOOKUP(N9,'TABLA DE OBJETIVOS'!$G$6:$P$250,9,0),"") | Q9: 3 | R9: =IFERROR(VLOOKUP(Q9,'A1 estrategias'!AJ$4:AL$28,3,0),"") | T9: =IF(R9<>"",S9*VLOOKUP(R9,'TABLA DE OBJETIVOS'!$G$6:$P$250,9,0),"") | U9: 3 | V9: =IFERROR(VLOOKUP(U9,'A1 estrategias'!AM$4:AO$28,3,0),"") | X9: =IF(V9<>"",W9*VLOOKUP(V9,'TABLA DE OBJETIVOS'!$G$6:$P$250,9,0),"") | Y9: 3 | Z9: =IFERROR(VLOOKUP(Y9,'A1 estrategias'!AP$4:AR$28,3,0),"") | AB9: =IF(Z9<>"",AA9*VLOOKUP(Z9,'TABLA DE OBJETIVOS'!$G$6:$P$250,9,0),"")
A10: 4 | B10: =IFERROR(VLOOKUP(A10,'A1 estrategias'!X$4:Z$28,3,0),"") | D10: =IF(B10<>"",C10*VLOOKUP(B10,'TABLA DE OBJETIVOS'!$G$6:$P$250,9,0),"") | E10: 4 | F10: =IFERROR(VLOOKUP(E10,'A1 estrategias'!AA$4:AC$28,3,0),"") | H10: =IF(F10<>"",G10*VLOOKUP(F10,'TABLA DE OBJETIVOS'!$G$6:$P$250,9,0),"") | I10: 4 | J10: =IFERROR(VLOOKUP(I10,'A1 estrategias'!AD$4:AF$28,3,0),"") | L10: =IF(J10<>"",K10*VLOOKUP(J10,'TABLA DE OBJETIVOS'!$G$6:$P$250,9,0),"") | M10: 4 | N10: =IFERROR(VLOOKUP(M10,'A1 estrategias'!AG$4:AI$28,3,0),"") | P10: =IF(N10<>"",O10*VLOOKUP(N10,'TABLA DE OBJETIVOS'!$G$6:$P$250,9,0),"") | Q10: 4 | R10: =IFERROR(VLOOKUP(Q10,'A1 estrategias'!AJ$4:AL$28,3,0),"") | T10: =IF(R10<>"",S10*VLOOKUP(R10,'TABLA DE OBJETIVOS'!$G$6:$P$250,9,0),"") | U10: 4 | V10: =IFERROR(VLOOKUP(U10,'A1 estrategias'!AM$4:AO$28,3,0),"") | X10: =IF(V10<>"",W10*VLOOKUP(V10,'TABLA DE OBJETIVOS'!$G$6:$P$250,9,0),"") | Y10: 4 | Z10: =IFERROR(VLOOKUP(Y10,'A1 estrategias'!AP$4:AR$28,3,0),"") | AB10: =IF(Z10<>"",AA10*VLOOKUP(Z10,'TABLA DE OBJETIVOS'!$G$6:$P$250,9,0),"")
A11: 5 | B11: =IFERROR(VLOOKUP(A11,'A1 estrategias'!X$4:Z$28,3,0),"") | D11: =IF(B11<>"",C11*VLOOKUP(B11,'TABLA DE OBJETIVOS'!$G$6:$P$250,9,0),"") | E11: 5 | F11: =IFERROR(VLOOKUP(E11,'A1 estrategias'!AA$4:AC$28,3,0),"") | H11: =IF(F11<>"",G11*VLOOKUP(F11,'TABLA DE OBJETIVOS'!$G$6:$P$250,9,0),"") | I11: 5 | J11: =IFERROR(VLOOKUP(I11,'A1 estrategias'!AD$4:AF$28,3,0),"") | L11: =IF(J11<>"",K11*VLOOKUP(J11,'TABLA DE OBJETIVOS'!$G$6:$P$250,9,0),"") | M11: 5 | N11: =IFERROR(VLOOKUP(M11,'A1 estrategias'!AG$4:AI$28,3,0),"") | P11: =IF(N11<>"",O11*VLOOKUP(N11,'TABLA DE OBJETIVOS'!$G$6:$P$250,9,0),"") | Q11: 5 | R11: =IFERROR(VLOOKUP(Q11,'A1 estrategias'!AJ$4:AL$28,3,0),"") | T11: =IF(R11<>"",S11*VLOOKUP(R11,'TABLA DE OBJETIVOS'!$G$6:$P$250,9,0),"") | U11: 5 | V11: =IFERROR(VLOOKUP(U11,'A1 estrategias'!AM$4:AO$28,3,0),"") | X11: =IF(V11<>"",W11*VLOOKUP(V11,'TABLA DE OBJETIVOS'!$G$6:$P$250,9,0),"") | Y11: 5 | Z11: =IFERROR(VLOOKUP(Y11,'A1 estrategias'!AP$4:AR$28,3,0),"") | AB11: =IF(Z11<>"",AA11*VLOOKUP(Z11,'TABLA DE OBJETIVOS'!$G$6:$P$250,9,0),"")
A12: 6 | B12: =IFERROR(VLOOKUP(A12,'A1 estrategias'!X$4:Z$28,3,0),"") | D12: =IF(B12<>"",C12*VLOOKUP(B12,'TABLA DE OBJETIVOS'!$G$6:$P$250,9,0),"") | E12: 6 | F12: =IFERROR(VLOOKUP(E12,'A1 estrategias'!AA$4:AC$28,3,0),"") | H12: =IF(F12<>"",G12*VLOOKUP(F12,'TABLA DE OBJETIVOS'!$G$6:$P$250,9,0),"") | I12: 6 | J12: =IFERROR(VLOOKUP(I12,'A1 estrategias'!AD$4:AF$28,3,0),"") | L12: =IF(J12<>"",K12*VLOOKUP(J12,'TABLA DE OBJETIVOS'!$G$6:$P$250,9,0),"") | M12: 6 | N12: =IFERROR(VLOOKUP(M12,'A1 estrategias'!AG$4:AI$28,3,0),"") | P12: =IF(N12<>"",O12*VLOOKUP(N12,'TABLA DE OBJETIVOS'!$G$6:$P$250,9,0),"") | Q12: 6 | R12: =IFERROR(VLOOKUP(Q12,'A1 estrategias'!AJ$4:AL$28,3,0),"") | T12: =IF(R12<>"",S12*VLOOKUP(R12,'TABLA DE OBJETIVOS'!$G$6:$P$250,9,0),"") | U12: 6 | V12: =IFERROR(VLOOKUP(U12,'A1 estrategias'!AM$4:AO$28,3,0),"") | X12: =IF(V12<>"",W12*VLOOKUP(V12,'TABLA DE OBJETIVOS'!$G$6:$P$250,9,0),"") | Y12: 6 | Z12: =IFERROR(VLOOKUP(Y12,'A1 estrategias'!AP$4:AR$28,3,0),"") | AB12: =IF(Z12<>"",AA12*VLOOKUP(Z12,'TABLA DE OBJETIVOS'!$G$6:$P$250,9,0),"")
A13: 7 | B13: =IFERROR(VLOOKUP(A13,'A1 estrategias'!X$4:Z$28,3,0),"") | D13: =IF(B13<>"",C13*VLOOKUP(B13,'TABLA DE OBJETIVOS'!$G$6:$P$250,9,0),"") | E13: 7 | F13: =IFERROR(VLOOKUP(E13,'A1 estrategias'!AA$4:AC$28,3,0),"") | H13: =IF(F13<>"",G13*VLOOKUP(F13,'TABLA DE OBJETIVOS'!$G$6:$P$250,9,0),"") | I13: 7 | J13: =IFERROR(VLOOKUP(I13,'A1 estrategias'!AD$4:AF$28,3,0),"") | L13: =IF(J13<>"",K13*VLOOKUP(J13,'TABLA DE OBJETIVOS'!$G$6:$P$250,9,0),"") | M13: 7 | N13: =IFERROR(VLOOKUP(M13,'A1 estrategias'!AG$4:AI$28,3,0),"") | P13: =IF(N13<>"",O13*VLOOKUP(N13,'TABLA DE OBJETIVOS'!$G$6:$P$250,9,0),"") | Q13: 7 | R13: =IFERROR(VLOOKUP(Q13,'A1 estrategias'!AJ$4:AL$28,3,0),"") | T13: =IF(R13<>"",S13*VLOOKUP(R13,'TABLA DE OBJETIVOS'!$G$6:$P$250,9,0),"") | U13: 7 | V13: =IFERROR(VLOOKUP(U13,'A1 estrategias'!AM$4:AO$28,3,0),"") | X13: =IF(V13<>"",W13*VLOOKUP(V13,'TABLA DE OBJETIVOS'!$G$6:$P$250,9,0),"") | Y13: 7 | Z13: =IFERROR(VLOOKUP(Y13,'A1 estrategias'!AP$4:AR$28,3,0),"") | AB13: =IF(Z13<>"",AA13*VLOOKUP(Z13,'TABLA DE OBJETIVOS'!$G$6:$P$250,9,0),"")
A14: 8 | B14: =IFERROR(VLOOKUP(A14,'A1 estrategias'!X$4:Z$28,3,0),"") | D14: =IF(B14<>"",C14*VLOOKUP(B14,'TABLA DE OBJETIVOS'!$G$6:$P$250,9,0),"") | E14: 8 | F14: =IFERROR(VLOOKUP(E14,'A1 estrategias'!AA$4:AC$28,3,0),"") | H14: =IF(F14<>"",G14*VLOOKUP(F14,'TABLA DE OBJETIVOS'!$G$6:$P$250,9,0),"") | I14: 8 | J14: =IFERROR(VLOOKUP(I14,'A1 estrategias'!AD$4:AF$28,3,0),"") | L14: =IF(J14<>"",K14*VLOOKUP(J14,'TABLA DE OBJETIVOS'!$G$6:$P$250,9,0),"") | M14: 8 | N14: =IFERROR(VLOOKUP(M14,'A1 estrategias'!AG$4:AI$28,3,0),"") | P14: =IF(N14<>"",O14*VLOOKUP(N14,'TABLA DE OBJETIVOS'!$G$6:$P$250,9,0),"") | Q14: 8 | R14: =IFERROR(VLOOKUP(Q14,'A1 estrategias'!AJ$4:AL$28,3,0),"") | T14: =IF(R14<>"",S14*VLOOKUP(R14,'TABLA DE OBJETIVOS'!$G$6:$P$250,9,0),"") | U14: 8 | V14: =IFERROR(VLOOKUP(U14,'A1 estrategias'!AM$4:AO$28,3,0),"") | X14: =IF(V14<>"",W14*VLOOKUP(V14,'TABLA DE OBJETIVOS'!$G$6:$P$250,9,0),"") | Y14: 8 | Z14: =IFERROR(VLOOKUP(Y14,'A1 estrategias'!AP$4:AR$28,3,0),"") | AB14: =IF(Z14<>"",AA14*VLOOKUP(Z14,'TABLA DE OBJETIVOS'!$G$6:$P$250,9,0),"")
A15: 9 | B15: =IFERROR(VLOOKUP(A15,'A1 estrategias'!X$4:Z$28,3,0),"") | D15: =IF(B15<>"",C15*VLOOKUP(B15,'TABLA DE OBJETIVOS'!$G$6:$P$250,9,0),"") | E15: 9 | F15: =IFERROR(VLOOKUP(E15,'A1 estrategias'!AA$4:AC$28,3,0),"") | H15: =IF(F15<>"",G15*VLOOKUP(F15,'TABLA DE OBJETIVOS'!$G$6:$P$250,9,0),"") | I15: 9 | J15: =IFERROR(VLOOKUP(I15,'A1 estrategias'!AD$4:AF$28,3,0),"") | L15: =IF(J15<>"",K15*VLOOKUP(J15,'TABLA DE OBJETIVOS'!$G$6:$P$250,9,0),"") | M15: 9 | N15: =IFERROR(VLOOKUP(M15,'A1 estrategias'!AG$4:AI$28,3,0),"") | P15: =IF(N15<>"",O15*VLOOKUP(N15,'TABLA DE OBJETIVOS'!$G$6:$P$250,9,0),"") | Q15: 9 | R15: =IFERROR(VLOOKUP(Q15,'A1 estrategias'!AJ$4:AL$28,3,0),"") | T15: =IF(R15<>"",S15*VLOOKUP(R15,'TABLA DE OBJETIVOS'!$G$6:$P$250,9,0),"") | U15: 9 | V15: =IFERROR(VLOOKUP(U15,'A1 estrategias'!AM$4:AO$28,3,0),"") | X15: =IF(V15<>"",W15*VLOOKUP(V15,'TABLA DE OBJETIVOS'!$G$6:$P$250,9,0),"") | Y15: 9 | Z15: =IFERROR(VLOOKUP(Y15,'A1 estrategias'!AP$4:AR$28,3,0),"") | AB15: =IF(Z15<>"",AA15*VLOOKUP(Z15,'TABLA DE OBJETIVOS'!$G$6:$P$250,9,0),"")
A16: 10 | B16: =IFERROR(VLOOKUP(A16,'A1 estrategias'!X$4:Z$28,3,0),"") | D16: =IF(B16<>"",C16*VLOOKUP(B16,'TABLA DE OBJETIVOS'!$G$6:$P$250,9,0),"") | E16: 10 | F16: =IFERROR(VLOOKUP(E16,'A1 estrategias'!AA$4:AC$28,3,0),"") | H16: =IF(F16<>"",G16*VLOOKUP(F16,'TABLA DE OBJETIVOS'!$G$6:$P$250,9,0),"") | I16: 10 | J16: =IFERROR(VLOOKUP(I16,'A1 estrategias'!AD$4:AF$28,3,0),"") | L16: =IF(J16<>"",K16*VLOOKUP(J16,'TABLA DE OBJETIVOS'!$G$6:$P$250,9,0),"") | M16: 10 | N16: =IFERROR(VLOOKUP(M16,'A1 estrategias'!AG$4:AI$28,3,0),"") | P16: =IF(N16<>"",O16*VLOOKUP(N16,'TABLA DE OBJETIVOS'!$G$6:$P$250,9,0),"") | Q16: 10 | R16: =IFERROR(VLOOKUP(Q16,'A1 estrategias'!AJ$4:AL$28,3,0),"") | T16: =IF(R16<>"",S16*VLOOKUP(R16,'TABLA DE OBJETIVOS'!$G$6:$P$250,9,0),"") | U16: 10 | V16: =IFERROR(VLOOKUP(U16,'A1 estrategias'!AM$4:AO$28,3,0),"") | X16: =IF(V16<>"",W16*VLOOKUP(V16,'TABLA DE OBJETIVOS'!$G$6:$P$250,9,0),"") | Y16: 10 | Z16: =IFERROR(VLOOKUP(Y16,'A1 estrategias'!AP$4:AR$28,3,0),"") | AB16: =IF(Z16<>"",AA16*VLOOKUP(Z16,'TABLA DE OBJETIVOS'!$G$6:$P$250,9,0),"")
A17: 11 | B17: =IFERROR(VLOOKUP(A17,'A1 estrategias'!X$4:Z$28,3,0),"") | D17: =IF(B17<>"",C17*VLOOKUP(B17,'TABLA DE OBJETIVOS'!$G$6:$P$250,9,0),"") | E17: 11 | F17: =IFERROR(VLOOKUP(E17,'A1 estrategias'!AA$4:AC$28,3,0),"") | H17: =IF(F17<>"",G17*VLOOKUP(F17,'TABLA DE OBJETIVOS'!$G$6:$P$250,9,0),"") | I17: 11 | J17: =IFERROR(VLOOKUP(I17,'A1 estrategias'!AD$4:AF$28,3,0),"") | L17: =IF(J17<>"",K17*VLOOKUP(J17,'TABLA DE OBJETIVOS'!$G$6:$P$250,9,0),"") | M17: 11 | N17: =IFERROR(VLOOKUP(M17,'A1 estrategias'!AG$4:AI$28,3,0),"") | P17: =IF(N17<>"",O17*VLOOKUP(N17,'TABLA DE OBJETIVOS'!$G$6:$P$250,9,0),"") | Q17: 11 | R17: =IFERROR(VLOOKUP(Q17,'A1 estrategias'!AJ$4:AL$28,3,0),"") | T17: =IF(R17<>"",S17*VLOOKUP(R17,'TABLA DE OBJETIVOS'!$G$6:$P$250,9,0),"") | U17: 11 | V17: =IFERROR(VLOOKUP(U17,'A1 estrategias'!AM$4:AO$28,3,0),"") | X17: =IF(V17<>"",W17*VLOOKUP(V17,'TABLA DE OBJETIVOS'!$G$6:$P$250,9,0),"") | Y17: 11 | Z17: =IFERROR(VLOOKUP(Y17,'A1 estrategias'!AP$4:AR$28,3,0),"") | AB17: =IF(Z17<>"",AA17*VLOOKUP(Z17,'TABLA DE OBJETIVOS'!$G$6:$P$250,9,0),"")
A18: 12 | B18: =IFERROR(VLOOKUP(A18,'A1 estrategias'!X$4:Z$28,3,0),"") | D18: =IF(B18<>"",C18*VLOOKUP(B18,'TABLA DE OBJETIVOS'!$G$6:$P$250,9,0),"") | E18: 12 | F18: =IFERROR(VLOOKUP(E18,'A1 estrategias'!AA$4:AC$28,3,0),"") | H18: =IF(F18<>"",G18*VLOOKUP(F18,'TABLA DE OBJETIVOS'!$G$6:$P$250,9,0),"") | I18: 12 | J18: =IFERROR(VLOOKUP(I18,'A1 estrategias'!AD$4:AF$28,3,0),"") | L18: =IF(J18<>"",K18*VLOOKUP(J18,'TABLA DE OBJETIVOS'!$G$6:$P$250,9,0),"") | M18: 12 | N18: =IFERROR(VLOOKUP(M18,'A1 estrategias'!AG$4:AI$28,3,0),"") | P18: =IF(N18<>"",O18*VLOOKUP(N18,'TABLA DE OBJETIVOS'!$G$6:$P$250,9,0),"") | Q18: 12 | R18: =IFERROR(VLOOKUP(Q18,'A1 estrategias'!AJ$4:AL$28,3,0),"") | T18: =IF(R18<>"",S18*VLOOKUP(R18,'TABLA DE OBJETIVOS'!$G$6:$P$250,9,0),"") | U18: 12 | V18: =IFERROR(VLOOKUP(U18,'A1 estrategias'!AM$4:AO$28,3,0),"") | X18: =IF(V18<>"",W18*VLOOKUP(V18,'TABLA DE OBJETIVOS'!$G$6:$P$250,9,0),"") | Y18: 12 | Z18: =IFERROR(VLOOKUP(Y18,'A1 estrategias'!AP$4:AR$28,3,0),"") | AB18: =IF(Z18<>"",AA18*VLOOKUP(Z18,'TABLA DE OBJETIVOS'!$G$6:$P$250,9,0),"")
A19: 13 | B19: =IFERROR(VLOOKUP(A19,'A1 estrategias'!X$4:Z$28,3,0),"") | D19: =IF(B19<>"",C19*VLOOKUP(B19,'TABLA DE OBJETIVOS'!$G$6:$P$250,9,0),"") | E19: 13 | F19: =IFERROR(VLOOKUP(E19,'A1 estrategias'!AA$4:AC$28,3,0),"") | H19: =IF(F19<>"",G19*VLOOKUP(F19,'TABLA DE OBJETIVOS'!$G$6:$P$250,9,0),"") | I19: 13 | J19: =IFERROR(VLOOKUP(I19,'A1 estrategias'!AD$4:AF$28,3,0),"") | L19: =IF(J19<>"",K19*VLOOKUP(J19,'TABLA DE OBJETIVOS'!$G$6:$P$250,9,0),"") | M19: 13 | N19: =IFERROR(VLOOKUP(M19,'A1 estrategias'!AG$4:AI$28,3,0),"") | P19: =IF(N19<>"",O19*VLOOKUP(N19,'TABLA DE OBJETIVOS'!$G$6:$P$250,9,0),"") | Q19: 13 | R19: =IFERROR(VLOOKUP(Q19,'A1 estrategias'!AJ$4:AL$28,3,0),"") | T19: =IF(R19<>"",S19*VLOOKUP(R19,'TABLA DE OBJETIVOS'!$G$6:$P$250,9,0),"") | U19: 13 | V19: =IFERROR(VLOOKUP(U19,'A1 estrategias'!AM$4:AO$28,3,0),"") | X19: =IF(V19<>"",W19*VLOOKUP(V19,'TABLA DE OBJETIVOS'!$G$6:$P$250,9,0),"") | Y19: 13 | Z19: =IFERROR(VLOOKUP(Y19,'A1 estrategias'!AP$4:AR$28,3,0),"") | AB19: =IF(Z19<>"",AA19*VLOOKUP(Z19,'TABLA DE OBJETIVOS'!$G$6:$P$250,9,0),"")
A20: 14 | B20: =IFERROR(VLOOKUP(A20,'A1 estrategias'!X$4:Z$28,3,0),"") | D20: =IF(B20<>"",C20*VLOOKUP(B20,'TABLA DE OBJETIVOS'!$G$6:$P$250,9,0),"") | E20: 14 | F20: =IFERROR(VLOOKUP(E20,'A1 estrategias'!AA$4:AC$28,3,0),"") | H20: =IF(F20<>"",G20*VLOOKUP(F20,'TABLA DE OBJETIVOS'!$G$6:$P$250,9,0),"") | I20: 14 | J20: =IFERROR(VLOOKUP(I20,'A1 estrategias'!AD$4:AF$28,3,0),"") | L20: =IF(J20<>"",K20*VLOOKUP(J20,'TABLA DE OBJETIVOS'!$G$6:$P$250,9,0),"") | M20: 14 | N20: =IFERROR(VLOOKUP(M20,'A1 estrategias'!AG$4:AI$28,3,0),"") | P20: =IF(N20<>"",O20*VLOOKUP(N20,'TABLA DE OBJETIVOS'!$G$6:$P$250,9,0),"") | Q20: 14 | R20: =IFERROR(VLOOKUP(Q20,'A1 estrategias'!AJ$4:AL$28,3,0),"") | T20: =IF(R20<>"",S20*VLOOKUP(R20,'TABLA DE OBJETIVOS'!$G$6:$P$250,9,0),"") | U20: 14 | V20: =IFERROR(VLOOKUP(U20,'A1 estrategias'!AM$4:AO$28,3,0),"") | X20: =IF(V20<>"",W20*VLOOKUP(V20,'TABLA DE OBJETIVOS'!$G$6:$P$250,9,0),"") | Y20: 14 | Z20: =IFERROR(VLOOKUP(Y20,'A1 estrategias'!AP$4:AR$28,3,0),"") | AB20: =IF(Z20<>"",AA20*VLOOKUP(Z20,'TABLA DE OBJETIVOS'!$G$6:$P$250,9,0),"")
... A31: 25 | B31: =IFERROR(VLOOKUP(A31,'A1 estrategias'!X$4:Z$28,3,0),"") | D31: =IF(B31<>"",C31*VLOOKUP(B31,'TABLA DE OBJETIVOS'!$G$6:$P$250,9,0),"") | E31: 25 | F31: =IFERROR(VLOOKUP(E31,'A1 estrategias'!AA$4:AC$28,3,0),"") | H31: =IF(F31<>"",G31*VLOOKUP(F31,'TABLA DE OBJETIVOS'!$G$6:$P$250,9,0),"") | I31: 25 | J31: =IFERROR(VLOOKUP(I31,'A1 estrategias'!AD$4:AF$28,3,0),"") | L31: =IF(J31<>"",K31*VLOOKUP(J31,'TABLA DE OBJETIVOS'!$G$6:$P$250,9,0),"") | M31: 25 | N31: =IFERROR(VLOOKUP(M31,'A1 estrategias'!AG$4:AI$28,3,0),"") | P31: =IF(N31<>"",O31*VLOOKUP(N31,'TABLA DE OBJETIVOS'!$G$6:$P$250,9,0),"") | Q31: 25 | R31: =IFERROR(VLOOKUP(Q31,'A1 estrategias'!AJ$4:AL$28,3,0),"") | T31: =IF(R31<>"",S31*VLOOKUP(R31,'TABLA DE OBJETIVOS'!$G$6:$P$250,9,0),"") | U31: 25 | V31: =IFERROR(VLOOKUP(U31,'A1 estrategias'!AM$4:AO$28,3,0),"") | X31: =IF(V31<>"",W31*VLOOKUP(V31,'TABLA DE OBJETIVOS'!$G$6:$P$250,9,0),"") | Y31: 25 | Z31: =IFERROR(VLOOKUP(Y31,'A1 estrategias'!AP$4:AR$28,3,0),"") | AB31: =IF(Z31<>"",AA31*VLOOKUP(Z31,'TABLA DE OBJETIVOS'!$G$6:$P$250,9,0),"")

Sheet TABLA DE OBJETIVOS
J4: ACTUALIZACIÓN
A5: No | B5: Fecha de inicio | C5: Meta | D5: Área de responsabilidad | E5: Responsable | F5: Objetivo estratégico | G5: Estrategia | H5: Valor Actual | I5: Valor propuesto | J5: Estatus | K5: Fecha de actualización | L5: Valor Actual | M5: Días para alcanzar la meta | N5: Días restantes | O5: % de Avance | P5: Objetivo estratégico
A6: 1 | B6: 44075 | C6: 1 | D6: area 1 | E6: responsable 1 | F6: Obj Estrategico 1 | G6: Estrategia 1 | H6: 0 | I6: 100 | J6: Activo | K6: 43930 | L6: 22 | M6: =IF(B6<>"",(DAY(B6)+C6*30),"") -> 31 | N6: =IF(K6<>"",(B6+30*C6)-NOW(),"") -> 106.47678 | O6: =IF(I6>H6,(IF(I6<>"",(((I6-H6)-(I6-L6))/ABS(I6-H6)),"")),IF(I6<>"",(1-(I6+L6-H6)/I6),"")) -> 0.22 | P6: =IF(F6<>"",F6,"") -> Obj Estrategico 1
A7: =IF(B6<>"",A6+1,"") -> 2 | B7: 44076 | C7: 3 | D7: area 2 | E7: responsable 2 | F7: Obj Estrategico 2 | G7: Estrategia 2 | H7: 1 | I7: 100 | J7: Activo | K7: 43930 | L7: 55 | M7: =IF(B7<>"",(DAY(B7)+C7*30),"") -> 92 | N7: =IF(K7<>"",(B7+30*C7)-NOW(),"") -> 167.47678 | O7: =IF(I7>H7,(IF(I7<>"",(((I7-H7)-(I7-L7))/ABS(I7-H7)),"")),IF(I7<>"",(1-(I7+L7-H7)/I7),"")) -> 0.54545455 | P7: =IF(F7<>"",F7,"") -> Obj Estrategico 2
A8: =IF(B7<>"",A7+1,"") -> 3 | B8: 44077 | C8: 4 | D8: area 3 | E8: responsable 3 | F8: Obj Estrategico 3 | G8: Estrategia 3 | H8: 12 | I8: 111 | J8: Activo | K8: 43930 | L8: 66 | M8: =IF(B8<>"",(DAY(B8)+C8*30),"") -> 123 | N8: =IF(K8<>"",(B8+30*C8)-NOW(),"") -> 198.47678 | O8: =IF(I8>H8,(IF(I8<>"",(((I8-H8)-(I8-L8))/ABS(I8-H8)),"")),IF(I8<>"",(1-(I8+L8-H8)/I8),"")) -> 0.54545455 | P8: =IF(F8<>"",F8,"") -> Obj Estrategico 3
A9: =IF(B8<>"",A8+1,"") -> 4 | B9: 44078 | C9: 3 | D9: area 4 | E9: responsable 4 | F9: Obj Estrategico 4 | G9: Estrategia 4 | H9: 22 | I9: 2000 | J9: Activo | K9: 43930 | L9: 544 | M9: =IF(B9<>"",(DAY(B9)+C9*30),"") -> 94 | N9: =IF(K9<>"",(B9+30*C9)-NOW(),"") -> 169.47678 | O9: =IF(I9>H9,(IF(I9<>"",(((I9-H9)-(I9-L9))/ABS(I9-H9)),"")),IF(I9<>"",(1-(I9+L9-H9)/I9),"")) -> 0.26390293 | P9: =IF(F9<>"",F9,"") -> Obj Estrategico 4
A10: =IF(B9<>"",A9+1,"") -> 5 | B10: 44079 | C10: 12 | D10: area 1 | E10: responsable 5 | F10: Obj Estrategico 5 | G10: Estrategia 5 | H10: 100 | I10: 1000 | J10: Activo | K10: 43930 | L10: 445 | M10: =IF(B10<>"",(DAY(B10)+C10*30),"") -> 365 | N10: =IF(K10<>"",(B10+30*C10)-NOW(),"") -> 440.47678 | O10: =IF(I10>H10,(IF(I10<>"",(((I10-H10)-(I10-L10))/ABS(I10-H10)),"")),IF(I10<>"",(1-(I10+L10-H10)/I10),"")) -> 0.38333333 | P10: =IF(F10<>"",F10,"") -> Obj Estrategico 5
A11: =IF(B10<>"",A10+1,"") -> 6 | B11: 44080 | C11: 9 | D11: area 4 | E11: responsable 6 | F11: Obj Estrategico 5 | G11: Estrategia 6 | H11: 44 | I11: 1000 | J11: Activo | K11: 43930 | L11: 444 | M11: =IF(B11<>"",(DAY(B11)+C11*30),"") -> 276 | N11: =IF(K11<>"",(B11+30*C11)-NOW(),"") -> 351.47678 | O11: =IF(I11>H11,(IF(I11<>"",(((I11-H11)-(I11-L11))/ABS(I11-H11)),"")),IF(I11<>"",(1-(I11+L11-H11)/I11),"")) -> 0.41841004 | P11: =IF(F11<>"",F11,"") -> Obj Estrategico 5
A12: =IF(B11<>"",A11+1,"") -> 7 | B12: 44081 | C12: 1 | D12: area 1 | E12: responsable 3 | F12: Obj Estrategico 0 | G12: Estrategia 0 | H12: 0 | I12: 100 | J12: Activo | K12: 43930 | L12: 33 | M12: =IF(B12<>"",(DAY(B12)+C12*30),"") -> 37 | N12: =IF(K12<>"",(B12+30*C12)-NOW(),"") -> 112.47678 | O12: =IF(I12>H12,(IF(I12<>"",(((I12-H12)-(I12-L12))/ABS(I12-H12)),"")),IF(I12<>"",(1-(I12+L12-H12)/I12),"")) -> 0.33 | P12: =IF(F12<>"",F12,"") -> Obj Estrategico 0
A13: =IF(B12<>"",A12+1,"") -> 8 | B13: 44082 | C13: 3 | D13: area 3 | E13: responsable 2 | F13: Obj Estrategico 0 | G13: Estrategia 7 | H13: 12 | I13: 1200 | J13: Activo | K13: 43930 | L13: 123 | M13: =IF(B13<>"",(DAY(B13)+C13*30),"") -> 98 | N13: =IF(K13<>"",(B13+30*C13)-NOW(),"") -> 173.47678 | O13: =IF(I13>H13,(IF(I13<>"",(((I13-H13)-(I13-L13))/ABS(I13-H13)),"")),IF(I13<>"",(1-(I13+L13-H13)/I13),"")) -> 0.093434343 | P13: =IF(F13<>"",F13,"") -> Obj Estrategico 0
A14: =IF(B13<>"",A13+1,"") -> 9 | M14: =IF(B14<>"",(DAY(B14)+C14*30),"") | N14: =IF(K14<>"",(B14+30*C14)-NOW(),"") | O14: =IF(I14>H14,(IF(I14<>"",(((I14-H14)-(I14-L14))/ABS(I14-H14)),"")),IF(I14<>"",(1-(I14+L14-H14)/I14),"")) | P14: =IF(F14<>"",F14,"")
A15: =IF(B14<>"",A14+1,"") | M15: =IF(B15<>"",(DAY(B15)+C15*30),"") | N15: =IF(K15<>"",(DAY(B15)+30*C15)-DAY(TODAY()),"") | O15: =IF(I15>H15,(IF(I15<>"",(((I15-H15)-(I15-L15))/ABS(I15-H15)),"")),IF(I15<>"",(1-(I15+L15-H15)/I15),"")) | P15: =IF(F15<>"",F15,"")
A16: =IF(B15<>"",A15+1,"") | M16: =IF(B16<>"",(DAY(B16)+C16*30),"") | N16: =IF(K16<>"",(B16+30*C16)-NOW(),"") | O16: =IF(I16>H16,(IF(I16<>"",(((I16-H16)-(I16-L16))/ABS(I16-H16)),"")),IF(I16<>"",(1-(I16+L16-H16)/I16),"")) | P16: =IF(F16<>"",F16,"")
A17: =IF(B16<>"",A16+1,"") | M17: =IF(B17<>"",(DAY(B17)+C17*30),"") | N17: =IF(K17<>"",(B17+30*C17)-NOW(),"") | O17: =IF(I17>H17,(IF(I17<>"",(((I17-H17)-(I17-L17))/ABS(I17-H17)),"")),IF(I17<>"",(1-(I17+L17-H17)/I17),"")) | P17: =IF(F17<>"",F17,"")
A18: =IF(B17<>"",A17+1,"") | M18: =IF(B18<>"",(DAY(B18)+C18*30),"") | N18: =IF(K18<>"",(B18+30*C18)-NOW(),"") | O18: =IF(I18>H18,(IF(I18<>"",(((I18-H18)-(I18-L18))/ABS(I18-H18)),"")),IF(I18<>"",(1-(I18+L18-H18)/I18),"")) | P18: =IF(F18<>"",F18,"")
A19: =IF(B18<>"",A18+1,"") | M19: =IF(B19<>"",(DAY(B19)+C19*30),"") | N19: =IF(K19<>"",(B19+30*C19)-NOW(),"") | O19: =IF(I19>H19,(IF(I19<>"",(((I19-H19)-(I19-L19))/ABS(I19-H19)),"")),IF(I19<>"",(1-(I19+L19-H19)/I19),"")) | P19: =IF(F19<>"",F19,"")
A20: =IF(B19<>"",A19+1,"") | M20: =IF(B20<>"",(DAY(B20)+C20*30),"") | N20: =IF(K20<>"",(B20+30*C20)-NOW(),"") | O20: =IF(I20>H20,(IF(I20<>"",(((I20-H20)-(I20-L20))/ABS(I20-H20)),"")),IF(I20<>"",(1-(I20+L20-H20)/I20),"")) | P20: =IF(F20<>"",F20,"")
A21: =IF(B20<>"",A20+1,"") | M21: =IF(B21<>"",(DAY(B21)+C21*30),"") | N21: =IF(K21<>"",(DAY(B21)+30*C21)-DAY(TODAY()),"") | O21: =IF(I21>H21,(IF(I21<>"",(((I21-H21)-(I21-L21))/ABS(I21-H21)),"")),IF(I21<>"",(1-(I21+L21-H21)/I21),"")) | P21: =IF(F21<>"",F21,"")
A22: =IF(B21<>"",A21+1,"") | M22: =IF(B22<>"",(DAY(B22)+C22*30),"") | N22: =IF(K22<>"",(DAY(B22)+30*C22)-DAY(TODAY()),"") | O22: =IF(I22>H22,(IF(I22<>"",(((I22-H22)-(I22-L22))/ABS(I22-H22)),"")),IF(I22<>"",(1-(I22+L22-H22)/I22),"")) | P22: =IF(F22<>"",F22,"")
A23: =IF(B22<>"",A22+1,"") | M23: =IF(B23<>"",(DAY(B23)+C23*30),"") | N23: =IF(K23<>"",(DAY(B23)+30*C23)-DAY(TODAY()),"") | O23: =IF(I23>H23,(IF(I23<>"",(((I23-H23)-(I23-L23))/ABS(I23-H23)),"")),IF(I23<>"",(1-(I23+L23-H23)/I23),"")) | P23: =IF(F23<>"",F23,"")
A24: =IF(B23<>"",A23+1,"") | M24: =IF(B24<>"",(DAY(B24)+C24*30),"") | N24: =IF(K24<>"",(DAY(B24)+30*C24)-DAY(TODAY()),"") | O24: =IF(I24>H24,(IF(I24<>"",(((I24-H24)-(I24-L24))/ABS(I24-H24)),"")),IF(I24<>"",(1-(I24+L24-H24)/I24),"")) | P24: =IF(F24<>"",F24,"")
A25: =IF(B24<>"",A24+1,"") | M25: =IF(B25<>"",(DAY(B25)+C25*30),"") | N25: =IF(K25<>"",(DAY(B25)+30*C25)-DAY(TODAY()),"") | O25: =IF(I25>H25,(IF(I25<>"",(((I25-H25)-(I25-L25))/ABS(I25-H25)),"")),IF(I25<>"",(1-(I25+L25-H25)/I25),"")) | P25: =IF(F25<>"",F25,"")
A26: =IF(B25<>"",A25+1,"") | M26: =IF(B26<>"",(DAY(B26)+C26*30),"") | N26: =IF(K26<>"",(DAY(B26)+30*C26)-DAY(TODAY()),"") | O26: =IF(I26>H26,(IF(I26<>"",(((I26-H26)-(I26-L26))/ABS(I26-H26)),"")),IF(I26<>"",(1-(I26+L26-H26)/I26),"")) | P26: =IF(F26<>"",F26,"")
A27: =IF(B26<>"",A26+1,"") | M27: =IF(B27<>"",(DAY(B27)+C27*30),"") | N27: =IF(K27<>"",(DAY(B27)+30*C27)-DAY(TODAY()),"") | O27: =IF(I27>H27,(IF(I27<>"",(((I27-H27)-(I27-L27))/ABS(I27-H27)),"")),IF(I27<>"",(1-(I27+L27-H27)/I27),"")) | P27: =IF(F27<>"",F27,"")
A28: =IF(B27<>"",A27+1,"") | M28: =IF(B28<>"",(DAY(B28)+C28*30),"") | N28: =IF(K28<>"",(DAY(B28)+30*C28)-DAY(TODAY()),"") | O28: =IF(I28>H28,(IF(I28<>"",(((I28-H28)-(I28-L28))/ABS(I28-H28)),"")),IF(I28<>"",(1-(I28+L28-H28)/I28),"")) | P28: =IF(F28<>"",F28,"")
A29: =IF(B28<>"",A28+1,"") | M29: =IF(B29<>"",(DAY(B29)+C29*30),"") | N29: =IF(K29<>"",(DAY(B29)+30*C29)-DAY(TODAY()),"") | O29: =IF(I29>H29,(IF(I29<>"",(((I29-H29)-(I29-L29))/ABS(I29-H29)),"")),IF(I29<>"",(1-(I29+L29-H29)/I29),"")) | P29: =IF(F29<>"",F29,"")
A30: =IF(B29<>"",A29+1,"") | M30: =IF(B30<>"",(DAY(B30)+C30*30),"") | N30: =IF(K30<>"",(DAY(B30)+30*C30)-DAY(TODAY()),"") | O30: =IF(I30>H30,(IF(I30<>"",(((I30-H30)-(I30-L30))/ABS(I30-H30)),"")),IF(I30<>"",(1-(I30+L30-H30)/I30),"")) | P30: =IF(F30<>"",F30,"")
A31: =IF(B30<>"",A30+1,"") | M31: =IF(B31<>"",(DAY(B31)+C31*30),"") | N31: =IF(K31<>"",(DAY(B31)+30*C31)-DAY(TODAY()),"") | O31: =IF(I31>H31,(IF(I31<>"",(((I31-H31)-(I31-L31))/ABS(I31-H31)),"")),IF(I31<>"",(1-(I31+L31-H31)/I31),"")) | P31: =IF(F31<>"",F31,"")
A32: =IF(B31<>"",A31+1,"") | M32: =IF(B32<>"",(DAY(B32)+C32*30),"") | N32: =IF(K32<>"",(DAY(B32)+30*C32)-DAY(TODAY()),"") | O32: =IF(I32>H32,(IF(I32<>"",(((I32-H32)-(I32-L32))/ABS(I32-H32)),"")),IF(I32<>"",(1-(I32+L32-H32)/I32),"")) | P32: =IF(F32<>"",F32,"")
... A250: =IF(B249<>"",A249+1,"") | M250: =IF(B250<>"",(DAY(B250)+C250*30),"") | N250: =IF(K250<>"",(DAY(B250)+30*C250)-DAY(TODAY()),"") | O250: =IF(I250>H250,(IF(I250<>"",(((I250-H250)-(I250-L250))/ABS(I250-H250)),"")),IF(I250<>"",(1-(I250+L250-H250)/I250),"")) | P250: =IF(F250<>"",F250,"")

Sheet TA1
C2: Objetivo 1 | D2: =ESTRATEGIAS!B5 -> Obj Estrategico 0
J4: ACTUALIZACIÓN
