Workbook

Sheet INICIO

Sheet DASHBOARD
C6: ESTRATEGIAS POR ÁREAS FUNCIONALES
C7: ÁREA | D7: Cantidad | E7: %
C8: =IF(BASES!B15<>"",BASES!B15,"") -> area 1 | D8: =IF(C8<>"",COUNTIF('TABLA DE OBJETIVOS'!$D$6:$D$130,C8),"") -> 3 | E8: =IFERROR(D8/SUM($D$8:$D$14),"") -> 0.375
C9: =IF(BASES!B16<>"",BASES!B16,"") -> area 2 | D9: =IF(C9<>"",COUNTIF('TABLA DE OBJETIVOS'!$D$6:$D$130,C9),"") -> 1 | E9: =IFERROR(D9/SUM($D$8:$D$14),"") -> 0.125
C10: =IF(BASES!B17<>"",BASES!B17,"") -> area 3 | D10: =IF(C10<>"",COUNTIF('TABLA DE OBJETIVOS'!$D$6:$D$130,C10),"") -> 2 | E10: =IFERROR(D10/SUM($D$8:$D$14),"") -> 0.25
C11: =IF(BASES!B18<>"",BASES!B18,"") -> area 4 | D11: =IF(C11<>"",COUNTIF('TABLA DE OBJETIVOS'!$D$6:$D$130,C11),"") -> 2 | E11: =IFERROR(D11/SUM($D$8:$D$14),"") -> 0.25
C12: =IF(BASES!B19<>"",BASES!B19,"") -> area 5 | D12: =IF(C12<>"",COUNTIF('TABLA DE OBJETIVOS'!$D$6:$D$130,C12),"") -> 0 | E12: =IFERROR(D12/SUM($D$8:$D$14),"") -> 0
C13: =IF(BASES!B20<>"",BASES!B20,"") | D13: =IF(C13<>"",COUNTIF('TABLA DE OBJETIVOS'!$D$6:$D$130,C13),"") | E13: =IFERROR(D13/SUM($D$8:$D$14),"")
C14: =IF(BASES!B21<>"",BASES!B21,"") | D14: =IF(C14<>"",COUNTIF('TABLA DE OBJETIVOS'!$D$6:$D$130,C14),"") | E14: =IFERROR(D14/SUM($D$8:$D$14),"")
C17: ESTRATEGIAS POR OBJETIVOS
C18: ÁREA | D18: Cantidad | E18: %
C19: =IF(BASES!B6<>"",BASES!B6,"") -> Obj Estrategico 0 | D19: =IF(C19<>"",COUNTIF('TABLA DE OBJETIVOS'!$F$6:$F$130,C19),"") -> 2 | E19: =IFERROR(D19/SUM($D$19:$D$25),"") -> 0.25
C20: =IF(BASES!B7<>"",BASES!B7,"") -> Obj Estrategico 1 | D20: =IF(C20<>"",COUNTIF('TABLA DE OBJETIVOS'!$F$6:$F$130,C20),"") -> 1 | E20: =IFERROR(D20/SUM($D$19:$D$25),"") -> 0.125
C21: =IF(BASES!B8<>"",BASES!B8,"") -> Obj Estrategico 2 | D21: =IF(C21<>"",COUNTIF('TABLA DE OBJETIVOS'!$F$6:$F$130,C21),"") -> 1 | E21: =IFERROR(D21/SUM($D$19:$D$25),"") -> 0.125
C22: =IF(BASES!B9<>"",BASES!B9,"") -> Obj Estrategico 3 | D22: =IF(C22<>"",COUNTIF('TABLA DE OBJETIVOS'!$F$6:$F$130,C22),"") -> 1 | E22: =IFERROR(D22/SUM($D$19:$D$25),"") -> 0.125
C23: =IF(BASES!B10<>"",BASES!B10,"") -> Obj Estrategico 4 | D23: =IF(C23<>"",COUNTIF('TABLA DE OBJETIVOS'!$F$6:$F$130,C23),"") -> 1 | E23: =IFERROR(D23/SUM($D$19:$D$25),"") -> 0.125
C24: =IF(BASES!B11<>"",BASES!B11,"") -> Obj Estrategico 5 | D24: =IF(C24<>"",COUNTIF('TABLA DE OBJETIVOS'!$F$6:$F$130,C24),"") -> 2 | E24: =IFERROR(D24/SUM($D$19:$D$25),"") -> 0.25
C25: =IF(BASES!B12<>"",BASES!B12,"") | D25: =IF(C25<>"",COUNTIF('TABLA DE OBJETIVOS'!$F$6:$F$130,C25),"") | E25: =IFERROR(D25/SUM($D$19:$D$25),"")
C28: PERSONAS RESPONSABLES - ESTRATEGIAS
C29: ÁREA | D29: Cantidad | E29: %
C30: =IF(BASES!B15<>"",BASES!B15,"") -> area 1 | D30: =IF(IF(C30<>"",COUNTIF(BASES!$W$25:$W$65,C30),"")<>0,IF(C30<>"",COUNTIF(BASES!$W$25:$W$65,C30),""),"") -> 2 | E30: =IFERROR(D30/SUM($D$30:$D$36),"") -> 0.33333333
C31: =IF(BASES!B16<>"",BASES!B16,"") -> area 2 | D31: =IF(IF(C31<>"",COUNTIF(BASES!$W$25:$W$65,C31),"")<>0,IF(C31<>"",COUNTIF(BASES!$W$25:$W$65,C31),""),"") -> 2 | E31: =IFERROR(D31/SUM($D$30:$D$36),"") -> 0.33333333
C32: =IF(BASES!B17<>"",BASES!B17,"") -> area 3 | D32: =IF(IF(C32<>"",COUNTIF(BASES!$W$25:$W$65,C32),"")<>0,IF(C32<>"",COUNTIF(BASES!$W$25:$W$65,C32),""),"") -> 1 | E32: =IFERROR(D32/SUM($D$30:$D$36),"") -> 0.16666667
C33: =IF(BASES!B18<>"",BASES!B18,"") -> area 4 | D33: =IF(IF(C33<>"",COUNTIF(BASES!$W$25:$W$65,C33),"")<>0,IF(C33<>"",COUNTIF(BASES!$W$25:$W$65,C33),""),"") -> 1 | E33: =IFERROR(D33/SUM($D$30:$D$36),"") -> 0.16666667
C34: =IF(BASES!B19<>"",BASES!B19,"") -> area 5 | D34: =IF(IF(C34<>"",COUNTIF(BASES!$W$25:$W$65,C34),"")<>0,IF(C34<>"",COUNTIF(BASES!$W$25:$W$65,C34),""),"") | E34: =IFERROR(D34/SUM($D$30:$D$36),"")
C35: =IF(BASES!B20<>"",BASES!B20,"") | D35: =IF(IF(C35<>"",COUNTIF(BASES!$W$25:$W$65,C35),"")<>0,IF(C35<>"",COUNTIF(BASES!$W$25:$W$65,C35),""),"") | E35: =IFERROR(D35/SUM($D$30:$D$36),"")
C36: =IF(BASES!B21<>"",BASES!B21,"") | D36: =IF(IF(C36<>"",COUNTIF(BASES!$W$25:$W$65,C36),"")<>0,IF(C36<>"",COUNTIF(BASES!$W$25:$W$65,C36),""),"") | E36: =IFERROR(D36/SUM($D$30:$D$36),"")
C39: ESTADÍSTICAS DE PARTICIPACIÓN
C41: ÁREA | D41: Cantidad | E41: %
C42: PERSONAS RESPONSABLES DE ESTRATEGIAS | D42: =IF(C42<>"",BASES!V24,"") -> 6 | E42: =IFERROR(D42/SUM($D$42:$D$43),"") -> 0.75
C43: PERSONAS QUE NO SON RESPONSABLES DE ESTRATEGIAS | D43: =IF(C43<>"",MAX(BASES!A25:A65)-BASES!V24,"") -> 2 | E43: =IFERROR(D43/SUM($D$42:$D$43),"") -> 0.25
C44: ÁREAS RESPONSABLES DE ESTRATEGIAS | D44: =COUNT(D30:D36) -> 4 | E44: =IFERROR(D44/SUM($D$44:$D$45),"") -> 0.8
C45: ÁREAS NO RESPONSABLES DE ESTRATEGIAS | D45: =IF(C45<>"",MAX(BASES!A15:A21)-D44,"") -> 1 | E45: =IFERROR(D45/SUM($D$44:$D$45),"") -> 0.2
C50: PERSONAS RESPONSABLES - ACCIONES
C51: ÁREA | D51: ESTR 1 | E51: =CONCATENATE("% ",D51) -> % ESTR 1 | F51: ESTR 2 | G51: =CONCATENATE("% ",F51) -> % ESTR 2 | H51: ESTR 3 | I51: =CONCATENATE("% ",H51) -> % ESTR 3 | J51: ESTR 4 | K51: =CONCATENATE("% ",J51) -> % ESTR 4 | L51: ESTR 5 | M51: =CONCATENATE("% ",L51) -> % ESTR 5 | N51: ESTR 6 | O51: =CONCATENATE("% ",N51) -> % ESTR 6 | P51: ESTR 7 | Q51: =CONCATENATE("% ",P51) -> % ESTR 7
C52: =IF(BASES!B15<>"",BASES!B15,"") -> area 1 | D52: =IF(IF($C52<>"",COUNTIF(BASES!$Y$25:$Y$65,$C52),"")<>0,IF($C52<>"",COUNTIF(BASES!$Y$25:$Y$65,$C52),""),"") -> 2 | E52: =IFERROR(D52/MAX(BASES!$A$24:$A$65),"") -> 0.25 | F52: =IF(IF($C52<>"",COUNTIF(BASES!$AA$25:$AA$65,$C52),"")<>0,IF($C52<>"",COUNTIF(BASES!$AA$25:$AA$65,$C52),""),"") | G52: =IFERROR(F52/MAX(BASES!$A$24:$A$65),"") | H52: =IF(IF($C52<>"",COUNTIF(BASES!$AC$25:$AC$65,$C52),"")<>0,IF($C52<>"",COUNTIF(BASES!$AC$25:$AC$65,$C52),""),"") | I52: =IFERROR(H52/MAX(BASES!$A$24:$A$65),"") | J52: =IF(IF($C52<>"",COUNTIF(BASES!$AE$25:$AE$65,$C52),"")<>0,IF($C52<>"",COUNTIF(BASES!$AE$25:$AE$65,$C52),""),"") | K52: =IFERROR(J52/MAX(BASES!$A$24:$A$65),"") | L52: =IF(IF($C52<>"",COUNTIF(BASES!$AG$25:$AG$65,$C52),"")<>0,IF($C52<>"",COUNTIF(BASES!$AG$25:$AG$65,$C52),""),"") | M52: =IFERROR(L52/MAX(BASES!$A$24:$A$65),"") | N52: =IF(IF($C52<>"",COUNTIF(BASES!$AI$25:$AI$65,$C52),"")<>0,IF($C52<>"",COUNTIF(BASES!$AI$25:$AI$65,$C52),""),"") | O52: =IFERROR(N52/MAX(BASES!$A$24:$A$65),"") | P52: =IF(IF($C52<>"",COUNTIF(BASES!$AK$25:$AK$65,$C52),"")<>0,IF($C52<>"",COUNTIF(BASES!$AK$25:$AK$65,$C52),""),"") | Q52: =IFERROR(P52/MAX(BASES!$A$24:$A$65),"")
C53: =IF(BASES!B16<>"",BASES!B16,"") -> area 2 | D53: =IF(IF($C53<>"",COUNTIF(BASES!$Y$25:$Y$65,$C53),"")<>0,IF($C53<>"",COUNTIF(BASES!$Y$25:$Y$65,$C53),""),"") -> 1 | E53: =IFERROR(D53/MAX(BASES!$A$24:$A$65),"") -> 0.125 | F53: =IF(IF($C53<>"",COUNTIF(BASES!$AA$25:$AA$65,$C53),"")<>0,IF($C53<>"",COUNTIF(BASES!$AA$25:$AA$65,$C53),""),"") | G53: =IFERROR(F53/MAX(BASES!$A$24:$A$65),"") | H53: =IF(IF($C53<>"",COUNTIF(BASES!$AC$25:$AC$65,$C53),"")<>0,IF($C53<>"",COUNTIF(BASES!$AC$25:$AC$65,$C53),""),"") | I53: =IFERROR(H53/MAX(BASES!$A$24:$A$65),"") | J53: =IF(IF($C53<>"",COUNTIF(BASES!$AE$25:$AE$65,$C53),"")<>0,IF($C53<>"",COUNTIF(BASES!$AE$25:$AE$65,$C53),""),"") | K53: =IFERROR(J53/MAX(BASES!$A$24:$A$65),"") | L53: =IF(IF($C53<>"",COUNTIF(BASES!$AG$25:$AG$65,$C53),"")<>0,IF($C53<>"",COUNTIF(BASES!$AG$25:$AG$65,$C53),""),"") | M53: =IFERROR(L53/MAX(BASES!$A$24:$A$65),"") | N53: =IF(IF($C53<>"",COUNTIF(BASES!$AI$25:$AI$65,$C53),"")<>0,IF($C53<>"",COUNTIF(BASES!$AI$25:$AI$65,$C53),""),"") | O53: =IFERROR(N53/MAX(BASES!$A$24:$A$65),"") | P53: =IF(IF($C53<>"",COUNTIF(BASES!$AK$25:$AK$65,$C53),"")<>0,IF($C53<>"",COUNTIF(BASES!$AK$25:$AK$65,$C53),""),"") | Q53: =IFERROR(P53/MAX(BASES!$A$24:$A$65),"")
C54: =IF(BASES!B17<>"",BASES!B17,"") -> area 3 | D54: =IF(IF($C54<>"",COUNTIF(BASES!$Y$25:$Y$65,$C54),"")<>0,IF($C54<>"",COUNTIF(BASES!$Y$25:$Y$65,$C54),""),"") -> 1 | E54: =IFERROR(D54/MAX(BASES!$A$24:$A$65),"") -> 0.125 | F54: =IF(IF($C54<>"",COUNTIF(BASES!$AA$25:$AA$65,$C54),"")<>0,IF($C54<>"",COUNTIF(BASES!$AA$25:$AA$65,$C54),""),"") | G54: =IFERROR(F54/MAX(BASES!$A$24:$A$65),"") | H54: =IF(IF($C54<>"",COUNTIF(BASES!$AC$25:$AC$65,$C54),"")<>0,IF($C54<>"",COUNTIF(BASES!$AC$25:$AC$65,$C54),""),"") | I54: =IFERROR(H54/MAX(BASES!$A$24:$A$65),"") | J54: =IF(IF($C54<>"",COUNTIF(BASES!$AE$25:$AE$65,$C54),"")<>0,IF($C54<>"",COUNTIF(BASES!$AE$25:$AE$65,$C54),""),"") | K54: =IFERROR(J54/MAX(BASES!$A$24:$A$65),"") | L54: =IF(IF($C54<>"",COUNTIF(BASES!$AG$25:$AG$65,$C54),"")<>0,IF($C54<>"",COUNTIF(BASES!$AG$25:$AG$65,$C54),""),"") | M54: =IFERROR(L54/MAX(BASES!$A$24:$A$65),"") | N54: =IF(IF($C54<>"",COUNTIF(BASES!$AI$25:$AI$65,$C54),"")<>0,IF($C54<>"",COUNTIF(BASES!$AI$25:$AI$65,$C54),""),"") | O54: =IFERROR(N54/MAX(BASES!$A$24:$A$65),"") | P54: =IF(IF($C54<>"",COUNTIF(BASES!$AK$25:$AK$65,$C54),"")<>0,IF($C54<>"",COUNTIF(BASES!$AK$25:$AK$65,$C54),""),"") | Q54: =IFERROR(P54/MAX(BASES!$A$24:$A$65),"")
C55: =IF(BASES!B18<>"",BASES!B18,"") -> area 4 | D55: =IF(IF($C55<>"",COUNTIF(BASES!$Y$25:$Y$65,$C55),"")<>0,IF($C55<>"",COUNTIF(BASES!$Y$25:$Y$65,$C55),""),"") -> 1 | E55: =IFERROR(D55/MAX(BASES!$A$24:$A$65),"") -> 0.125 | F55: =IF(IF($C55<>"",COUNTIF(BASES!$AA$25:$AA$65,$C55),"")<>0,IF($C55<>"",COUNTIF(BASES!$AA$25:$AA$65,$C55),""),"") | G55: =IFERROR(F55/MAX(BASES!$A$24:$A$65),"") | H55: =IF(IF($C55<>"",COUNTIF(BASES!$AC$25:$AC$65,$C55),"")<>0,IF($C55<>"",COUNTIF(BASES!$AC$25:$AC$65,$C55),""),"") | I55: =IFERROR(H55/MAX(BASES!$A$24:$A$65),"") | J55: =IF(IF($C55<>"",COUNTIF(BASES!$AE$25:$AE$65,$C55),"")<>0,IF($C55<>"",COUNTIF(BASES!$AE$25:$AE$65,$C55),""),"") | K55: =IFERROR(J55/MAX(BASES!$A$24:$A$65),"") | L55: =IF(IF($C55<>"",COUNTIF(BASES!$AG$25:$AG$65,$C55),"")<>0,IF($C55<>"",COUNTIF(BASES!$AG$25:$AG$65,$C55),""),"") | M55: =IFERROR(L55/MAX(BASES!$A$24:$A$65),"") | N55: =IF(IF($C55<>"",COUNTIF(BASES!$AI$25:$AI$65,$C55),"")<>0,IF($C55<>"",COUNTIF(BASES!$AI$25:$AI$65,$C55),""),"") | O55: =IFERROR(N55/MAX(BASES!$A$24:$A$65),"") | P55: =IF(IF($C55<>"",COUNTIF(BASES!$AK$25:$AK$65,$C55),"")<>0,IF($C55<>"",COUNTIF(BASES!$AK$25:$AK$65,$C55),""),"") | Q55: =IFERROR(P55/MAX(BASES!$A$24:$A$65),"")
C56: =IF(BASES!B19<>"",BASES!B19,"") -> area 5 | D56: =IF(IF($C56<>"",COUNTIF(BASES!$Y$25:$Y$65,$C56),"")<>0,IF($C56<>"",COUNTIF(BASES!$Y$25:$Y$65,$C56),""),"") | E56: =IFERROR(D56/MAX(BASES!$A$24:$A$65),"") | F56: =IF(IF($C56<>"",COUNTIF(BASES!$AA$25:$AA$65,$C56),"")<>0,IF($C56<>"",COUNTIF(BASES!$AA$25:$AA$65,$C56),""),"") | G56: =IFERROR(F56/MAX(BASES!$A$24:$A$65),"") | H56: =IF(IF($C56<>"",COUNTIF(BASES!$AC$25:$AC$65,$C56),"")<>0,IF($C56<>"",COUNTIF(BASES!$AC$25:$AC$65,$C56),""),"") | I56: =IFERROR(H56/MAX(BASES!$A$24:$A$65),"") | J56: =IF(IF($C56<>"",COUNTIF(BASES!$AE$25:$AE$65,$C56),"")<>0,IF($C56<>"",COUNTIF(BASES!$AE$25:$AE$65,$C56),""),"") | K56: =IFERROR(J56/MAX(BASES!$A$24:$A$65),"") | L56: =IF(IF($C56<>"",COUNTIF(BASES!$AG$25:$AG$65,$C56),"")<>0,IF($C56<>"",COUNTIF(BASES!$AG$25:$AG$65,$C56),""),"") | M56: =IFERROR(L56/MAX(BASES!$A$24:$A$65),"") | N56: =IF(IF($C56<>"",COUNTIF(BASES!$AI$25:$AI$65,$C56),"")<>0,IF($C56<>"",COUNTIF(BASES!$AI$25:$AI$65,$C56),""),"") | O56: =IFERROR(N56/MAX(BASES!$A$24:$A$65),"") | P56: =IF(IF($C56<>"",COUNTIF(BASES!$AK$25:$AK$65,$C56),"")<>0,IF($C56<>"",COUNTIF(BASES!$AK$25:$AK$65,$C56),""),"") | Q56: =IFERROR(P56/MAX(BASES!$A$24:$A$65),"")
C57: =IF(BASES!B20<>"",BASES!B20,"") | D57: =IF(IF($C57<>"",COUNTIF(BASES!$Y$25:$Y$65,$C57),"")<>0,IF($C57<>"",COUNTIF(BASES!$Y$25:$Y$65,$C57),""),"") | E57: =IFERROR(D57/MAX(BASES!$A$24:$A$65),"") | F57: =IF(IF($C57<>"",COUNTIF(BASES!$AA$25:$AA$65,$C57),"")<>0,IF($C57<>"",COUNTIF(BASES!$AA$25:$AA$65,$C57),""),"") | G57: =IFERROR(F57/MAX(BASES!$A$24:$A$65),"") | H57: =IF(IF($C57<>"",COUNTIF(BASES!$AC$25:$AC$65,$C57),"")<>0,IF($C57<>"",COUNTIF(BASES!$AC$25:$AC$65,$C57),""),"") | I57: =IFERROR(H57/MAX(BASES!$A$24:$A$65),"") | J57: =IF(IF($C57<>"",COUNTIF(BASES!$AE$25:$AE$65,$C57),"")<>0,IF($C57<>"",COUNTIF(BASES!$AE$25:$AE$65,$C57),""),"") | K57: =IFERROR(J57/MAX(BASES!$A$24:$A$65),"") | L57: =IF(IF($C57<>"",COUNTIF(BASES!$AG$25:$AG$65,$C57),"")<>0,IF($C57<>"",COUNTIF(BASES!$AG$25:$AG$65,$C57),""),"") | M57: =IFERROR(L57/MAX(BASES!$A$24:$A$65),"") | N57: =IF(IF($C57<>"",COUNTIF(BASES!$AI$25:$AI$65,$C57),"")<>0,IF($C57<>"",COUNTIF(BASES!$AI$25:$AI$65,$C57),""),"") | O57: =IFERROR(N57/MAX(BASES!$A$24:$A$65),"") | P57: =IF(IF($C57<>"",COUNTIF(BASES!$AK$25:$AK$65,$C57),"")<>0,IF($C57<>"",COUNTIF(BASES!$AK$25:$AK$65,$C57),""),"") | Q57: =IFERROR(P57/MAX(BASES!$A$24:$A$65),"")
C58: =IF(BASES!B21<>"",BASES!B21,"") | D58: =IF(IF($C58<>"",COUNTIF(BASES!$Y$25:$Y$65,$C58),"")<>0,IF($C58<>"",COUNTIF(BASES!$Y$25:$Y$65,$C58),""),"") | E58: =IFERROR(D58/MAX(BASES!$A$24:$A$65),"") | F58: =IF(IF($C58<>"",COUNTIF(BASES!$AA$25:$AA$65,$C58),"")<>0,IF($C58<>"",COUNTIF(BASES!$AA$25:$AA$65,$C58),""),"") | G58: =IFERROR(F58/MAX(BASES!$A$24:$A$65),"") | H58: =IF(IF($C58<>"",COUNTIF(BASES!$AC$25:$AC$65,$C58),"")<>0,IF($C58<>"",COUNTIF(BASES!$AC$25:$AC$65,$C58),""),"") | I58: =IFERROR(H58/MAX(BASES!$A$24:$A$65),"") | J58: =IF(IF($C58<>"",COUNTIF(BASES!$AE$25:$AE$65,$C58),"")<>0,IF($C58<>"",COUNTIF(BASES!$AE$25:$AE$65,$C58),""),"") | K58: =IFERROR(J58/MAX(BASES!$A$24:$A$65),"") | L58: =IF(IF($C58<>"",COUNTIF(BASES!$AG$25:$AG$65,$C58),"")<>0,IF($C58<>"",COUNTIF(BASES!$AG$25:$AG$65,$C58),""),"") | M58: =IFERROR(L58/MAX(BASES!$A$24:$A$65),"") | N58: =IF(IF($C58<>"",COUNTIF(BASES!$AI$25:$AI$65,$C58),"")<>0,IF($C58<>"",COUNTIF(BASES!$AI$25:$AI$65,$C58),""),"") | O58: =IFERROR(N58/MAX(BASES!$A$24:$A$65),"") | P58: =IF(IF($C58<>"",COUNTIF(BASES!$AK$25:$AK$65,$C58),"")<>0,IF($C58<>"",COUNTIF(BASES!$AK$25:$AK$65,$C58),""),"") | Q58: =IFERROR(P58/MAX(BASES!$A$24:$A$65),"")
C59: TOTAL DE PARTICIPACIÓN EN ACCIONES | D59: =SUM(D52:D58) -> 5 | E59: =IFERROR(D59/MAX(BASES!$A$24:$A$65),"") -> 0.625 | F59: =SUM(F52:F58) -> 0 | G59: =IFERROR(F59/MAX(BASES!$A$24:$A$65),"") -> 0 | H59: =SUM(H52:H58) -> 0 | I59: =IFERROR(H59/MAX(BASES!$A$24:$A$65),"") -> 0 | J59: =SUM(J52:J58) -> 0 | K59: =IFERROR(J59/MAX(BASES!$A$24:$A$65),"") -> 0 | L59: =SUM(L52:L58) -> 0 | M59: =IFERROR(L59/MAX(BASES!$A$24:$A$65),"") -> 0 | N59: =SUM(N52:N58) -> 0 | O59: =IFERROR(N59/MAX(BASES!$A$24:$A$65),"") -> 0 | P59: =SUM(P52:P58) -> 0 | Q59: =IFERROR(P59/MAX(BASES!$A$24:$A$65),"") -> 0
C61: GRÁFICO DE PERSONAS INVOLUCRADAS EN ACCIONES POR DEPARTAMENTOS
C93: ALCANCE DE OBJETIVOS
C94: ÁREA | D94: % AVANCE
C95: =IF(BASES!B6<>"",BASES!B6,"") -> Obj Estrategico 0 | D95: =IF(C95<>"",ESTRATEGIAS!$D$4,"") -> 0.17150101
C96: =IF(BASES!B7<>"",BASES!B7,"") -> Obj Estrategico 1 | D96: =IF(C96<>"",ESTRATEGIAS!$H$4,"") -> 0.22
C97: =IF(BASES!B8<>"",BASES!B8,"") -> Obj Estrategico 2 | D97: =IF(C97<>"",ESTRATEGIAS!$L$4,"") -> 0.54545455
C98: =IF(BASES!B9<>"",BASES!B9,"") -> Obj Estrategico 3 | D98: =IF(C98<>"",ESTRATEGIAS!$P$4,"") -> 0.54545455
C99: =IF(BASES!B10<>"",BASES!B10,"") -> Obj Estrategico 4 | D99: =IF(C99<>"",ESTRATEGIAS!$T$4,"") -> 0.26390293
C100: =IF(BASES!B11<>"",BASES!B11,"") -> Obj Estrategico 5 | D100: =IF(C100<>"",ESTRATEGIAS!$X$4,"") -> 0.39736402
C101: =IF(BASES!B12<>"",BASES!B12,"") | D101: =IF(C101<>"",ESTRATEGIAS!$AB$4,"")

Sheet BASES
A5: Define los objetivos estratégicos | D5: Indica fechas límites | G5: Status
A6: 1 | B6: Obj Estrategico 0 | D6: 1 | E6: 1 | G6: Activo
A7: =IF(B7<>"",A6+1,"") -> 2 | B7: Obj Estrategico 1 | D7: 2 | E7: 2 | G7: Parado
A8: =IF(B8<>"",A7+1,"") -> 3 | B8: Obj Estrategico 2 | D8: 3 | E8: 3 | G8: Alcanzado
A9: =IF(B9<>"",A8+1,"") -> 4 | B9: Obj Estrategico 3 | D9: 4 | E9: 4
A10: =IF(B10<>"",A9+1,"") -> 5 | B10: Obj Estrategico 4 | D10: 5 | E10: 6
A11: =IF(B11<>"",A10+1,"") -> 6 | B11: Obj Estrategico 5 | D11: 6 | E11: 9
A12: =IF(B12<>"",A11+1,"") | D12: 7 | E12: 12
A14: Define áreas de responsabilidad | D14: Indica dedicación necesaria
A15: 1 | B15: area 1 | D15: 1 | E15: 1
A16: =IF(B16<>"",A15+1,"") -> 2 | B16: area 2 | D16: 2 | E16: 3
A17: =IF(B17<>"",A16+1,"") -> 3 | B17: area 3 | D17: 3 | E17: 5
A18: =IF(B18<>"",A17+1,"") -> 4 | B18: area 4 | D18: 4 | E18: 8
A19: =IF(B19<>"",A18+1,"") -> 5 | B19: area 5 | D19: 5 | E19: 10
A20: =IF(B20<>"",A19+1,"") | D20: 6 | E20: 15
A21: =IF(B21<>"",A20+1,"") | D21: 7 | E21: 20
A23: Responsables | C23: Área de trabajo | V23: PRT | W23: EST | X23: PRT TA1 | Y23: TA1 | Z23: PRT TA2 | AA23: TA2 | AB23: PRT TA3 | AC23: TA3 | AD23: PRT TA4 | AE23: TA4 | AF23: PRT TA5 | AG23: TA5 | AH23: PRT TA6 | AI23: TA6 | AJ23: PRT TA7 | AK23: TA7
V24: =COUNT(V25:V65) -> 6 | X24: =COUNT(X25:X65) -> 5 | Z24: =COUNT(Z25:Z65) -> 0 | AB24: =COUNT(AB25:AB65) -> 0 | AD24: =COUNT(AD25:AD65) -> 0 | AF24: =COUNT(AF25:AF65) -> 0 | AH24: =COUNT(AH25:AH65) -> 0 | AJ24: =COUNT(AJ25:AJ65) -> 0
A25: =IF(B25<>"",A24+1,"") -> 1 | B25: responsable 1 | C25: area 1 | V25: =IF(COUNTIF('TABLA DE OBJETIVOS'!$E$6:$E$250,B25)=0,"",COUNTIF('TABLA DE OBJETIVOS'!$E$6:$E$250,B25)) -> 1 | W25: =IF(V25<>"",C25,"") -> area 1 | X25: =IF(COUNTIF('TA1'!$E$6:$E$250,$B25)=0,"",COUNTIF('TA1'!$E$6:$E$250,$B25)) -> 1 | Y25: =IF(X25<>"",$C25,"") -> area 1 | Z25: =IF(COUNTIF('TA2'!$E$6:$E$250,$B25)=0,"",COUNTIF('TA2'!$E$6:$E$250,$B25)) | AA25: =IF(Z25<>"",$C25,"") | AB25: =IF(COUNTIF('TA3'!$E$6:$E$250,$B25)=0,"",COUNTIF('TA3'!$E$6:$E$250,$B25)) | AC25: =IF(AB25<>"",$C25,"") | AD25: =IF(COUNTIF('TA4'!$E$6:$E$250,$B25)=0,"",COUNTIF('TA4'!$E$6:$E$250,$B25)) | AE25: =IF(AD25<>"",$C25,"") | AF25: =IF(COUNTIF('TA5'!$E$6:$E$250,$B25)=0,"",COUNTIF('TA5'!$E$6:$E$250,$B25)) | AG25: =IF(AF25<>"",$C25,"") | AH25: =IF(COUNTIF('TA6'!$E$6:$E$250,$B25)=0,"",COUNTIF('TA6'!$E$6:$E$250,$B25)) | AI25: =IF(AH25<>"",$C25,"") | AJ25: =IF(COUNTIF('TA7'!$E$6:$E$250,$B25)=0,"",COUNTIF('TA7'!$E$6:$E$250,$B25)) | AK25: =IF(AJ25<>"",$C25,"")
A26: =IF(B26<>"",A25+1,"") -> 2 | B26: responsable 2 | C26: area 2 | V26: =IF(COUNTIF('TABLA DE OBJETIVOS'!$E$6:$E$250,B26)=0,"",COUNTIF('TABLA DE OBJETIVOS'!$E$6:$E$250,B26)) -> 2 | W26: =IF(V26<>"",C26,"") -> area 2 | X26: =IF(COUNTIF('TA1'!$E$6:$E$250,$B26)=0,"",COUNTIF('TA1'!$E$6:$E$250,$B26)) -> 1 | Y26: =IF(X26<>"",$C26,"") -> area 2 | Z26: =IF(COUNTIF('TA2'!$E$6:$E$250,$B26)=0,"",COUNTIF('TA2'!$E$6:$E$250,$B26)) | AA26: =IF(Z26<>"",$C26,"") | AB26: =IF(COUNTIF('TA3'!$E$6:$E$250,$B26)=0,"",COUNTIF('TA3'!$E$6:$E$250,$B26)) | AC26: =IF(AB26<>"",$C26,"") | AD26: =IF(COUNTIF('TA4'!$E$6:$E$250,$B26)=0,"",COUNTIF('TA4'!$E$6:$E$250,$B26)) | AE26: =IF(AD26<>"",$C26,"") | AF26: =IF(COUNTIF('TA5'!$E$6:$E$250,$B26)=0,"",COUNTIF('TA5'!$E$6:$E$250,$B26)) | AG26: =IF(AF26<>"",$C26,"") | AH26: =IF(COUNTIF('TA6'!$E$6:$E$250,$B26)=0,"",COUNTIF('TA6'!$E$6:$E$250,$B26)) | AI26: =IF(AH26<>"",$C26,"") | AJ26: =IF(COUNTIF('TA7'!$E$6:$E$250,$B26)=0,"",COUNTIF('TA7'!$E$6:$E$250,$B26)) | AK26: =IF(AJ26<>"",$C26,"")
A27: =IF(B27<>"",A26+1,"") -> 3 | B27: responsable 3 | C27: area 3 | V27: =IF(COUNTIF('TABLA DE OBJETIVOS'!$E$6:$E$250,B27)=0,"",COUNTIF('TABLA DE OBJETIVOS'!$E$6:$E$250,B27)) -> 2 | W27: =IF(V27<>"",C27,"") -> area 3 | X27: =IF(COUNTIF('TA1'!$E$6:$E$250,$B27)=0,"",COUNTIF('TA1'!$E$6:$E$250,$B27)) -> 1 | Y27: =IF(X27<>"",$C27,"") -> area 3 | Z27: =IF(COUNTIF('TA2'!$E$6:$E$250,$B27)=0,"",COUNTIF('TA2'!$E$6:$E$250,$B27)) | AA27: =IF(Z27<>"",$C27,"") | AB27: =IF(COUNTIF('TA3'!$E$6:$E$250,$B27)=0,"",COUNTIF('TA3'!$E$6:$E$250,$B27)) | AC27: =IF(AB27<>"",$C27,"") | AD27: =IF(COUNTIF('TA4'!$E$6:$E$250,$B27)=0,"",COUNTIF('TA4'!$E$6:$E$250,$B27)) | AE27: =IF(AD27<>"",$C27,"") | AF27: =IF(COUNTIF('TA5'!$E$6:$E$250,$B27)=0,"",COUNTIF('TA5'!$E$6:$E$250,$B27)) | AG27: =IF(AF27<>"",$C27,"") | AH27: =IF(COUNTIF('TA6'!$E$6:$E$250,$B27)=0,"",COUNTIF('TA6'!$E$6:$E$250,$B27)) | AI27: =IF(AH27<>"",$C27,"") | AJ27: =IF(COUNTIF('TA7'!$E$6:$E$250,$B27)=0,"",COUNTIF('TA7'!$E$6:$E$250,$B27)) | AK27: =IF(AJ27<>"",$C27,"")
A28: =IF(B28<>"",A27+1,"") -> 4 | B28: responsable 4 | C28: area 4 | V28: =IF(COUNTIF('TABLA DE OBJETIVOS'!$E$6:$E$250,B28)=0,"",COUNTIF('TABLA DE OBJETIVOS'!$E$6:$E$250,B28)) -> 1 | W28: =IF(V28<>"",C28,"") -> area 4 | X28: =IF(COUNTIF('TA1'!$E$6:$E$250,$B28)=0,"",COUNTIF('TA1'!$E$6:$E$250,$B28)) -> 1 | Y28: =IF(X28<>"",$C28,"") -> area 4 | Z28: =IF(COUNTIF('TA2'!$E$6:$E$250,$B28)=0,"",COUNTIF('TA2'!$E$6:$E$250,$B28)) | AA28: =IF(Z28<>"",$C28,"") | AB28: =IF(COUNTIF('TA3'!$E$6:$E$250,$B28)=0,"",COUNTIF('TA3'!$E$6:$E$250,$B28)) | AC28: =IF(AB28<>"",$C28,"") | AD28: =IF(COUNTIF('TA4'!$E$6:$E$250,$B28)=0,"",COUNTIF('TA4'!$E$6:$E$250,$B28)) | AE28: =IF(AD28<>"",$C28,"") | AF28: =IF(COUNTIF('TA5'!$E$6:$E$250,$B28)=0,"",COUNTIF('TA5'!$E$6:$E$250,$B28)) | AG28: =IF(AF28<>"",$C28,"") | AH28: =IF(COUNTIF('TA6'!$E$6:$E$250,$B28)=0,"",COUNTIF('TA6'!$E$6:$E$250,$B28)) | AI28: =IF(AH28<>"",$C28,"") | AJ28: =IF(COUNTIF('TA7'!$E$6:$E$250,$B28)=0,"",COUNTIF('TA7'!$E$6:$E$250,$B28)) | AK28: =IF(AJ28<>"",$C28,"")
A29: =IF(B29<>"",A28+1,"") -> 5 | B29: responsable 5 | C29: area 1 | V29: =IF(COUNTIF('TABLA DE OBJETIVOS'!$E$6:$E$250,B29)=0,"",COUNTIF('TABLA DE OBJETIVOS'!$E$6:$E$250,B29)) -> 1 | W29: =IF(V29<>"",C29,"") -> area 1 | X29: =IF(COUNTIF('TA1'!$E$6:$E$250,$B29)=0,"",COUNTIF('TA1'!$E$6:$E$250,$B29)) -> 1 | Y29: =IF(X29<>"",$C29,"") -> area 1 | Z29: =IF(COUNTIF('TA2'!$E$6:$E$250,$B29)=0,"",COUNTIF('TA2'!$E$6:$E$250,$B29)) | AA29: =IF(Z29<>"",$C29,"") | AB29: =IF(COUNTIF('TA3'!$E$6:$E$250,$B29)=0,"",COUNTIF('TA3'!$E$6:$E$250,$B29)) | AC29: =IF(AB29<>"",$C29,"") | AD29: =IF(COUNTIF('TA4'!$E$6:$E$250,$B29)=0,"",COUNTIF('TA4'!$E$6:$E$250,$B29)) | AE29: =IF(AD29<>"",$C29,"") | AF29: =IF(COUNTIF('TA5'!$E$6:$E$250,$B29)=0,"",COUNTIF('TA5'!$E$6:$E$250,$B29)) | AG29: =IF(AF29<>"",$C29,"") | AH29: =IF(COUNTIF('TA6'!$E$6:$E$250,$B29)=0,"",COUNTIF('TA6'!$E$6:$E$250,$B29)) | AI29: =IF(AH29<>"",$C29,"") | AJ29: =IF(COUNTIF('TA7'!$E$6:$E$250,$B29)=0,"",COUNTIF('TA7'!$E$6:$E$250,$B29)) | AK29: =IF(AJ29<>"",$C29,"")
A30: =IF(B30<>"",A29+1,"") -> 6 | B30: responsable 6 | C30: area 2 | V30: =IF(COUNTIF('TABLA DE OBJETIVOS'!$E$6:$E$250,B30)=0,"",COUNTIF('TABLA DE OBJETIVOS'!$E$6:$E$250,B30)) -> 1 | W30: =IF(V30<>"",C30,"") -> area 2 | X30: =IF(COUNTIF('TA1'!$E$6:$E$250,$B30)=0,"",COUNTIF('TA1'!$E$6:$E$250,$B30)) | Y30: =IF(X30<>"",$C30,"") | Z30: =IF(COUNTIF('TA2'!$E$6:$E$250,$B30)=0,"",COUNTIF('TA2'!$E$6:$E$250,$B30)) | AA30: =IF(Z30<>"",$C30,"") | AB30: =IF(COUNTIF('TA3'!$E$6:$E$250,$B30)=0,"",COUNTIF('TA3'!$E$6:$E$250,$B30)) | AC30: =IF(AB30<>"",$C30,"") | AD30: =IF(COUNTIF('TA4'!$E$6:$E$250,$B30)=0,"",COUNTIF('TA4'!$E$6:$E$250,$B30)) | AE30: =IF(AD30<>"",$C30,"") | AF30: =IF(COUNTIF('TA5'!$E$6:$E$250,$B30)=0,"",COUNTIF('TA5'!$E$6:$E$250,$B30)) | AG30: =IF(AF30<>"",$C30,"") | AH30: =IF(COUNTIF('TA6'!$E$6:$E$250,$B30)=0,"",COUNTIF('TA6'!$E$6:$E$250,$B30)) | AI30: =IF(AH30<>"",$C30,"") | AJ30: =IF(COUNTIF('TA7'!$E$6:$E$250,$B30)=0,"",COUNTIF('TA7'!$E$6:$E$250,$B30)) | AK30: =IF(AJ30<>"",$C30,"")
A31: =IF(B31<>"",A30+1,"") -> 7 | B31: responsable 7 | C31: area 2 | V31: =IF(COUNTIF('TABLA DE OBJETIVOS'!$E$6:$E$250,B31)=0,"",COUNTIF('TABLA DE OBJETIVOS'!$E$6:$E$250,B31)) | W31: =IF(V31<>"",C31,"") | X31: =IF(COUNTIF('TA1'!$E$6:$E$250,$B31)=0,"",COUNTIF('TA1'!$E$6:$E$250,$B31)) | Y31: =IF(X31<>"",$C31,"") | Z31: =IF(COUNTIF('TA2'!$E$6:$E$250,$B31)=0,"",COUNTIF('TA2'!$E$6:$E$250,$B31)) | AA31: =IF(Z31<>"",$C31,"") | AB31: =IF(COUNTIF('TA3'!$E$6:$E$250,$B31)=0,"",COUNTIF('TA3'!$E$6:$E$250,$B31)) | AC31: =IF(AB31<>"",$C31,"") | AD31: =IF(COUNTIF('TA4'!$E$6:$E$250,$B31)=0,"",COUNTIF('TA4'!$E$6:$E$250,$B31)) | AE31: =IF(AD31<>"",$C31,"") | AF31: =IF(COUNTIF('TA5'!$E$6:$E$250,$B31)=0,"",COUNTIF('TA5'!$E$6:$E$250,$B31)) | AG31: =IF(AF31<>"",$C31,"") | AH31: =IF(COUNTIF('TA6'!$E$6:$E$250,$B31)=0,"",COUNTIF('TA6'!$E$6:$E$250,$B31)) | AI31: =IF(AH31<>"",$C31,"") | AJ31: =IF(COUNTIF('TA7'!$E$6:$E$250,$B31)=0,"",COUNTIF('TA7'!$E$6:$E$250,$B31)) | AK31: =IF(AJ31<>"",$C31,"")
A32: =IF(B32<>"",A31+1,"") -> 8 | B32: responsable 8 | C32: area 4 | V32: =IF(COUNTIF('TABLA DE OBJETIVOS'!$E$6:$E$250,B32)=0,"",COUNTIF('TABLA DE OBJETIVOS'!$E$6:$E$250,B32)) | W32: =IF(V32<>"",C32,"") | X32: =IF(COUNTIF('TA1'!$E$6:$E$250,$B32)=0,"",COUNTIF('TA1'!$E$6:$E$250,$B32)) | Y32: =IF(X32<>"",$C32,"") | Z32: =IF(COUNTIF('TA2'!$E$6:$E$250,$B32)=0,"",COUNTIF('TA2'!$E$6:$E$250,$B32)) | AA32: =IF(Z32<>"",$C32,"") | AB32: =IF(COUNTIF('TA3'!$E$6:$E$250,$B32)=0,"",COUNTIF('TA3'!$E$6:$E$250,$B32)) | AC32: =IF(AB32<>"",$C32,"") | AD32: =IF(COUNTIF('TA4'!$E$6:$E$250,$B32)=0,"",COUNTIF('TA4'!$E$6:$E$250,$B32)) | AE32: =IF(AD32<>"",$C32,"") | AF32: =IF(COUNTIF('TA5'!$E$6:$E$250,$B32)=0,"",COUNTIF('TA5'!$E$6:$E$250,$B32)) | AG32: =IF(AF32<>"",$C32,"") | AH32: =IF(COUNTIF('TA6'!$E$6:$E$250,$B32)=0,"",COUNTIF('TA6'!$E$6:$E$250,$B32)) | AI32: =IF(AH32<>"",$C32,"") | AJ32: =IF(COUNTIF('TA7'!$E$6:$E$250,$B32)=0,"",COUNTIF('TA7'!$E$6:$E$250,$B32)) | AK32: =IF(AJ32<>"",$C32,"")
A33: =IF(B33<>"",A32+1,"") | V33: =IF(COUNTIF('TABLA DE OBJETIVOS'!$E$6:$E$250,B33)=0,"",COUNTIF('TABLA DE OBJETIVOS'!$E$6:$E$250,B33)) | W33: =IF(V33<>"",C33,"") | X33: =IF(COUNTIF('TA1'!$E$6:$E$250,$B33)=0,"",COUNTIF('TA1'!$E$6:$E$250,$B33)) | Y33: =IF(X33<>"",$C33,"") | Z33: =IF(COUNTIF('TA2'!$E$6:$E$250,$B33)=0,"",COUNTIF('TA2'!$E$6:$E$250,$B33)) | AA33: =IF(Z33<>"",$C33,"") | AB33: =IF(COUNTIF('TA3'!$E$6:$E$250,$B33)=0,"",COUNTIF('TA3'!$E$6:$E$250,$B33)) | AC33: =IF(AB33<>"",$C33,"") | AD33: =IF(COUNTIF('TA4'!$E$6:$E$250,$B33)=0,"",COUNTIF('TA4'!$E$6:$E$250,$B33)) | AE33: =IF(AD33<>"",$C33,"") | AF33: =IF(COUNTIF('TA5'!$E$6:$E$250,$B33)=0,"",COUNTIF('TA5'!$E$6:$E$250,$B33)) | AG33: =IF(AF33<>"",$C33,"") | AH33: =IF(COUNTIF('TA6'!$E$6:$E$250,$B33)=0,"",COUNTIF('TA6'!$E$6:$E$250,$B33)) | AI33: =IF(AH33<>"",$C33,"") | AJ33: =IF(COUNTIF('TA7'!$E$6:$E$250,$B33)=0,"",COUNTIF('TA7'!$E$6:$E$250,$B33)) | AK33: =IF(AJ33<>"",$C33,"")
A34: =IF(B34<>"",A33+1,"") | V34: =IF(COUNTIF('TABLA DE OBJETIVOS'!$E$6:$E$250,B34)=0,"",COUNTIF('TABLA DE OBJETIVOS'!$E$6:$E$250,B34)) | W34: =IF(V34<>"",C34,"") | X34: =IF(COUNTIF('TA1'!$E$6:$E$250,$B34)=0,"",COUNTIF('TA1'!$E$6:$E$250,$B34)) | Y34: =IF(X34<>"",$C34,"") | Z34: =IF(COUNTIF('TA2'!$E$6:$E$250,$B34)=0,"",COUNTIF('TA2'!$E$6:$E$250,$B34)) | AA34: =IF(Z34<>"",$C34,"") | AB34: =IF(COUNTIF('TA3'!$E$6:$E$250,$B34)=0,"",COUNTIF('TA3'!$E$6:$E$250,$B34)) | AC34: =IF(AB34<>"",$C34,"") | AD34: =IF(COUNTIF('TA4'!$E$6:$E$250,$B34)=0,"",COUNTIF('TA4'!$E$6:$E$250,$B34)) | AE34: =IF(AD34<>"",$C34,"") | AF34: =IF(COUNTIF('TA5'!$E$6:$E$250,$B34)=0,"",COUNTIF('TA5'!$E$6:$E$250,$B34)) | AG34: =IF(AF34<>"",$C34,"") | AH34: =IF(COUNTIF('TA6'!$E$6:$E$250,$B34)=0,"",COUNTIF('TA6'!$E$6:$E$250,$B34)) | AI34: =IF(AH34<>"",$C34,"") | AJ34: =IF(COUNTIF('TA7'!$E$6:$E$250,$B34)=0,"",COUNTIF('TA7'!$E$6:$E$250,$B34)) | AK34: =IF(AJ34<>"",$C34,"")
A35: =IF(B35<>"",A34+1,"") | V35: =IF(COUNTIF('TABLA DE OBJETIVOS'!$E$6:$E$250,B35)=0,"",COUNTIF('TABLA DE OBJETIVOS'!$E$6:$E$250,B35)) | W35: =IF(V35<>"",C35,"") | X35: =IF(COUNTIF('TA1'!$E$6:$E$250,$B35)=0,"",COUNTIF('TA1'!$E$6:$E$250,$B35)) | Y35: =IF(X35<>"",$C35,"") | Z35: =IF(COUNTIF('TA2'!$E$6:$E$250,$B35)=0,"",COUNTIF('TA2'!$E$6:$E$250,$B35)) | AA35: =IF(Z35<>"",$C35,"") | AB35: =IF(COUNTIF('TA3'!$E$6:$E$250,$B35)=0,"",COUNTIF('TA3'!$E$6:$E$250,$B35)) | AC35: =IF(AB35<>"",$C35,"") | AD35: =IF(COUNTIF('TA4'!$E$6:$E$250,$B35)=0,"",COUNTIF('TA4'!$E$6:$E$250,$B35)) | AE35: =IF(AD35<>"",$C35,"") | AF35: =IF(COUNTIF('TA5'!$E$6:$E$250,$B35)=0,"",COUNTIF('TA5'!$E$6:$E$250,$B35)) | AG35: =IF(AF35<>"",$C35,"") | AH35: =IF(COUNTIF('TA6'!$E$6:$E$250,$B35)=0,"",COUNTIF('TA6'!$E$6:$E$250,$B35)) | AI35: =IF(AH35<>"",$C35,"") | AJ35: =IF(COUNTIF('TA7'!$E$6:$E$250,$B35)=0,"",COUNTIF('TA7'!$E$6:$E$250,$B35)) | AK35: =IF(AJ35<>"",$C35,"")
A36: =IF(B36<>"",A35+1,"") | V36: =IF(COUNTIF('TABLA DE OBJETIVOS'!$E$6:$E$250,B36)=0,"",COUNTIF('TABLA DE OBJETIVOS'!$E$6:$E$250,B36)) | W36: =IF(V36<>"",C36,"") | X36: =IF(COUNTIF('TA1'!$E$6:$E$250,$B36)=0,"",COUNTIF('TA1'!$E$6:$E$250,$B36)) | Y36: =IF(X36<>"",$C36,"") | Z36: =IF(COUNTIF('TA2'!$E$6:$E$250,$B36)=0,"",COUNTIF('TA2'!$E$6:$E$250,$B36)) | AA36: =IF(Z36<>"",$C36,"") | AB36: =IF(COUNTIF('TA3'!$E$6:$E$250,$B36)=0,"",COUNTIF('TA3'!$E$6:$E$250,$B36)) | AC36: =IF(AB36<>"",$C36,"") | AD36: =IF(COUNTIF('TA4'!$E$6:$E$250,$B36)=0,"",COUNTIF('TA4'!$E$6:$E$250,$B36)) | AE36: =IF(AD36<>"",$C36,"") | AF36: =IF(COUNTIF('TA5'!$E$6:$E$250,$B36)=0,"",COUNTIF('TA5'!$E$6:$E$250,$B36)) | AG36: =IF(AF36<>"",$C36,"") | AH36: =IF(COUNTIF('TA6'!$E$6:$E$250,$B36)=0,"",COUNTIF('TA6'!$E$6:$E$250,$B36)) | AI36: =IF(AH36<>"",$C36,"") | AJ36: =IF(COUNTIF('TA7'!$E$6:$E$250,$B36)=0,"",COUNTIF('TA7'!$E$6:$E$250,$B36)) | AK36: =IF(AJ36<>"",$C36,"")
A37: =IF(B37<>"",A36+1,"") | V37: =IF(COUNTIF('TABLA DE OBJETIVOS'!$E$6:$E$250,B37)=0,"",COUNTIF('TABLA DE OBJETIVOS'!$E$6:$E$250,B37)) | W37: =IF(V37<>"",C37,"") | X37: =IF(COUNTIF('TA1'!$E$6:$E$250,$B37)=0,"",COUNTIF('TA1'!$E$6:$E$250,$B37)) | Y37: =IF(X37<>"",$C37,"") | Z37: =IF(COUNTIF('TA2'!$E$6:$E$250,$B37)=0,"",COUNTIF('TA2'!$E$6:$E$250,$B37)) | AA37: =IF(Z37<>"",$C37,"") | AB37: =IF(COUNTIF('TA3'!$E$6:$E$250,$B37)=0,"",COUNTIF('TA3'!$E$6:$E$250,$B37)) | AC37: =IF(AB37<>"",$C37,"") | AD37: =IF(COUNTIF('TA4'!$E$6:$E$250,$B37)=0,"",COUNTIF('TA4'!$E$6:$E$250,$B37)) | AE37: =IF(AD37<>"",$C37,"") | AF37: =IF(COUNTIF('TA5'!$E$6:$E$250,$B37)=0,"",COUNTIF('TA5'!$E$6:$E$250,$B37)) | AG37: =IF(AF37<>"",$C37,"") | AH37: =IF(COUNTIF('TA6'!$E$6:$E$250,$B37)=0,"",COUNTIF('TA6'!$E$6:$E$250,$B37)) | AI37: =IF(AH37<>"",$C37,"") | AJ37: =IF(COUNTIF('TA7'!$E$6:$E$250,$B37)=0,"",COUNTIF('TA7'!$E$6:$E$250,$B37)) | AK37: =IF(AJ37<>"",$C37,"")
A38: =IF(B38<>"",A37+1,"") | V38: =IF(COUNTIF('TABLA DE OBJETIVOS'!$E$6:$E$250,B38)=0,"",COUNTIF('TABLA DE OBJETIVOS'!$E$6:$E$250,B38)) | W38: =IF(V38<>"",C38,"") | X38: =IF(COUNTIF('TA1'!$E$6:$E$250,$B38)=0,"",COUNTIF('TA1'!$E$6:$E$250,$B38)) | Y38: =IF(X38<>"",$C38,"") | Z38: =IF(COUNTIF('TA2'!$E$6:$E$250,$B38)=0,"",COUNTIF('TA2'!$E$6:$E$250,$B38)) | AA38: =IF(Z38<>"",$C38,"") | AB38: =IF(COUNTIF('TA3'!$E$6:$E$250,$B38)=0,"",COUNTIF('TA3'!$E$6:$E$250,$B38)) | AC38: =IF(AB38<>"",$C38,"") | AD38: =IF(COUNTIF('TA4'!$E$6:$E$250,$B38)=0,"",COUNTIF('TA4'!$E$6:$E$250,$B38)) | AE38: =IF(AD38<>"",$C38,"") | AF38: =IF(COUNTIF('TA5'!$E$6:$E$250,$B38)=0,"",COUNTIF('TA5'!$E$6:$E$250,$B38)) | AG38: =IF(AF38<>"",$C38,"") | AH38: =IF(COUNTIF('TA6'!$E$6:$E$250,$B38)=0,"",COUNTIF('TA6'!$E$6:$E$250,$B38)) | AI38: =IF(AH38<>"",$C38,"") | AJ38: =IF(COUNTIF('TA7'!$E$6:$E$250,$B38)=0,"",COUNTIF('TA7'!$E$6:$E$250,$B38)) | AK38: =IF(AJ38<>"",$C38,"")
A39: =IF(B39<>"",A38+1,"") | V39: =IF(COUNTIF('TABLA DE OBJETIVOS'!$E$6:$E$250,B39)=0,"",COUNTIF('TABLA DE OBJETIVOS'!$E$6:$E$250,B39)) | W39: =IF(V39<>"",C39,"") | X39: =IF(COUNTIF('TA1'!$E$6:$E$250,$B39)=0,"",COUNTIF('TA1'!$E$6:$E$250,$B39)) | Y39: =IF(X39<>"",$C39,"") | Z39: =IF(COUNTIF('TA2'!$E$6:$E$250,$B39)=0,"",COUNTIF('TA2'!$E$6:$E$250,$B39)) | AA39: =IF(Z39<>"",$C39,"") | AB39: =IF(COUNTIF('TA3'!$E$6:$E$250,$B39)=0,"",COUNTIF('TA3'!$E$6:$E$250,$B39)) | AC39: =IF(AB39<>"",$C39,"") | AD39: =IF(COUNTIF('TA4'!$E$6:$E$250,$B39)=0,"",COUNTIF('TA4'!$E$6:$E$250,$B39)) | AE39: =IF(AD39<>"",$C39,"") | AF39: =IF(COUNTIF('TA5'!$E$6:$E$250,$B39)=0,"",COUNTIF('TA5'!$E$6:$E$250,$B39)) | AG39: =IF(AF39<>"",$C39,"") | AH39: =IF(COUNTIF('TA6'!$E$6:$E$250,$B39)=0,"",COUNTIF('TA6'!$E$6:$E$250,$B39)) | AI39: =IF(AH39<>"",$C39,"") | AJ39: =IF(COUNTIF('TA7'!$E$6:$E$250,$B39)=0,"",COUNTIF('TA7'!$E$6:$E$250,$B39)) | AK39: =IF(AJ39<>"",$C39,"")
A40: =IF(B40<>"",A39+1,"") | V40: =IF(COUNTIF('TABLA DE OBJETIVOS'!$E$6:$E$250,B40)=0,"",COUNTIF('TABLA DE OBJETIVOS'!$E$6:$E$250,B40)) | W40: =IF(V40<>"",C40,"") | X40: =IF(COUNTIF('TA1'!$E$6:$E$250,$B40)=0,"",COUNTIF('TA1'!$E$6:$E$250,$B40)) | Y40: =IF(X40<>"",$C40,"") | Z40: =IF(COUNTIF('TA2'!$E$6:$E$250,$B40)=0,"",COUNTIF('TA2'!$E$6:$E$250,$B40)) | AA40: =IF(Z40<>"",$C40,"") | AB40: =IF(COUNTIF('TA3'!$E$6:$E$250,$B40)=0,"",COUNTIF('TA3'!$E$6:$E$250,$B40)) | AC40: =IF(AB40<>"",$C40,"") | AD40: =IF(COUNTIF('TA4'!$E$6:$E$250,$B40)=0,"",COUNTIF('TA4'!$E$6:$E$250,$B40)) | AE40: =IF(AD40<>"",$C40,"") | AF40: =IF(COUNTIF('TA5'!$E$6:$E$250,$B40)=0,"",COUNTIF('TA5'!$E$6:$E$250,$B40)) | AG40: =IF(AF40<>"",$C40,"") | AH40: =IF(COUNTIF('TA6'!$E$6:$E$250,$B40)=0,"",COUNTIF('TA6'!$E$6:$E$250,$B40)) | AI40: =IF(AH40<>"",$C40,"") | AJ40: =IF(COUNTIF('TA7'!$E$6:$E$250,$B40)=0,"",COUNTIF('TA7'!$E$6:$E$250,$B40)) | AK40: =IF(AJ40<>"",$C40,"")
A41: =IF(B41<>"",A40+1,"") | V41: =IF(COUNTIF('TABLA DE OBJETIVOS'!$E$6:$E$250,B41)=0,"",COUNTIF('TABLA DE OBJETIVOS'!$E$6:$E$250,B41)) | W41: =IF(V41<>"",C41,"") | X41: =IF(COUNTIF('TA1'!$E$6:$E$250,$B41)=0,"",COUNTIF('TA1'!$E$6:$E$250,$B41)) | Y41: =IF(X41<>"",$C41,"") | Z41: =IF(COUNTIF('TA2'!$E$6:$E$250,$B41)=0,"",COUNTIF('TA2'!$E$6:$E$250,$B41)) | AA41: =IF(Z41<>"",$C41,"") | AB41: =IF(COUNTIF('TA3'!$E$6:$E$250,$B41)=0,"",COUNTIF('TA3'!$E$6:$E$250,$B41)) | AC41: =IF(AB41<>"",$C41,"") | AD41: =IF(COUNTIF('TA4'!$E$6:$E$250,$B41)=0,"",COUNTIF('TA4'!$E$6:$E$250,$B41)) | AE41: =IF(AD41<>"",$C41,"") | AF41: =IF(COUNTIF('TA5'!$E$6:$E$250,$B41)=0,"",COUNTIF('TA5'!$E$6:$E$250,$B41)) | AG41: =IF(AF41<>"",$C41,"") | AH41: =IF(COUNTIF('TA6'!$E$6:$E$250,$B41)=0,"",COUNTIF('TA6'!$E$6:$E$250,$B41)) | AI41: =IF(AH41<>"",$C41,"") | AJ41: =IF(COUNTIF('TA7'!$E$6:$E$250,$B41)=0,"",COUNTIF('TA7'!$E$6:$E$250,$B41)) | AK41: =IF(AJ41<>"",$C41,"")
A42: =IF(B42<>"",A41+1,"") | V42: =IF(COUNTIF('TABLA DE OBJETIVOS'!$E$6:$E$250,B42)=0,"",COUNTIF('TABLA DE OBJETIVOS'!$E$6:$E$250,B42)) | W42: =IF(V42<>"",C42,"") | X42: =IF(COUNTIF('TA1'!$E$6:$E$250,$B42)=0,"",COUNTIF('TA1'!$E$6:$E$250,$B42)) | Y42: =IF(X42<>"",$C42,"") | Z42: =IF(COUNTIF('TA2'!$E$6:$E$250,$B42)=0,"",COUNTIF('TA2'!$E$6:$E$250,$B42)) | AA42: =IF(Z42<>"",$C42,"") | AB42: =IF(COUNTIF('TA3'!$E$6:$E$250,$B42)=0,"",COUNTIF('TA3'!$E$6:$E$250,$B42)) | AC42: =IF(AB42<>"",$C42,"") | AD42: =IF(COUNTIF('TA4'!$E$6:$E$250,$B42)=0,"",COUNTIF('TA4'!$E$6:$E$250,$B42)) | AE42: =IF(AD42<>"",$C42,"") | AF42: =IF(COUNTIF('TA5'!$E$6:$E$250,$B42)=0,"",COUNTIF('TA5'!$E$6:$E$250,$B42)) | AG42: =IF(AF42<>"",$C42,"") | AH42: =IF(COUNTIF('TA6'!$E$6:$E$250,$B42)=0,"",COUNTIF('TA6'!$E$6:$E$250,$B42)) | AI42: =IF(AH42<>"",$C42,"") | AJ42: =IF(COUNTIF('TA7'!$E$6:$E$250,$B42)=0,"",COUNTIF('TA7'!$E$6:$E$250,$B42)) | AK42: =IF(AJ42<>"",$C42,"")
A43: =IF(B43<>"",A42+1,"") | V43: =IF(COUNTIF('TABLA DE OBJETIVOS'!$E$6:$E$250,B43)=0,"",COUNTIF('TABLA DE OBJETIVOS'!$E$6:$E$250,B43)) | W43: =IF(V43<>"",C43,"") | X43: =IF(COUNTIF('TA1'!$E$6:$E$250,$B43)=0,"",COUNTIF('TA1'!$E$6:$E$250,$B43)) | Y43: =IF(X43<>"",$C43,"") | Z43: =IF(COUNTIF('TA2'!$E$6:$E$250,$B43)=0,"",COUNTIF('TA2'!$E$6:$E$250,$B43)) | AA43: =IF(Z43<>"",$C43,"") | AB43: =IF(COUNTIF('TA3'!$E$6:$E$250,$B43)=0,"",COUNTIF('TA3'!$E$6:$E$250,$B43)) | AC43: =IF(AB43<>"",$C43,"") | AD43: =IF(COUNTIF('TA4'!$E$6:$E$250,$B43)=0,"",COUNTIF('TA4'!$E$6:$E$250,$B43)) | AE43: =IF(AD43<>"",$C43,"") | AF43: =IF(COUNTIF('TA5'!$E$6:$E$250,$B43)=0,"",COUNTIF('TA5'!$E$6:$E$250,$B43)) | AG43: =IF(AF43<>"",$C43,"") | AH43: =IF(COUNTIF('TA6'!$E$6:$E$250,$B43)=0,"",COUNTIF('TA6'!$E$6:$E$250,$B43)) | AI43: =IF(AH43<>"",$C43,"") | AJ43: =IF(COUNTIF('TA7'!$E$6:$E$250,$B43)=0,"",COUNTIF('TA7'!$E$6:$E$250,$B43)) | AK43: =IF(AJ43<>"",$C43,"")
A44: =IF(B44<>"",A43+1,"") | V44: =IF(COUNTIF('TABLA DE OBJETIVOS'!$E$6:$E$250,B44)=0,"",COUNTIF('TABLA DE OBJETIVOS'!$E$6:$E$250,B44)) | W44: =IF(V44<>"",C44,"") | X44: =IF(COUNTIF('TA1'!$E$6:$E$250,$B44)=0,"",COUNTIF('TA1'!$E$6:$E$250,$B44)) | Y44: =IF(X44<>"",$C44,"") | Z44: =IF(COUNTIF('TA2'!$E$6:$E$250,$B44)=0,"",COUNTIF('TA2'!$E$6:$E$250,$B44)) | AA44: =IF(Z44<>"",$C44,"") | AB44: =IF(COUNTIF('TA3'!$E$6:$E$250,$B44)=0,"",COUNTIF('TA3'!$E$6:$E$250,$B44)) | AC44: =IF(AB44<>"",$C44,"") | AD44: =IF(COUNTIF('TA4'!$E$6:$E$250,$B44)=0,"",COUNTIF('TA4'!$E$6:$E$250,$B44)) | AE44: =IF(AD44<>"",$C44,"") | AF44: =IF(COUNTIF('TA5'!$E$6:$E$250,$B44)=0,"",COUNTIF('TA5'!$E$6:$E$250,$B44)) | AG44: =IF(AF44<>"",$C44,"") | AH44: =IF(COUNTIF('TA6'!$E$6:$E$250,$B44)=0,"",COUNTIF('TA6'!$E$6:$E$250,$B44)) | AI44: =IF(AH44<>"",$C44,"") | AJ44: =IF(COUNTIF('TA7'!$E$6:$E$250,$B44)=0,"",COUNTIF('TA7'!$E$6:$E$250,$B44)) | AK44: =IF(AJ44<>"",$C44,"")
... A65: =IF(B65<>"",A64+1,"") | V65: =IF(COUNTIF('TABLA DE OBJETIVOS'!$E$6:$E$250,B65)=0,"",COUNTIF('TABLA DE OBJETIVOS'!$E$6:$E$250,B65)) | W65: =IF(V65<>"",C65,"") | X65: =IF(COUNTIF('TA1'!$E$6:$E$250,$B65)=0,"",COUNTIF('TA1'!$E$6:$E$250,$B65)) | Y65: =IF(X65<>"",$C65,"") | Z65: =IF(COUNTIF('TA2'!$E$6:$E$250,$B65)=0,"",COUNTIF('TA2'!$E$6:$E$250,$B65)) | AA65: =IF(Z65<>"",$C65,"") | AB65: =IF(COUNTIF('TA3'!$E$6:$E$250,$B65)=0,"",COUNTIF('TA3'!$E$6:$E$250,$B65)) | AC65: =IF(AB65<>"",$C65,"") | AD65: =IF(COUNTIF('TA4'!$E$6:$E$250,$B65)=0,"",COUNTIF('TA4'!$E$6:$E$250,$B65)) | AE65: =IF(AD65<>"",$C65,"") | AF65: =IF(COUNTIF('TA5'!$E$6:$E$250,$B65)=0,"",COUNTIF('TA5'!$E$6:$E$250,$B65)) | AG65: =IF(AF65<>"",$C65,"") | AH65: =IF(COUNTIF('TA6'!$E$6:$E$250,$B65)=0,"",COUNTIF('TA6'!$E$6:$E$250,$B65)) | AI65: =IF(AH65<>"",$C65,"") | AJ65: =IF(COUNTIF('TA7'!$E$6:$E$250,$B65)=0,"",COUNTIF('TA7'!$E$6:$E$250,$B65)) | AK65: =IF(AJ65<>"",$C65,"")

Sheet ACCIONES
B5: Objetivo 1 | C5: =IF(BASES!B6<>"",BASES!B6,"") -> Obj Estrategico 0
B6: Objetivo 2 | C6: =IF(BASES!B7<>"",BASES!B7,"") -> Obj Estrategico 1
B7: Objetivo 3 | C7: =IF(BASES!B8<>"",BASES!B8,"") -> Obj Estrategico 2
B8: Objetivo 4 | C8: =IF(BASES!B9<>"",BASES!B9,"") -> Obj Estrategico 3
B9: Objetivo 5 | C9: =IF(BASES!B10<>"",BASES!B10,"") -> Obj Estrategico 4
B10: Objetivo 6 | C10: =IF(BASES!B11<>"",BASES!B11,"") -> Obj Estrategico 5
B11: Objetivo 7 | C11: =IF(BASES!B12<>"",BASES!B12,"")

Sheet ESTRATEGIAS
C4: =SUM(C7:C31) -> 1 | D4: =SUM(D7:D31) -> 0.17150101 | G4: =SUM(G7:G31) -> 1 | H4: =SUM(H7:H31) -> 0.22 | K4: =SUM(K7:K31) -> 1 | L4: =SUM(L7:L31) -> 0.54545455 | O4: =SUM(O7:O31) -> 1 | P4: =SUM(P7:P31) -> 0.54545455 | S4: =SUM(S7:S31) -> 1 | T4: =SUM(T7:T31) -> 0.26390293 | W4: =SUM(W7:W31) -> 1 | X4: =SUM(X7:X31) -> 0.39736402 | AA4: =SUM(AA7:AA31) -> 0 | AB4: =SUM(AB7:AB31) -> 0
A5: Objetivo 1 | B5: =IF(BASES!B6<>"",BASES!B6,"") -> Obj Estrategico 0 | C5: Peso sobre el objetivo (%) | D5: (%) | E5: Objetivo 2 | F5: =IF(BASES!B7<>"",BASES!B7,"") -> Obj Estrategico 1 | G5: Peso sobre el objetivo (%) | H5: (%) | I5: Objetivo 3 | J5: =IF(BASES!B8<>"",BASES!B8,"") -> Obj Estrategico 2 | K5: Peso sobre el objetivo (%) | L5: (%) | M5: Objetivo 4 | N5: =IF(BASES!B9<>"",BASES!B9,"") -> Obj Estrategico 3 | O5: Peso sobre el objetivo (%) | P5: (%) | Q5: Objetivo 5 | R5: =IF(BASES!B10<>"",BASES!B10,"") -> Obj Estrategico 4 | S5: Peso sobre el objetivo (%) | T5: (%) | U5: Objetivo 6 | V5: =IF(BASES!B11<>"",BASES!B11,"") -> Obj Estrategico 5 | W5: Peso sobre el objetivo (%) | X5: (%) | Y5: Objetivo 7 | Z5: =IF(BASES!B12<>"",BASES!B12,"") | AA5: Peso sobre el objetivo (%) | AB5: (%)
A7: 1 | B7: =IFERROR(VLOOKUP(A7,'A1 estrategias'!X$4:Z$28,3,0),"") -> Estrategia 0 | C7: 0.33 | D7: =IF(B7<>"",C7*VLOOKUP(B7,'TABLA DE OBJETIVOS'!$G$6:$P$250,9,0),"") -> 0.1089 | E7: 1 | F7: =IFERROR(VLOOKUP(E7,'A1 estrategias'!AA$4:AC$28,3,0),"") -> Estrategia 1 | G7: 1 | H7: =IF(F7<>"",G7*VLOOKUP(F7,'TABLA DE OBJETIVOS'!$G$6:$P$250,9,0),"") -> 0.22 | I7: 1 | J7: =IFERROR(VLOOKUP(I7,'A1 estrategias'!AD$4:AF$28,3,0),"") -> Estrategia 2 | K7: 1 | L7: =IF(J7<>"",K7*VLOOKUP(J7,'TABLA DE OBJETIVOS'!$G$6:$P$250,9,0),"") -> 0.54545455 | M7: 1 | N7: =IFERROR(VLOOKUP(M7,'A1 estrategias'!AG$4:AI$28,3,0),"") -> Estrategia 3 | O7: 1 | P7: =IF(N7<>"",O7*VLOOKUP(N7,'TABLA DE OBJETIVOS'!$G$6:$P$250,9,0),"") -> 0.54545455 | Q7: 1 | R7: =IFERROR(VLOOKUP(Q7,'A1 estrategias'!AJ$4:AL$28,3,0),"") -> Estrategia 4 | S7: 1 | T7: =IF(R7<>"",S7*VLOOKUP(R7,'TABLA DE OBJETIVOS'!$G$6:$P$250,9,0),"") -> 0.26390293 | U7: 1 | V7: =IFERROR(VLOOKUP(U7,'A1 estrategias'!AM$4:AO$28,3,0),"") -> Estrategia 5 | W7: 0.6 | X7: =IF(V7<>"",W7*VLOOKUP(V7,'TABLA DE OBJETIVOS'!$G$6:$P$250,9,0),"") -> 0.23 | Y7: 1 | Z7: =IFERROR(VLOOKUP(Y7,'A1 estrategias'!AP$4:AR$28,3,0),"") | AB7: =IF(Z7<>"",AA7*VLOOKUP(Z7,'TABLA DE OBJETIVOS'!$G$6:$P$250,9,0),"")
A8: 2 | B8: =IFERROR(VLOOKUP(A8,'A1 estrategias'!X$4:Z$28,3,0),"") -> Estrategia 7 | C8: 0.67 | D8: =IF(B8<>"",C8*VLOOKUP(B8,'TABLA DE OBJETIVOS'!$G$6:$P$250,9,0),"") -> 0.06260101 | E8: 2 | F8: =IFERROR(VLOOKUP(E8,'A1 estrategias'!AA$4:AC$28,3,0),"") | H8: =IF(F8<>"",G8*VLOOKUP(F8,'TABLA DE OBJETIVOS'!$G$6:$P$250,9,0),"") | I8: 2 | J8: =IFERROR(VLOOKUP(I8,'A1 estrategias'!AD$4:AF$28,3,0),"") | L8: =IF(J8<>"",K8*VLOOKUP(J8,'TABLA DE OBJETIVOS'!$G$6:$P$250,9,0),"") | M8: 2 | N8: =IFERROR(VLOOKUP(M8,'A1 estrategias'!AG$4:AI$28,3,0),"") | P8: =IF(N8<>"",O8*VLOOKUP(N8,'TABLA DE OBJETIVOS'!$G$6:$P$250,9,0),"") | Q8: 2 | R8: =IFERROR(VLOOKUP(Q8,'A1 estrategias'!AJ$4:AL$28,3,0),"") | T8: =IF(R8<>"",S8*VLOOKUP(R8,'TABLA DE OBJETIVOS'!$G$6:$P$250,9,0),"") | U8: 2 | V8: =IFERROR(VLOOKUP(U8,'A1 estrategias'!AM$4:AO$28,3,0),"") -> Estrategia 6 | W8: 0.4 | X8: =IF(V8<>"",W8*VLOOKUP(V8,'TABLA DE OBJETIVOS'!$G$6:$P$250,9,0),"") -> 0.16736402 | Y8: 2 | Z8: =IFERROR(VLOOKUP(Y8,'A1 estrategias'!AP$4:AR$28,3,0),"") | AB8: =IF(Z8<>"",AA8*VLOOKUP(Z8,'TABLA DE OBJETIVOS'!$G$6:$P$250,9,0),"")
A9: 3 | B9: =IFERROR(VLOOKUP(A9,'A1 estrategias'!X$4:Z$28,3,0),"") | D9: =IF(B9<>"",C9*VLOOKUP(B9,'TABLA DE OBJETIVOS'!$G$6:$P$250,9,0),"") | E9: 3 | F9: =IFERROR(VLOOKUP(E9,'A1 estrategias'!AA$4:AC$28,3,0),"") | H9: =IF(F9<>"",G9*VLOOKUP(F9,'TABLA DE OBJETIVOS'!$G$6:$P$250,9,0),"") | I9: 3 | J9: =IFERROR(VLOOKUP(I9,'A1 estrategias'!AD$4:AF$28,3,0),"") | L9: =IF(J9<>"",K9*VLOOKUP(J9,'TABLA DE OBJETIVOS'!$G$6:$P$250,9,0),"") | M9: 3 | N9: =IFERROR(VLOOKUP(M9,'A1 estrategias'!AG$4:AI$28,3,0),"") | P9: =IF(N9<>"",O9*VLOOKUP(N9,'TABLA DE OBJETIVOS'!$G$6:$P$250,9,0),"") | Q9: 3 | R9: =IFERROR(VLOOKUP(Q9,'A1 estrategias'!AJ$4:AL$28,3,0),"") | T9: =IF(R9<>"",S9*VLOOKUP(R9,'TABLA DE OBJETIVOS'!$G$6:$P$250,9,0),"") | U9: 3 | V9: =IFERROR(VLOOKUP(U9,'A1 estrategias'!AM$4:AO$28,3,0),"") | X9: =IF(V9<>"",W9*VLOOKUP(V9,'TABLA DE OBJETIVOS'!$G$6:$P$250,9,0),"") | Y9: 3 | Z9: =IFERROR(VLOOKUP(Y9,'A1 estrategias'!AP$4:AR$28,3,0),"") | AB9: =IF(Z9<>"",AA9*VLOOKUP(Z9,'TABLA DE OBJETIVOS'!$G$6:$P$250,9,0),"")
A10: 4 | B10: =IFERROR(VLOOKUP(A10,'A1 estrategias'!X$4:Z$28,3,0),"") | D10: =IF(B10<>"",C10*VLOOKUP(B10,'TABLA DE OBJETIVOS'!$G$6:$P$250,9,0),"") | E10: 4 | F10: =IFERROR(VLOOKUP(E10,'A1 estrategias'!AA$4:AC$28,3,0),"") | H10: =IF(F10<>"",G10*VLOOKUP(F10,'TABLA DE OBJETIVOS'!$G$6:$P$250,9,0),"") | I10: 4 | J10: =IFERROR(VLOOKUP(I10,'A1 estrategias'!AD$4:AF$28,3,0),"") | L10: =IF(J10<>"",K10*VLOOKUP(J10,'TABLA DE OBJETIVOS'!$G$6:$P$250,9,0),"") | M10: 4 | N10: =IFERROR(VLOOKUP(M10,'A1 estrategias'!AG$4:AI$28,3,0),"") | P10: =IF(N10<>"",O10*VLOOKUP(N10,'TABLA DE OBJETIVOS'!$G$6:$P$250,9,0),"") | Q10: 4 | R10: =IFERROR(VLOOKUP(Q10,'A1 estrategias'!AJ$4:AL$28,3,0),"") | T10: =IF(R10<>"",S10*VLOOKUP(R10,'TABLA DE OBJETIVOS'!$G$6:$P$250,9,0),"") | U10: 4 | V10: =IFERROR(VLOOKUP(U10,'A1 estrategias'!AM$4:AO$28,3,0),"") | X10: =IF(V10<>"",W10*VLOOKUP(V10,'TABLA DE OBJETIVOS'!$G$6:$P$250,9,0),"") | Y10: 4 | Z10: =IFERROR(VLOOKUP(Y10,'A1 estrategias'!AP$4:AR$28,3,0),"") | AB10: =IF(Z10<>"",AA10*VLOOKUP(Z10,'TABLA DE OBJETIVOS'!$G$6:$P$250,9,0),"")
A11: 5 | B11: =IFERROR(VLOOKUP(A11,'A1 estrategias'!X$4:Z$28,3,0),"") | D11: =IF(B11<>"",C11*VLOOKUP(B11,'TABLA DE OBJETIVOS'!$G$6:$P$250,9,0),"") | E11: 5 | F11: =IFERROR(VLOOKUP(E11,'A1 estrategias'!AA$4:AC$28,3,0),"") | H11: =IF(F11<>"",G11*VLOOKUP(F11,'TABLA DE OBJETIVOS'!$G$6:$P$250,9,0),"") | I11: 5 | J11: =IFERROR(VLOOKUP(I11,'A1 estrategias'!AD$4:AF$28,3,0),"") | L11: =IF(J11<>"",K11*VLOOKUP(J11,'TABLA DE OBJETIVOS'!$G$6:$P$250,9,0),"") | M11: 5 | N11: =IFERROR(VLOOKUP(M11,'A1 estrategias'!AG$4:AI$28,3,0),"") | P11: =IF(N11<>"",O11*VLOOKUP(N11,'TABLA DE OBJETIVOS'!$G$6:$P$250,9,0),"") | Q11: 5 | R11: =IFERROR(VLOOKUP(Q11,'A1 estrategias'!AJ$4:AL$28,3,0),"") | T11: =IF(R11<>"",S11*VLOOKUP(R11,'TABLA DE OBJETIVOS'!$G$6:$P$250,9,0),"") | U11: 5 | V11: =IFERROR(VLOOKUP(U11,'A1 estrategias'!AM$4:AO$28,3,0),"") | X11: =IF(V11<>"",W11*VLOOKUP(V11,'TABLA DE OBJETIVOS'!$G$6:$P$250,9,0),"") | Y11: 5 | Z11: =IFERROR(VLOOKUP(Y11,'A1 estrategias'!AP$4:AR$28,3,0),"") | AB11: =IF(Z11<>"",AA11*VLOOKUP(Z11,'TABLA DE OBJETIVOS'!$G$6:$P$250,9,0),"")
A12: 6 | B12: =IFERROR(VLOOKUP(A12,'A1 estrategias'!X$4:Z$28,3,0),"") | D12: =IF(B12<>"",C12*VLOOKUP(B12,'TABLA DE OBJETIVOS'!$G$6:$P$250,9,0),"") | E12: 6 | F12: =IFERROR(VLOOKUP(E12,'A1 estrategias'!AA$4:AC$28,3,0),"") | H12: =IF(F12<>"",G12*VLOOKUP(F12,'TABLA DE OBJETIVOS'!$G$6:$P$250,9,0),"") | I12: 6 | J12: =IFERROR(VLOOKUP(I12,'A1 estrategias'!AD$4:AF$28,3,0),"") | L12: =IF(J12<>"",K12*VLOOKUP(J12,'TABLA DE OBJETIVOS'!$G$6:$P$250,9,0),"") | M12: 6 | N12: =IFERROR(VLOOKUP(M12,'A1 estrategias'!AG$4:AI$28,3,0),"") | P12: =IF(N12<>"",O12*VLOOKUP(N12,'TABLA DE OBJETIVOS'!$G$6:$P$250,9,0),"") | Q12: 6 | R12: =IFERROR(VLOOKUP(Q12,'A1 estrategias'!AJ$4:AL$28,3,0),"") | T12: =IF(R12<>"",S12*VLOOKUP(R12,'TABLA DE OBJETIVOS'!$G$6:$P$250,9,0),"") | U12: 6 | V12: =IFERROR(VLOOKUP(U12,'A1 estrategias'!AM$4:AO$28,3,0),"") | X12: =IF(V12<>"",W12*VLOOKUP(V12,'TABLA DE OBJETIVOS'!$G$6:$P$250,9,0),"") | Y12: 6 | Z12: =IFERROR(VLOOKUP(Y12,'A1 estrategias'!AP$4:AR$28,3,0),"") | AB12: =IF(Z12<>"",AA12*VLOOKUP(Z12,'TABLA DE OBJETIVOS'!$G$6:$P$250,9,0),"")
A13: 7 | B13: =IFERROR(VLOOKUP(A13,'A1 estrategias'!X$4:Z$28,3,0),"") | D13: =IF(B13<>"",C13*VLOOKUP(B13,'TABLA DE OBJETIVOS'!$G$6:$P$250,9,0),"") | E13: 7 | F13: =IFERROR(VLOOKUP(E13,'A1 estrategias'!AA$4:AC$28,3,0),"") | H13: =IF(F13<>"",G13*VLOOKUP(F13,'TABLA DE OBJETIVOS'!$G$6:$P$250,9,0),"") | I13: 7 | J13: =IFERROR(VLOOKUP(I13,'A1 estrategias'!AD$4:AF$28,3,0),"") | L13: =IF(J13<>"",K13*VLOOKUP(J13,'TABLA DE OBJETIVOS'!$G$6:$P$250,9,0),"") | M13: 7 | N13: =IFERROR(VLOOKUP(M13,'A1 estrategias'!AG$4:AI$28,3,0),"") | P13: =IF(N13<>"",O13*VLOOKUP(N13,'TABLA DE OBJETIVOS'!$G$6:$P$250,9,0),"") | Q13: 7 | R13: =IFERROR(VLOOKUP(Q13,'A1 estrategias'!AJ$4:AL$28,3,0),"") | T13: =IF(R13<>"",S13*VLOOKUP(R13,'TABLA DE OBJETIVOS'!$G$6:$P$250,9,0),"") | U13: 7 | V13: =IFERROR(VLOOKUP(U13,'A1 estrategias'!AM$4:AO$28,3,0),"") | X13: =IF(V13<>"",W13*VLOOKUP(V13,'TABLA DE OBJETIVOS'!$G$6:$P$250,9,0),"") | Y13: 7 | Z13: =IFERROR(VLOOKUP(Y13,'A1 estrategias'!AP$4:AR$28,3,0),"") | AB13: =IF(Z13<>"",AA13*VLOOKUP(Z13,'TABLA DE OBJETIVOS'!$G$6:$P$250,9,0),"")
A14: 8 | B14: =IFERROR(VLOOKUP(A14,'A1 estrategias'!X$4:Z$28,3,0),"") | D14: =IF(B14<>"",C14*VLOOKUP(B14,'TABLA DE OBJETIVOS'!$G$6:$P$250,9,0),"") | E14: 8 | F14: =IFERROR(VLOOKUP(E14,'A1 estrategias'!AA$4:AC$28,3,0),"") | H14: =IF(F14<>"",G14*VLOOKUP(F14,'TABLA DE OBJETIVOS'!$G$6:$P$250,9,0),"") | I14: 8 | J14: =IFERROR(VLOOKUP(I14,'A1 estrategias'!AD$4:AF$28,3,0),"") | L14: =IF(J14<>"",K14*VLOOKUP(J14,'TABLA DE OBJETIVOS'!$G$6:$P$250,9,0),"") | M14: 8 | N14: =IFERROR(VLOOKUP(M14,'A1 estrategias'!AG$4:AI$28,3,0),"") | P14: =IF(N14<>"",O14*VLOOKUP(N14,'TABLA DE OBJETIVOS'!$G$6:$P$250,9,0),"") | Q14: 8 | R14: =IFERROR(VLOOKUP(Q14,'A1 estrategias'!AJ$4:AL$28,3,0),"") | T14: =IF(R14<>"",S14*VLOOKUP(R14,'TABLA DE OBJETIVOS'!$G$6:$P$250,9,0),"") | U14: 8 | V14: =IFERROR(VLOOKUP(U14,'A1 estrategias'!AM$4:AO$28,3,0),"") | X14: =IF(V14<>"",W14*VLOOKUP(V14,'TABLA DE OBJETIVOS'!$G$6:$P$250,9,0),"") | Y14: 8 | Z14: =IFERROR(VLOOKUP(Y14,'A1 estrategias'!AP$4:AR$28,3,0),"") | AB14: =IF(Z14<>"",AA14*VLOOKUP(Z14,'TABLA DE OBJETIVOS'!$G$6:$P$250,9,0),"")
A15: 9 | B15: =IFERROR(VLOOKUP(A15,'A1 estrategias'!X$4:Z$28,3,0),"") | D15: =IF(B15<>"",C15*VLOOKUP(B15,'TABLA DE OBJETIVOS'!$G$6:$P$250,9,0),"") | E15: 9 | F15: =IFERROR(VLOOKUP(E15,'A1 estrategias'!AA$4:AC$28,3,0),"") | H15: =IF(F15<>"",G15*VLOOKUP(F15,'TABLA DE OBJETIVOS'!$G$6:$P$250,9,0),"") | I15: 9 | J15: =IFERROR(VLOOKUP(I15,'A1 estrategias'!AD$4:AF$28,3,0),"") | L15: =IF(J15<>"",K15*VLOOKUP(J15,'TABLA DE OBJETIVOS'!$G$6:$P$250,9,0),"") | M15: 9 | N15: =IFERROR(VLOOKUP(M15,'A1 estrategias'!AG$4:AI$28,3,0),"") | P15: =IF(N15<>"",O15*VLOOKUP(N15,'TABLA DE OBJETIVOS'!$G$6:$P$250,9,0),"") | Q15: 9 | R15: =IFERROR(VLOOKUP(Q15,'A1 estrategias'!AJ$4:AL$28,3,0),"") | T15: =IF(R15<>"",S15*VLOOKUP(R15,'TABLA DE OBJETIVOS'!$G$6:$P$250,9,0),"") | U15: 9 | V15: =IFERROR(VLOOKUP(U15,'A1 estrategias'!AM$4:AO$28,3,0),"") | X15: =IF(V15<>"",W15*VLOOKUP(V15,'TABLA DE OBJETIVOS'!$G$6:$P$250,9,0),"") | Y15: 9 | Z15: =IFERROR(VLOOKUP(Y15,'A1 estrategias'!AP$4:AR$28,3,0),"") | AB15: =IF(Z15<>"",AA15*VLOOKUP(Z15,'TABLA DE OBJETIVOS'!$G$6:$P$250,9,0),"")
A16: 10 | B16: =IFERROR(VLOOKUP(A16,'A1 estrategias'!X$4:Z$28,3,0),"") | D16: =IF(B16<>"",C16*VLOOKUP(B16,'TABLA DE OBJETIVOS'!$G$6:$P$250,9,0),"") | E16: 10 | F16: =IFERROR(VLOOKUP(E16,'A1 estrategias'!AA$4:AC$28,3,0),"") | H16: =IF(F16<>"",G16*VLOOKUP(F16,'TABLA DE OBJETIVOS'!$G$6:$P$250,9,0),"") | I16: 10 | J16: =IFERROR(VLOOKUP(I16,'A1 estrategias'!AD$4:AF$28,3,0),"") | L16: =IF(J16<>"",K16*VLOOKUP(J16,'TABLA DE OBJETIVOS'!$G$6:$P$250,9,0),"") | M16: 10 | N16: =IFERROR(VLOOKUP(M16,'A1 estrategias'!AG$4:AI$28,3,0),"") | P16: =IF(N16<>"",O16*VLOOKUP(N16,'TABLA DE OBJETIVOS'!$G$6:$P$250,9,0),"") | Q16: 10 | R16: =IFERROR(VLOOKUP(Q16,'A1 estrategias'!AJ$4:AL$28,3,0),"") | T16: =IF(R16<>"",S16*VLOOKUP(R16,'TABLA DE OBJETIVOS'!$G$6:$P$250,9,0),"") | U16: 10 | V16: =IFERROR(VLOOKUP(U16,'A1 estrategias'!AM$4:AO$28,3,0),"") | X16: =IF(V16<>"",W16*VLOOKUP(V16,'TABLA DE OBJETIVOS'!$G$6:$P$250,9,0),"") | Y16: 10 | Z16: =IFERROR(VLOOKUP(Y16,'A1 estrategias'!AP$4:AR$28,3,0),"") | AB16: =IF(Z16<>"",AA16*VLOOKUP(Z16,'TABLA DE OBJETIVOS'!$G$6:$P$250,9,0),"")
A17: 11 | B17: =IFERROR(VLOOKUP(A17,'A1 estrategias'!X$4:Z$28,3,0),"") | D17: =IF(B17<>"",C17*VLOOKUP(B17,'TABLA DE OBJETIVOS'!$G$6:$P$250,9,0),"") | E17: 11 | F17: =IFERROR(VLOOKUP(E17,'A1 estrategias'!AA$4:AC$28,3,0),"") | H17: =IF(F17<>"",G17*VLOOKUP(F17,'TABLA DE OBJETIVOS'!$G$6:$P$250,9,0),"") | I17: 11 | J17: =IFERROR(VLOOKUP(I17,'A1 estrategias'!AD$4:AF$28,3,0),"") | L17: =IF(J17<>"",K17*VLOOKUP(J17,'TABLA DE OBJETIVOS'!$G$6:$P$250,9,0),"") | M17: 11 | N17: =IFERROR(VLOOKUP(M17,'A1 estrategias'!AG$4:AI$28,3,0),"") | P17: =IF(N17<>"",O17*VLOOKUP(N17,'TABLA DE OBJETIVOS'!$G$6:$P$250,9,0),"") | Q17: 11 | R17: =IFERROR(VLOOKUP(Q17,'A1 estrategias'!AJ$4:AL$28,3,0),"") | T17: =IF(R17<>"",S17*VLOOKUP(R17,'TABLA DE OBJETIVOS'!$G$6:$P$250,9,0),"") | U17: 11 | V17: =IFERROR(VLOOKUP(U17,'A1 estrategias'!AM$4:AO$28,3,0),"") | X17: =IF(V17<>"",W17*VLOOKUP(V17,'TABLA DE OBJETIVOS'!$G$6:$P$250,9,0),"") | Y17: 11 | Z17: =IFERROR(VLOOKUP(Y17,'A1 estrategias'!AP$4:AR$28,3,0),"") | AB17: =IF(Z17<>"",AA17*VLOOKUP(Z17,'TABLA DE OBJETIVOS'!$G$6:$P$250,9,0),"")
A18: 12 | B18: =IFERROR(VLOOKUP(A18,'A1 estrategias'!X$4:Z$28,3,0),"") | D18: =IF(B18<>"",C18*VLOOKUP(B18,'TABLA DE OBJETIVOS'!$G$6:$P$250,9,0),"") | E18: 12 | F18: =IFERROR(VLOOKUP(E18,'A1 estrategias'!AA$4:AC$28,3,0),"") | H18: =IF(F18<>"",G18*VLOOKUP(F18,'TABLA DE OBJETIVOS'!$G$6:$P$250,9,0),"") | I18: 12 | J18: =IFERROR(VLOOKUP(I18,'A1 estrategias'!AD$4:AF$28,3,0),"") | L18: =IF(J18<>"",K18*VLOOKUP(J18,'TABLA DE OBJETIVOS'!$G$6:$P$250,9,0),"") | M18: 12 | N18: =IFERROR(VLOOKUP(M18,'A1 estrategias'!AG$4:AI$28,3,0),"") | P18: =IF(N18<>"",O18*VLOOKUP(N18,'TABLA DE OBJETIVOS'!$G$6:$P$250,9,0),"") | Q18: 12 | R18: =IFERROR(VLOOKUP(Q18,'A1 estrategias'!AJ$4:AL$28,3,0),"") | T18: =IF(R18<>"",S18*VLOOKUP(R18,'TABLA DE OBJETIVOS'!$G$6:$P$250,9,0),"") | U18: 12 | V18: =IFERROR(VLOOKUP(U18,'A1 estrategias'!AM$4:AO$28,3,0),"") | X18: =IF(V18<>"",W18*VLOOKUP(V18,'TABLA DE OBJETIVOS'!$G$6:$P$250,9,0),"") | Y18: 12 | Z18: =IFERROR(VLOOKUP(Y18,'A1 estrategias'!AP$4:AR$28,3,0),"") | AB18: =IF(Z18<>"",AA18*VLOOKUP(Z18,'TABLA DE OBJETIVOS'!$G$6:$P$250,9,0),"")
A19: 13 | B19: =IFERROR(VLOOKUP(A19,'A1 estrategias'!X$4:Z$28,3,0),"") | D19: =IF(B19<>"",C19*VLOOKUP(B19,'TABLA DE OBJETIVOS'!$G$6:$P$250,9,0),"") | E19: 13 | F19: =IFERROR(VLOOKUP(E19,'A1 estrategias'!AA$4:AC$28,3,0),"") | H19: =IF(F19<>"",G19*VLOOKUP(F19,'TABLA DE OBJETIVOS'!$G$6:$P$250,9,0),"") | I19: 13 | J19: =IFERROR(VLOOKUP(I19,'A1 estrategias'!AD$4:AF$28,3,0),"") | L19: =IF(J19<>"",K19*VLOOKUP(J19,'TABLA DE OBJETIVOS'!$G$6:$P$250,9,0),"") | M19: 13 | N19: =IFERROR(VLOOKUP(M19,'A1 estrategias'!AG$4:AI$28,3,0),"") | P19: =IF(N19<>"",O19*VLOOKUP(N19,'TABLA DE OBJETIVOS'!$G$6:$P$250,9,0),"") | Q19: 13 | R19: =IFERROR(VLOOKUP(Q19,'A1 estrategias'!AJ$4:AL$28,3,0),"") | T19: =IF(R19<>"",S19*VLOOKUP(R19,'TABLA DE OBJETIVOS'!$G$6:$P$250,9,0),"") | U19: 13 | V19: =IFERROR(VLOOKUP(U19,'A1 estrategias'!AM$4:AO$28,3,0),"") | X19: =IF(V19<>"",W19*VLOOKUP(V19,'TABLA DE OBJETIVOS'!$G$6:$P$250,9,0),"") | Y19: 13 | Z19: =IFERROR(VLOOKUP(Y19,'A1 estrategias'!AP$4:AR$28,3,0),"") | AB19: =IF(Z19<>"",AA19*VLOOKUP(Z19,'TABLA DE OBJETIVOS'!$G$6:$P$250,9,0),"")
A20: 14 | B20: =IFERROR(VLOOKUP(A20,'A1 estrategias'!X$4:Z$28,3,0),"") | D20: =IF(B20<>"",C20*VLOOKUP(B20,'TABLA DE OBJETIVOS'!$G$6:$P$250,9,0),"") | E20: 14 | F20: =IFERROR(VLOOKUP(E20,'A1 estrategias'!AA$4:AC$28,3,0),"") | H20: =IF(F20<>"",G20*VLOOKUP(F20,'TABLA DE OBJETIVOS'!$G$6:$P$250,9,0),"") | I20: 14 | J20: =IFERROR(VLOOKUP(I20,'A1 estrategias'!AD$4:AF$28,3,0),"") | L20: =IF(J20<>"",K20*VLOOKUP(J20,'TABLA DE OBJETIVOS'!$G$6:$P$250,9,0),"") | M20: 14 | N20: =IFERROR(VLOOKUP(M20,'A1 estrategias'!AG$4:AI$28,3,0),"") | P20: =IF(N20<>"",O20*VLOOKUP(N20,'TABLA DE OBJETIVOS'!$G$6:$P$250,9,0),"") | Q20: 14 | R20: =IFERROR(VLOOKUP(Q20,'A1 estrategias'!AJ$4:AL$28,3,0),"") | T20: =IF(R20<>"",S20*VLOOKUP(R20,'TABLA DE OBJETIVOS'!$G$6:$P$250,9,0),"") | U20: 14 | V20: =IFERROR(VLOOKUP(U20,'A1 estrategias'!AM$4:AO$28,3,0),"") | X20: =IF(V20<>"",W20*VLOOKUP(V20,'TABLA DE OBJETIVOS'!$G$6:$P$250,9,0),"") | Y20: 14 | Z20: =IFERROR(VLOOKUP(Y20,'A1 estrategias'!AP$4:AR$28,3,0),"") | AB20: =IF(Z20<>"",AA20*VLOOKUP(Z20,'TABLA DE OBJETIVOS'!$G$6:$P$250,9,0),"")
... A31: 25 | B31: =IFERROR(VLOOKUP(A31,'A1 estrategias'!X$4:Z$28,3,0),"") | D31: =IF(B31<>"",C31*VLOOKUP(B31,'TABLA DE OBJETIVOS'!$G$6:$P$250,9,0),"") | E31: 25 | F31: =IFERROR(VLOOKUP(E31,'A1 estrategias'!AA$4:AC$28,3,0),"") | H31: =IF(F31<>"",G31*VLOOKUP(F31,'TABLA DE OBJETIVOS'!$G$6:$P$250,9,0),"") | I31: 25 | J31: =IFERROR(VLOOKUP(I31,'A1 estrategias'!AD$4:AF$28,3,0),"") | L31: =IF(J31<>"",K31*VLOOKUP(J31,'TABLA DE OBJETIVOS'!$G$6:$P$250,9,0),"") | M31: 25 | N31: =IFERROR(VLOOKUP(M31,'A1 estrategias'!AG$4:AI$28,3,0),"") | P31: =IF(N31<>"",O31*VLOOKUP(N31,'TABLA DE OBJETIVOS'!$G$6:$P$250,9,0),"") | Q31: 25 | R31: =IFERROR(VLOOKUP(Q31,'A1 estrategias'!AJ$4:AL$28,3,0),"") | T31: =IF(R31<>"",S31*VLOOKUP(R31,'TABLA DE OBJETIVOS'!$G$6:$P$250,9,0),"") | U31: 25 | V31: =IFERROR(VLOOKUP(U31,'A1 estrategias'!AM$4:AO$28,3,0),"") | X31: =IF(V31<>"",W31*VLOOKUP(V31,'TABLA DE OBJETIVOS'!$G$6:$P$250,9,0),"") | Y31: 25 | Z31: =IFERROR(VLOOKUP(Y31,'A1 estrategias'!AP$4:AR$28,3,0),"") | AB31: =IF(Z31<>"",AA31*VLOOKUP(Z31,'TABLA DE OBJETIVOS'!$G$6:$P$250,9,0),"")

Sheet TABLA DE OBJETIVOS
J4: ACTUALIZACIÓN
A5: No | B5: Fecha de inicio | C5: Meta | D5: Área de responsabilidad | E5: Responsable | F5: Objetivo estratégico | G5: Estrategia | H5: Valor Actual | I5: Valor propuesto | J5: Estatus | K5: Fecha de actualización | L5: Valor Actual | M5: Días para alcanzar la meta | N5: Días restantes | O5: % de Avance | P5: Objetivo estratégico
A6: 1 | B6: 44075 | C6: 1 | D6: area 1 | E6: responsable 1 | F6: Obj Estrategico 1 | G6: Estrategia 1 | H6: 0 | I6: 100 | J6: Activo | K6: 43930 | L6: 22 | M6: =IF(B6<>"",(DAY(B6)+C6*30),"") -> 31 | N6: =IF(K6<>"",(B6+30*C6)-NOW(),"") -> 106.47678 | O6: =IF(I6>H6,(IF(I6<>"",(((I6-H6)-(I6-L6))/ABS(I6-H6)),"")),IF(I6<>"",(1-(I6+L6-H6)/I6),"")) -> 0.22 | P6: =IF(F6<>"",F6,"") -> Obj Estrategico 1
A7: =IF(B6<>"",A6+1,"") -> 2 | B7: 44076 | C7: 3 | D7: area 2 | E7: responsable 2 | F7: Obj Estrategico 2 | G7: Estrategia 2 | H7: 1 | I7: 100 | J7: Activo | K7: 43930 | L7: 55 | M7: =IF(B7<>"",(DAY(B7)+C7*30),"") -> 92 | N7: =IF(K7<>"",(B7+30*C7)-NOW(),"") -> 167.47678 | O7: =IF(I7>H7,(IF(I7<>"",(((I7-H7)-(I7-L7))/ABS(I7-H7)),"")),IF(I7<>"",(1-(I7+L7-H7)/I7),"")) -> 0.54545455 | P7: =IF(F7<>"",F7,"") -> Obj Estrategico 2
A8: =IF(B7<>"",A7+1,"") -> 3 | B8: 44077 | C8: 4 | D8: area 3 | E8: responsable 3 | F8: Obj Estrategico 3 | G8: Estrategia 3 | H8: 12 | I8: 111 | J8: Activo | K8: 43930 | L8: 66 | M8: =IF(B8<>"",(DAY(B8)+C8*30),"") -> 123 | N8: =IF(K8<>"",(B8+30*C8)-NOW(),"") -> 198.47678 | O8: =IF(I8>H8,(IF(I8<>"",(((I8-H8)-(I8-L8))/ABS(I8-H8)),"")),IF(I8<>"",(1-(I8+L8-H8)/I8),"")) -> 0.54545455 | P8: =IF(F8<>"",F8,"") -> Obj Estrategico 3
A9: =IF(B8<>"",A8+1,"") -> 4 | B9: 44078 | C9: 3 | D9: area 4 | E9: responsable 4 | F9: Obj Estrategico 4 | G9: Estrategia 4 | H9: 22 | I9: 2000 | J9: Activo | K9: 43930 | L9: 544 | M9: =IF(B9<>"",(DAY(B9)+C9*30),"") -> 94 | N9: =IF(K9<>"",(B9+30*C9)-NOW(),"") -> 169.47678 | O9: =IF(I9>H9,(IF(I9<>"",(((I9-H9)-(I9-L9))/ABS(I9-H9)),"")),IF(I9<>"",(1-(I9+L9-H9)/I9),"")) -> 0.26390293 | P9: =IF(F9<>"",F9,"") -> Obj Estrategico 4
A10: =IF(B9<>"",A9+1,"") -> 5 | B10: 44079 | C10: 12 | D10: area 1 | E10: responsable 5 | F10: Obj Estrategico 5 | G10: Estrategia 5 | H10: 100 | I10: 1000 | J10: Activo | K10: 43930 | L10: 445 | M10: =IF(B10<>"",(DAY(B10)+C10*30),"") -> 365 | N10: =IF(K10<>"",(B10+30*C10)-NOW(),"") -> 440.47678 | O10: =IF(I10>H10,(IF(I10<>"",(((I10-H10)-(I10-L10))/ABS(I10-H10)),"")),IF(I10<>"",(1-(I10+L10-H10)/I10),"")) -> 0.38333333 | P10: =IF(F10<>"",F10,"") -> Obj Estrategico 5
A11: =IF(B10<>"",A10+1,"") -> 6 | B11: 44080 | C11: 9 | D11: area 4 | E11: responsable 6 | F11: Obj Estrategico 5 | G11: Estrategia 6 | H11: 44 | I11: 1000 | J11: Activo | K11: 43930 | L11: 444 | M11: =IF(B11<>"",(DAY(B11)+C11*30),"") -> 276 | N11: =IF(K11<>"",(B11+30*C11)-NOW(),"") -> 351.47678 | O11: =IF(I11>H11,(IF(I11<>"",(((I11-H11)-(I11-L11))/ABS(I11-H11)),"")),IF(I11<>"",(1-(I11+L11-H11)/I11),"")) -> 0.41841004 | P11: =IF(F11<>"",F11,"") -> Obj Estrategico 5
A12: =IF(B11<>"",A11+1,"") -> 7 | B12: 44081 | C12: 1 | D12: area 1 | E12: responsable 3 | F12: Obj Estrategico 0 | G12: Estrategia 0 | H12: 0 | I12: 100 | J12: Activo | K12: 43930 | L12: 33 | M12: =IF(B12<>"",(DAY(B12)+C12*30),"") -> 37 | N12: =IF(K12<>"",(B12+30*C12)-NOW(),"") -> 112.47678 | O12: =IF(I12>H12,(IF(I12<>"",(((I12-H12)-(I12-L12))/ABS(I12-H12)),"")),IF(I12<>"",(1-(I12+L12-H12)/I12),"")) -> 0.33 | P12: =IF(F12<>"",F12,"") -> Obj Estrategico 0
A13: =IF(B12<>"",A12+1,"") -> 8 | B13: 44082 | C13: 3 | D13: area 3 | E13: responsable 2 | F13: Obj Estrategico 0 | G13: Estrategia 7 | H13: 12 | I13: 1200 | J13: Activo | K13: 43930 | L13: 123 | M13: =IF(B13<>"",(DAY(B13)+C13*30),"") -> 98 | N13: =IF(K13<>"",(B13+30*C13)-NOW(),"") -> 173.47678 | O13: =IF(I13>H13,(IF(I13<>"",(((I13-H13)-(I13-L13))/ABS(I13-H13)),"")),IF(I13<>"",(1-(I13+L13-H13)/I13),"")) -> 0.093434343 | P13: =IF(F13<>"",F13,"") -> Obj Estrategico 0
A14: =IF(B13<>"",A13+1,"") -> 9 | M14: =IF(B14<>"",(DAY(B14)+C14*30),"") | N14: =IF(K14<>"",(B14+30*C14)-NOW(),"") | O14: =IF(I14>H14,(IF(I14<>"",(((I14-H14)-(I14-L14))/ABS(I14-H14)),"")),IF(I14<>"",(1-(I14+L14-H14)/I14),"")) | P14: =IF(F14<>"",F14,"")
A15: =IF(B14<>"",A14+1,"") | M15: =IF(B15<>"",(DAY(B15)+C15*30),"") | N15: =IF(K15<>"",(DAY(B15)+30*C15)-DAY(TODAY()),"") | O15: =IF(I15>H15,(IF(I15<>"",(((I15-H15)-(I15-L15))/ABS(I15-H15)),"")),IF(I15<>"",(1-(I15+L15-H15)/I15),"")) | P15: =IF(F15<>"",F15,"")
A16: =IF(B15<>"",A15+1,"") | M16: =IF(B16<>"",(DAY(B16)+C16*30),"") | N16: =IF(K16<>"",(B16+30*C16)-NOW(),"") | O16: =IF(I16>H16,(IF(I16<>"",(((I16-H16)-(I16-L16))/ABS(I16-H16)),"")),IF(I16<>"",(1-(I16+L16-H16)/I16),"")) | P16: =IF(F16<>"",F16,"")
A17: =IF(B16<>"",A16+1,"") | M17: =IF(B17<>"",(DAY(B17)+C17*30),"") | N17: =IF(K17<>"",(B17+30*C17)-NOW(),"") | O17: =IF(I17>H17,(IF(I17<>"",(((I17-H17)-(I17-L17))/ABS(I17-H17)),"")),IF(I17<>"",(1-(I17+L17-H17)/I17),"")) | P17: =IF(F17<>"",F17,"")
A18: =IF(B17<>"",A17+1,"") | M18: =IF(B18<>"",(DAY(B18)+C18*30),"") | N18: =IF(K18<>"",(B18+30*C18)-NOW(),"") | O18: =IF(I18>H18,(IF(I18<>"",(((I18-H18)-(I18-L18))/ABS(I18-H18)),"")),IF(I18<>"",(1-(I18+L18-H18)/I18),"")) | P18: =IF(F18<>"",F18,"")
A19: =IF(B18<>"",A18+1,"") | M19: =IF(B19<>"",(DAY(B19)+C19*30),"") | N19: =IF(K19<>"",(B19+30*C19)-NOW(),"") | O19: =IF(I19>H19,(IF(I19<>"",(((I19-H19)-(I19-L19))/ABS(I19-H19)),"")),IF(I19<>"",(1-(I19+L19-H19)/I19),"")) | P19: =IF(F19<>"",F19,"")
A20: =IF(B19<>"",A19+1,"") | M20: =IF(B20<>"",(DAY(B20)+C20*30),"") | N20: =IF(K20<>"",(B20+30*C20)-NOW(),"") | O20: =IF(I20>H20,(IF(I20<>"",(((I20-H20)-(I20-L20))/ABS(I20-H20)),"")),IF(I20<>"",(1-(I20+L20-H20)/I20),"")) | P20: =IF(F20<>"",F20,"")
A21: =IF(B20<>"",A20+1,"") | M21: =IF(B21<>"",(DAY(B21)+C21*30),"") | N21: =IF(K21<>"",(DAY(B21)+30*C21)-DAY(TODAY()),"") | O21: =IF(I21>H21,(IF(I21<>"",(((I21-H21)-(I21-L21))/ABS(I21-H21)),"")),IF(I21<>"",(1-(I21+L21-H21)/I21),"")) | P21: =IF(F21<>"",F21,"")
A22: =IF(B21<>"",A21+1,"") | M22: =IF(B22<>"",(DAY(B22)+C22*30),"") | N22: =IF(K22<>"",(DAY(B22)+30*C22)-DAY(TODAY()),"") | O22: =IF(I22>H22,(IF(I22<>"",(((I22-H22)-(I22-L22))/ABS(I22-H22)),"")),IF(I22<>"",(1-(I22+L22-H22)/I22),"")) | P22: =IF(F22<>"",F22,"")
A23: =IF(B22<>"",A22+1,"") | M23: =IF(B23<>"",(DAY(B23)+C23*30),"") | N23: =IF(K23<>"",(DAY(B23)+30*C23)-DAY(TODAY()),"") | O23: =IF(I23>H23,(IF(I23<>"",(((I23-H23)-(I23-L23))/ABS(I23-H23)),"")),IF(I23<>"",(1-(I23+L23-H23)/I23),"")) | P23: =IF(F23<>"",F23,"")
A24: =IF(B23<>"",A23+1,"") | M24: =IF(B24<>"",(DAY(B24)+C24*30),"") | N24: =IF(K24<>"",(DAY(B24)+30*C24)-DAY(TODAY()),"") | O24: =IF(I24>H24,(IF(I24<>"",(((I24-H24)-(I24-L24))/ABS(I24-H24)),"")),IF(I24<>"",(1-(I24+L24-H24)/I24),"")) | P24: =IF(F24<>"",F24,"")
A25: =IF(B24<>"",A24+1,"") | M25: =IF(B25<>"",(DAY(B25)+C25*30),"") | N25: =IF(K25<>"",(DAY(B25)+30*C25)-DAY(TODAY()),"") | O25: =IF(I25>H25,(IF(I25<>"",(((I25-H25)-(I25-L25))/ABS(I25-H25)),"")),IF(I25<>"",(1-(I25+L25-H25)/I25),"")) | P25: =IF(F25<>"",F25,"")
A26: =IF(B25<>"",A25+1,"") | M26: =IF(B26<>"",(DAY(B26)+C26*30),"") | N26: =IF(K26<>"",(DAY(B26)+30*C26)-DAY(TODAY()),"") | O26: =IF(I26>H26,(IF(I26<>"",(((I26-H26)-(I26-L26))/ABS(I26-H26)),"")),IF(I26<>"",(1-(I26+L26-H26)/I26),"")) | P26: =IF(F26<>"",F26,"")
A27: =IF(B26<>"",A26+1,"") | M27: =IF(B27<>"",(DAY(B27)+C27*30),"") | N27: =IF(K27<>"",(DAY(B27)+30*C27)-DAY(TODAY()),"") | O27: =IF(I27>H27,(IF(I27<>"",(((I27-H27)-(I27-L27))/ABS(I27-H27)),"")),IF(I27<>"",(1-(I27+L27-H27)/I27),"")) | P27: =IF(F27<>"",F27,"")
A28: =IF(B27<>"",A27+1,"") | M28: =IF(B28<>"",(DAY(B28)+C28*30),"") | N28: =IF(K28<>"",(DAY(B28)+30*C28)-DAY(TODAY()),"") | O28: =IF(I28>H28,(IF(I28<>"",(((I28-H28)-(I28-L28))/ABS(I28-H28)),"")),IF(I28<>"",(1-(I28+L28-H28)/I28),"")) | P28: =IF(F28<>"",F28,"")
A29: =IF(B28<>"",A28+1,"") | M29: =IF(B29<>"",(DAY(B29)+C29*30),"") | N29: =IF(K29<>"",(DAY(B29)+30*C29)-DAY(TODAY()),"") | O29: =IF(I29>H29,(IF(I29<>"",(((I29-H29)-(I29-L29))/ABS(I29-H29)),"")),IF(I29<>"",(1-(I29+L29-H29)/I29),"")) | P29: =IF(F29<>"",F29,"")
A30: =IF(B29<>"",A29+1,"") | M30: =IF(B30<>"",(DAY(B30)+C30*30),"") | N30: =IF(K30<>"",(DAY(B30)+30*C30)-DAY(TODAY()),"") | O30: =IF(I30>H30,(IF(I30<>"",(((I30-H30)-(I30-L30))/ABS(I30-H30)),"")),IF(I30<>"",(1-(I30+L30-H30)/I30),"")) | P30: =IF(F30<>"",F30,"")
A31: =IF(B30<>"",A30+1,"") | M31: =IF(B31<>"",(DAY(B31)+C31*30),"") | N31: =IF(K31<>"",(DAY(B31)+30*C31)-DAY(TODAY()),"") | O31: =IF(I31>H31,(IF(I31<>"",(((I31-H31)-(I31-L31))/ABS(I31-H31)),"")),IF(I31<>"",(1-(I31+L31-H31)/I31),"")) | P31: =IF(F31<>"",F31,"")
A32: =IF(B31<>"",A31+1,"") | M32: =IF(B32<>"",(DAY(B32)+C32*30),"") | N32: =IF(K32<>"",(DAY(B32)+30*C32)-DAY(TODAY()),"") | O32: =IF(I32>H32,(IF(I32<>"",(((I32-H32)-(I32-L32))/ABS(I32-H32)),"")),IF(I32<>"",(1-(I32+L32-H32)/I32),"")) | P32: =IF(F32<>"",F32,"")
... A250: =IF(B249<>"",A249+1,"") | M250: =IF(B250<>"",(DAY(B250)+C250*30),"") | N250: =IF(K250<>"",(DAY(B250)+30*C250)-DAY(TODAY()),"") | O250: =IF(I250>H250,(IF(I250<>"",(((I250-H250)-(I250-L250))/ABS(I250-H250)),"")),IF(I250<>"",(1-(I250+L250-H250)/I250),"")) | P250: =IF(F250<>"",F250,"")

Sheet TA1
C2: Objetivo 1 | D2: =ESTRATEGIAS!B5 -> Obj Estrategico 0
J4: ACTUALIZACIÓN
A5: No | B5: Fecha de inicio | C5: Meta | D5: Área de responsabilidad | E5: Responsable | F5: Estrategia | G5: Acciones | H5: Valor Actual | I5: Valor propuesto | J5: Estatus | K5: Fecha de actualización | L5: Valor Actual | M5: Días para alcanzar la meta | N5: Días restantes | O5: % de Avance | P5: Estrategia
A6: 1 | B6: 43891 | C6: 1 | D6: area 1 | E6: responsable 1 | F6: Estrategia 0 | G6: Accion 1 | H6: 0 | I6: 100 | J6: Activo | K6: 43930 | L6: 12 | M6: =IF(B6<>"",(DAY(B6)+C6*30),"") -> 31 | N6: =IF(K6<>"",(B6+30*C6)-NOW(),"") -> -77.523224 | O6: =IF(I6>H6,(IF(I6<>"",(((I6-H6)-(I6-L6))/ABS(I6-H6)),"")),IF(I6<>"",(1-(I6+L6-H6)/I6),"")) -> 0.12 | P6: =IF(F6<>"",F6,"") -> Estrategia 0
A7: =IF(B6<>"",A6+1,"") -> 2 | B7: 43892 | C7: 1 | D7: area 2 | E7: responsable 2 | F7: Estrategia 0 | G7: Accion 2 | H7: 1 | I7: 100 | J7: Activo | K7: 43931 | L7: 11 | M7: =IF(B7<>"",(DAY(B7)+C7*30),"") -> 32 | N7: =IF(K7<>"",(B7+30*C7)-NOW(),"") -> -76.523224 | O7: =IF(I7>H7,(IF(I7<>"",(((I7-H7)-(I7-L7))/ABS(I7-H7)),"")),IF(I7<>"",(1-(I7+L7-H7)/I7),"")) -> 0.1010101 | P7: =IF(F7<>"",F7,"") -> Estrategia 0
A8: =IF(B7<>"",A7+1,"") -> 3 | B8: 43893 | C8: 4 | D8: area 3 | E8: responsable 3 | F8: Estrategia 7 | G8: Accion 3 | H8: 11 | I8: 100 | J8: Activo | K8: 43932 | L8: 33 | M8: =IF(B8<>"",(DAY(B8)+C8*30),"") -> 123 | N8: =IF(K8<>"",(B8+30*C8)-NOW(),"") -> 14.476776 | O8: =IF(I8>H8,(IF(I8<>"",(((I8-H8)-(I8-L8))/ABS(I8-H8)),"")),IF(I8<>"",(1-(I8+L8-H8)/I8),"")) -> 0.24719101 | P8: =IF(F8<>"",F8,"") -> Estrategia 7
A9: =IF(B8<>"",A8+1,"") -> 4 | B9: 43894 | C9: 4 | D9: area 4 | E9: responsable 4 | F9: Estrategia 7 | G9: Accion 4 | H9: 22 | I9: 300 | J9: Activo | K9: 43933 | L9: 222 | M9: =IF(B9<>"",(DAY(B9)+C9*30),"") -> 124 | N9: =IF(K9<>"",(B9+30*C9)-NOW(),"") -> 15.476776 | O9: =IF(I9>H9,(IF(I9<>"",(((I9-H9)-(I9-L9))/ABS(I9-H9)),"")),IF(I9<>"",(1-(I9+L9-H9)/I9),"")) -> 0.71942446 | P9: =IF(F9<>"",F9,"") -> Estrategia 7
A10: =IF(B9<>"",A9+1,"") -> 5 | B10: 43895 | C10: 9 | D10: area 2 | E10: responsable 5 | F10: Estrategia 7 | G10: Accion 5 | H10: 111 | I10: 400 | J10: Activo | K10: 43934 | L10: 134 | M10: =IF(B10<>"",(DAY(B10)+C10*30),"") -> 275 | N10: =IF(K10<>"",(B10+30*C10)-NOW(),"") -> 166.47678 | O10: =IF(I10>H10,(IF(I10<>"",(((I10-H10)-(I10-L10))/ABS(I10-H10)),"")),IF(I10<>"",(1-(I10+L10-H10)/I10),"")) -> 0.079584775 | P10: =IF(F10<>"",F10,"") -> Estrategia 7
A11: =IF(B10<>"",A10+1,"") -> 6 | M11: =IF(B11<>"",(DAY(B11)+C11*30),"") | N11: =IF(K11<>"",(B11+30*C11)-NOW(),"") | O11: =IF(I11>H11,(IF(I11<>"",(((I11-H11)-(I11-L11))/ABS(I11-H11)),"")),IF(I11<>"",(1-(I11+L11-H11)/I11),"")) | P11: =IF(F11<>"",F11,"")
A12: =IF(B11<>"",A11+1,"") | M12: =IF(B12<>"",(DAY(B12)+C12*30),"") | N12: =IF(K12<>"",(B12+30*C12)-NOW(),"") | O12: =IF(I12>H12,(IF(I12<>"",(((I12-H12)-(I12-L12))/ABS(I12-H12)),"")),IF(I12<>"",(1-(I12+L12-H12)/I12),"")) | P12: =IF(F12<>"",F12,"")
A13: =IF(B12<>"",A12+1,"") | M13: =IF(B13<>"",(DAY(B13)+C13*30),"") | N13: =IF(K13<>"",(B13+30*C13)-NOW(),"") | O13: =IF(I13>H13,(IF(I13<>"",(((I13-H13)-(I13-L13))/ABS(I13-H13)),"")),IF(I13<>"",(1-(I13+L13-H13)/I13),"")) | P13: =IF(F13<>"",F13,"")
A14: =IF(B13<>"",A13+1,"") | M14: =IF(B14<>"",(DAY(B14)+C14*30),"") | N14: =IF(K14<>"",(B14+30*C14)-NOW(),"") | O14: =IF(I14>H14,(IF(I14<>"",(((I14-H14)-(I14-L14))/ABS(I14-H14)),"")),IF(I14<>"",(1-(I14+L14-H14)/I14),"")) | P14: =IF(F14<>"",F14,"")
A15: =IF(B14<>"",A14+1,"") | M15: =IF(B15<>"",(DAY(B15)+C15*30),"") | N15: =IF(K15<>"",(B15+30*C15)-NOW(),"") | O15: =IF(I15>H15,(IF(I15<>"",(((I15-H15)-(I15-L15))/ABS(I15-H15)),"")),IF(I15<>"",(1-(I15+L15-H15)/I15),"")) | P15: =IF(F15<>"",F15,"")
A16: =IF(B15<>"",A15+1,"") | M16: =IF(B16<>"",(DAY(B16)+C16*30),"") | N16: =IF(K16<>"",(B16+30*C16)-NOW(),"") | O16: =IF(I16>H16,(IF(I16<>"",(((I16-H16)-(I16-L16))/ABS(I16-H16)),"")),IF(I16<>"",(1-(I16+L16-H16)/I16),"")) | P16: =IF(F16<>"",F16,"")
A17: =IF(B16<>"",A16+1,"") | M17: =IF(B17<>"",(DAY(B17)+C17*30),"") | N17: =IF(K17<>"",(B17+30*C17)-NOW(),"") | O17: =IF(I17>H17,(IF(I17<>"",(((I17-H17)-(I17-L17))/ABS(I17-H17)),"")),IF(I17<>"",(1-(I17+L17-H17)/I17),"")) | P17: =IF(F17<>"",F17,"")
A18: =IF(B17<>"",A17+1,"") | M18: =IF(B18<>"",(DAY(B18)+C18*30),"") | N18: =IF(K18<>"",(B18+30*C18)-NOW(),"") | O18: =IF(I18>H18,(IF(I18<>"",(((I18-H18)-(I18-L18))/ABS(I18-H18)),"")),IF(I18<>"",(1-(I18+L18-H18)/I18),"")) | P18: =IF(F18<>"",F18,"")
A19: =IF(B18<>"",A18+1,"") | M19: =IF(B19<>"",(DAY(B19)+C19*30),"") | N19: =IF(K19<>"",(B19+30*C19)-NOW(),"") | O19: =IF(I19>H19,(IF(I19<>"",(((I19-H19)-(I19-L19))/ABS(I19-H19)),"")),IF(I19<>"",(1-(I19+L19-H19)/I19),"")) | P19: =IF(F19<>"",F19,"")
A20: =IF(B19<>"",A19+1,"") | M20: =IF(B20<>"",(DAY(B20)+C20*30),"") | N20: =IF(K20<>"",(B20+30*C20)-NOW(),"") | O20: =IF(I20>H20,(IF(I20<>"",(((I20-H20)-(I20-L20))/ABS(I20-H20)),"")),IF(I20<>"",(1-(I20+L20-H20)/I20),"")) | P20: =IF(F20<>"",F20,"")
A21: =IF(B20<>"",A20+1,"") | M21: =IF(B21<>"",(DAY(B21)+C21*30),"") | N21: =IF(K21<>"",(DAY(B21)+30*C21)-DAY(TODAY()),"") | O21: =IF(I21>H21,(IF(I21<>"",(((I21-H21)-(I21-L21))/ABS(I21-H21)),"")),IF(I21<>"",(1-(I21+L21-H21)/I21),"")) | P21: =IF(F21<>"",F21,"")
A22: =IF(B21<>"",A21+1,"") | M22: =IF(B22<>"",(DAY(B22)+C22*30),"") | N22: =IF(K22<>"",(DAY(B22)+30*C22)-DAY(TODAY()),"") | O22: =IF(I22>H22,(IF(I22<>"",(((I22-H22)-(I22-L22))/ABS(I22-H22)),"")),IF(I22<>"",(1-(I22+L22-H22)/I22),"")) | P22: =IF(F22<>"",F22,"")
A23: =IF(B22<>"",A22+1,"") | M23: =IF(B23<>"",(DAY(B23)+C23*30),"") | N23: =IF(K23<>"",(DAY(B23)+30*C23)-DAY(TODAY()),"") | O23: =IF(I23>H23,(IF(I23<>"",(((I23-H23)-(I23-L23))/ABS(I23-H23)),"")),IF(I23<>"",(1-(I23+L23-H23)/I23),"")) | P23: =IF(F23<>"",F23,"")
A24: =IF(B23<>"",A23+1,"") | M24: =IF(B24<>"",(DAY(B24)+C24*30),"") | N24: =IF(K24<>"",(DAY(B24)+30*C24)-DAY(TODAY()),"") | O24: =IF(I24>H24,(IF(I24<>"",(((I24-H24)-(I24-L24))/ABS(I24-H24)),"")),IF(I24<>"",(1-(I24+L24-H24)/I24),"")) | P24: =IF(F24<>"",F24,"")
A25: =IF(B24<>"",A24+1,"") | M25: =IF(B25<>"",(DAY(B25)+C25*30),"") | N25: =IF(K25<>"",(DAY(B25)+30*C25)-DAY(TODAY()),"") | O25: =IF(I25>H25,(IF(I25<>"",(((I25-H25)-(I25-L25))/ABS(I25-H25)),"")),IF(I25<>"",(1-(I25+L25-H25)/I25),"")) | P25: =IF(F25<>"",F25,"")
A26: =IF(B25<>"",A25+1,"") | M26: =IF(B26<>"",(DAY(B26)+C26*30),"") | N26: =IF(K26<>"",(DAY(B26)+30*C26)-DAY(TODAY()),"") | O26: =IF(I26>H26,(IF(I26<>"",(((I26-H26)-(I26-L26))/ABS(I26-H26)),"")),IF(I26<>"",(1-(I26+L26-H26)/I26),"")) | P26: =IF(F26<>"",F26,"")
A27: =IF(B26<>"",A26+1,"") | M27: =IF(B27<>"",(DAY(B27)+C27*30),"") | N27: =IF(K27<>"",(DAY(B27)+30*C27)-DAY(TODAY()),"") | O27: =IF(I27>H27,(IF(I27<>"",(((I27-H27)-(I27-L27))/ABS(I27-H27)),"")),IF(I27<>"",(1-(I27+L27-H27)/I27),"")) | P27: =IF(F27<>"",F27,"")
A28: =IF(B27<>"",A27+1,"") | M28: =IF(B28<>"",(DAY(B28)+C28*30),"") | N28: =IF(K28<>"",(DAY(B28)+30*C28)-DAY(TODAY()),"") | O28: =IF(I28>H28,(IF(I28<>"",(((I28-H28)-(I28-L28))/ABS(I28-H28)),"")),IF(I28<>"",(1-(I28+L28-H28)/I28),"")) | P28: =IF(F28<>"",F28,"")
A29: =IF(B28<>"",A28+1,"") | M29: =IF(B29<>"",(DAY(B29)+C29*30),"") | N29: =IF(K29<>"",(DAY(B29)+30*C29)-DAY(TODAY()),"") | O29: =IF(I29>H29,(IF(I29<>"",(((I29-H29)-(I29-L29))/ABS(I29-H29)),"")),IF(I29<>"",(1-(I29+L29-H29)/I29),"")) | P29: =IF(F29<>"",F29,"")
A30: =IF(B29<>"",A29+1,"") | M30: =IF(B30<>"",(DAY(B30)+C30*30),"") | N30: =IF(K30<>"",(DAY(B30)+30*C30)-DAY(TODAY()),"") | O30: =IF(I30>H30,(IF(I30<>"",(((I30-H30)-(I30-L30))/ABS(I30-H30)),"")),IF(I30<>"",(1-(I30+L30-H30)/I30),"")) | P30: =IF(F30<>"",F30,"")
A31: =IF(B30<>"",A30+1,"") | M31: =IF(B31<>"",(DAY(B31)+C31*30),"") | N31: =IF(K31<>"",(DAY(B31)+30*C31)-DAY(TODAY()),"") | O31: =IF(I31>H31,(IF(I31<>"",(((I31-H31)-(I31-L31))/ABS(I31-H31)),"")),IF(I31<>"",(1-(I31+L31-H31)/I31),"")) | P31: =IF(F31<>"",F31,"")
A32: =IF(B31<>"",A31+1,"") | M32: =IF(B32<>"",(DAY(B32)+C32*30),"") | N32: =IF(K32<>"",(DAY(B32)+30*C32)-DAY(TODAY()),"") | O32: =IF(I32>H32,(IF(I32<>"",(((I32-H32)-(I32-L32))/ABS(I32-H32)),"")),IF(I32<>"",(1-(I32+L32-H32)/I32),"")) | P32: =IF(F32<>"",F32,"")
... A250: =IF(B249<>"",A249+1,"") | M250: =IF(B250<>"",(DAY(B250)+C250*30),"") | N250: =IF(K250<>"",(DAY(B250)+30*C250)-DAY(TODAY()),"") | O250: =IF(I250>H250,(IF(I250<>"",(((I250-H250)-(I250-L250))/ABS(I250-H250)),"")),IF(I250<>"",(1-(I250+L250-H250)/I250),"")) | P250: =IF(F250<>"",F250,"")
A251: 246 | M251: =IF(B251<>"",(DAY(B251)+C251*30),"") | N251: =IF(K251<>"",(DAY(B251)+30*C251)-DAY(TODAY()),"") | O251: =IF(I251>H251,(IF(I251<>"",(((I251-H251)-(I251-L251))/ABS(I251-H251)),"")),IF(I251<>"",(1-(I251+L251-H251)/I251),"")) | P251: =IF(F251<>"",F251,"")
A252: 247 | M252: =IF(B252<>"",(DAY(B252)+C252*30),"") | N252: =IF(K252<>"",(DAY(B252)+30*C252)-DAY(TODAY()),"") | O252: =IF(I252>H252,(IF(I252<>"",(((I252-H252)-(I252-L252))/ABS(I252-H252)),"")),IF(I252<>"",(1-(I252+L252-H252)/I252),"")) | P252: =IF(F252<>"",F252,"")
A253: 248 | M253: =IF(B253<>"",(DAY(B253)+C253*30),"") | N253: =IF(K253<>"",(DAY(B253)+30*C253)-DAY(TODAY()),"") | O253: =IF(I253>H253,(IF(I253<>"",(((I253-H253)-(I253-L253))/ABS(I253-H253)),"")),IF(I253<>"",(1-(I253+L253-H253)/I253),"")) | P253: =IF(F253<>"",F253,"")
A254: 249 | M254: =IF(B254<>"",(DAY(B254)+C254*30),"") | N254: =IF(K254<>"",(DAY(B254)+30*C254)-DAY(TODAY()),"") | O254: =IF(I254>H254,(IF(I254<>"",(((I254-H254)-(I254-L254))/ABS(I254-H254)),"")),IF(I254<>"",(1-(I254+L254-H254)/I254),"")) | P254: =IF(F254<>"",F254,"")
A255: 250 | M255: =IF(B255<>"",(DAY(B255)+C255*30),"") | N255: =IF(K255<>"",(DAY(B255)+30*C255)-DAY(TODAY()),"") | O255: =IF(I255>H255,(IF(I255<>"",(((I255-H255)-(I255-L255))/ABS(I255-H255)),"")),IF(I255<>"",(1-(I255+L255-H255)/I255),"")) | P255: =IF(F255<>"",F255,"")
A256: 251 | M256: =IF(B256<>"",(DAY(B256)+C256*30),"") | N256: =IF(K256<>"",(DAY(B256)+30*C256)-DAY(TODAY()),"") | O256: =IF(I256>H256,(IF(I256<>"",(((I256-H256)-(I256-L256))/ABS(I256-H256)),"")),IF(I256<>"",(1-(I256+L256-H256)/I256),"")) | P256: =IF(F256<>"",F256,"")
A257: 252 | M257: =IF(B257<>"",(DAY(B257)+C257*30),"") | N257: =IF(K257<>"",(DAY(B257)+30*C257)-DAY(TODAY()),"") | O257: =IF(I257>H257,(IF(I257<>"",(((I257-H257)-(I257-L257))/ABS(I257-H257)),"")),IF(I257<>"",(1-(I257+L257-H257)/I257),"")) | P257: =IF(F257<>"",F257,"")
A258: 253 | M258: =IF(B258<>"",(DAY(B258)+C258*30),"") | N258: =IF(K258<>"",(DAY(B258)+30*C258)-DAY(TODAY()),"") | O258: =IF(I258>H258,(IF(I258<>"",(((I258-H258)-(I258-L258))/ABS(I258-H258)),"")),IF(I258<>"",(1-(I258+L258-H258)/I258),"")) | P258: =IF(F258<>"",F258,"")
A259: 254 | M259: =IF(B259<>"",(DAY(B259)+C259*30),"") | N259: =IF(K259<>"",(DAY(B259)+30*C259)-DAY(TODAY()),"") | O259: =IF(I259>H259,(IF(I259<>"",(((I259-H259)-(I259-L259))/ABS(I259-H259)),"")),IF(I259<>"",(1-(I259+L259-H259)/I259),"")) | P259: =IF(F259<>"",F259,"")
A260: 255 | M260: =IF(B260<>"",(DAY(B260)+C260*30),"") | N260: =IF(K260<>"",(DAY(B260)+30*C260)-DAY(TODAY()),"") | O260: =IF(I260>H260,(IF(I260<>"",(((I260-H260)-(I260-L260))/ABS(I260-H260)),"")),IF(I260<>"",(1-(I260+L260-H260)/I260),"")) | P260: =IF(F260<>"",F260,"")
A261: 256 | M261: =IF(B261<>"",(DAY(B261)+C261*30),"") | N261: =IF(K261<>"",(DAY(B261)+30*C261)-DAY(TODAY()),"") | O261: =IF(I261>H261,(IF(I261<>"",(((I261-H261)-(I261-L261))/ABS(I261-H261)),"")),IF(I261<>"",(1-(I261+L261-H261)/I261),"")) | P261: =IF(F261<>"",F261,"")
A262: 257 | M262: =IF(B262<>"",(DAY(B262)+C262*30),"") | N262: =IF(K262<>"",(DAY(B262)+30*C262)-DAY(TODAY()),"") | O262: =IF(I262>H262,(IF(I262<>"",(((I262-H262)-(I262-L262))/ABS(I262-H262)),"")),IF(I262<>"",(1-(I262+L262-H262)/I262),"")) | P262: =IF(F262<>"",F262,"")
... A500: 495 | M500: =IF(B500<>"",(DAY(B500)+C500*30),"") | N500: =IF(K500<>"",(DAY(B500)+30*C500)-DAY(TODAY()),"") | O500: =IF(I500>H500,(IF(I500<>"",(((I500-H500)-(I500-L500))/ABS(I500-H500)),"")),IF(I500<>"",(1-(I500+L500-H500)/I500),"")) | P500: =IF(F500<>"",F500,"")

Sheet TA2
C2: Objetivo 2 | D2: =ESTRATEGIAS!F5 -> Obj Estrategico 1
J4: ACTUALIZACIÓN
A5: No | B5: Fecha de inicio | C5: Meta | D5: Área de responsabilidad | E5: Responsable | F5: Estrategia | G5: Acciones | H5: Valor Actual | I5: Valor propuesto | J5: Estatus | K5: Fecha de actualización | L5: Valor Actual | M5: Días para alcanzar la meta | N5: Días restantes | O5: % de Avance | P5: Estrategia
A6: 1 | M6: =IF(B6<>"",(DAY(B6)+C6*30),"") | N6: =IF(K6<>"",(B6+30*C6)-NOW(),"") | O6: =IF(I6>H6,(IF(I6<>"",(((I6-H6)-(I6-L6))/ABS(I6-H6)),"")),IF(I6<>"",(1-(I6+L6-H6)/I6),"")) | P6: =IF(F6<>"",F6,"")
A7: =IF(B6<>"",A6+1,"") | M7: =IF(B7<>"",(DAY(B7)+C7*30),"") | N7: =IF(K7<>"",(B7+30*C7)-NOW(),"") | O7: =IF(I7>H7,(IF(I7<>"",(((I7-H7)-(I7-L7))/ABS(I7-H7)),"")),IF(I7<>"",(1-(I7+L7-H7)/I7),"")) | P7: =IF(F7<>"",F7,"")
A8: =IF(B7<>"",A7+1,"") | M8: =IF(B8<>"",(DAY(B8)+C8*30),"") | N8: =IF(K8<>"",(B8+30*C8)-NOW(),"") | O8: =IF(I8>H8,(IF(I8<>"",(((I8-H8)-(I8-L8))/ABS(I8-H8)),"")),IF(I8<>"",(1-(I8+L8-H8)/I8),"")) | P8: =IF(F8<>"",F8,"")
A9: =IF(B8<>"",A8+1,"") | M9: =IF(B9<>"",(DAY(B9)+C9*30),"") | N9: =IF(K9<>"",(B9+30*C9)-NOW(),"") | O9: =IF(I9>H9,(IF(I9<>"",(((I9-H9)-(I9-L9))/ABS(I9-H9)),"")),IF(I9<>"",(1-(I9+L9-H9)/I9),"")) | P9: =IF(F9<>"",F9,"")
A10: =IF(B9<>"",A9+1,"") | M10: =IF(B10<>"",(DAY(B10)+C10*30),"") | N10: =IF(K10<>"",(B10+30*C10)-NOW(),"") | O10: =IF(I10>H10,(IF(I10<>"",(((I10-H10)-(I10-L10))/ABS(I10-H10)),"")),IF(I10<>"",(1-(I10+L10-H10)/I10),"")) | P10: =IF(F10<>"",F10,"")
A11: =IF(B10<>"",A10+1,"") | M11: =IF(B11<>"",(DAY(B11)+C11*30),"") | N11: =IF(K11<>"",(B11+30*C11)-NOW(),"") | O11: =IF(I11>H11,(IF(I11<>"",(((I11-H11)-(I11-L11))/ABS(I11-H11)),"")),IF(I11<>"",(1-(I11+L11-H11)/I11),"")) | P11: =IF(F11<>"",F11,"")
A12: =IF(B11<>"",A11+1,"") | M12: =IF(B12<>"",(DAY(B12)+C12*30),"") | N12: =IF(K12<>"",(B12+30*C12)-NOW(),"") | O12: =IF(I12>H12,(IF(I12<>"",(((I12-H12)-(I12-L12))/ABS(I12-H12)),"")),IF(I12<>"",(1-(I12+L12-H12)/I12),"")) | P12: =IF(F12<>"",F12,"")
A13: =IF(B12<>"",A12+1,"") | M13: =IF(B13<>"",(DAY(B13)+C13*30),"") | N13: =IF(K13<>"",(B13+30*C13)-NOW(),"") | O13: =IF(I13>H13,(IF(I13<>"",(((I13-H13)-(I13-L13))/ABS(I13-H13)),"")),IF(I13<>"",(1-(I13+L13-H13)/I13),"")) | P13: =IF(F13<>"",F13,"")
A14: =IF(B13<>"",A13+1,"") | M14: =IF(B14<>"",(DAY(B14)+C14*30),"") | N14: =IF(K14<>"",(B14+30*C14)-NOW(),"") | O14: =IF(I14>H14,(IF(I14<>"",(((I14-H14)-(I14-L14))/ABS(I14-H14)),"")),IF(I14<>"",(1-(I14+L14-H14)/I14),"")) | P14: =IF(F14<>"",F14,"")
A15: =IF(B14<>"",A14+1,"") | M15: =IF(B15<>"",(DAY(B15)+C15*30),"") | N15: =IF(K15<>"",(B15+30*C15)-NOW(),"") | O15: =IF(I15>H15,(IF(I15<>"",(((I15-H15)-(I15-L15))/ABS(I15-H15)),"")),IF(I15<>"",(1-(I15+L15-H15)/I15),"")) | P15: =IF(F15<>"",F15,"")
A16: =IF(B15<>"",A15+1,"") | M16: =IF(B16<>"",(DAY(B16)+C16*30),"") | N16: =IF(K16<>"",(B16+30*C16)-NOW(),"") | O16: =IF(I16>H16,(IF(I16<>"",(((I16-H16)-(I16-L16))/ABS(I16-H16)),"")),IF(I16<>"",(1-(I16+L16-H16)/I16),"")) | P16: =IF(F16<>"",F16,"")
A17: =IF(B16<>"",A16+1,"") | M17: =IF(B17<>"",(DAY(B17)+C17*30),"") | N17: =IF(K17<>"",(B17+30*C17)-NOW(),"") | O17: =IF(I17>H17,(IF(I17<>"",(((I17-H17)-(I17-L17))/ABS(I17-H17)),"")),IF(I17<>"",(1-(I17+L17-H17)/I17),"")) | P17: =IF(F17<>"",F17,"")
A18: =IF(B17<>"",A17+1,"") | M18: =IF(B18<>"",(DAY(B18)+C18*30),"") | N18: =IF(K18<>"",(B18+30*C18)-NOW(),"") | O18: =IF(I18>H18,(IF(I18<>"",(((I18-H18)-(I18-L18))/ABS(I18-H18)),"")),IF(I18<>"",(1-(I18+L18-H18)/I18),"")) | P18: =IF(F18<>"",F18,"")
... A20: =IF(B19<>"",A19+1,"") | M20: =IF(B20<>"",(DAY(B20)+C20*30),"") | N20: =IF(K20<>"",(B20+30*C20)-NOW(),"") | O20: =IF(I20>H20,(IF(I20<>"",(((I20-H20)-(I20-L20))/ABS(I20-H20)),"")),IF(I20<>"",(1-(I20+L20-H20)/I20),"")) | P20: =IF(F20<>"",F20,"")
A21: =IF(B20<>"",A20+1,"") | M21: =IF(B21<>"",(DAY(B21)+C21*30),"") | N21: =IF(K21<>"",(DAY(B21)+30*C21)-DAY(TODAY()),"") | O21: =IF(I21>H21,(IF(I21<>"",(((I21-H21)-(I21-L21))/ABS(I21-H21)),"")),IF(I21<>"",(1-(I21+L21-H21)/I21),"")) | P21: =IF(F21<>"",F21,"")
A22: =IF(B21<>"",A21+1,"") | M22: =IF(B22<>"",(DAY(B22)+C22*30),"") | N22: =IF(K22<>"",(DAY(B22)+30*C22)-DAY(TODAY()),"") | O22: =IF(I22>H22,(IF(I22<>"",(((I22-H22)-(I22-L22))/ABS(I22-H22)),"")),IF(I22<>"",(1-(I22+L22-H22)/I22),"")) | P22: =IF(F22<>"",F22,"")
A23: =IF(B22<>"",A22+1,"") | M23: =IF(B23<>"",(DAY(B23)+C23*30),"") | N23: =IF(K23<>"",(DAY(B23)+30*C23)-DAY(TODAY()),"") | O23: =IF(I23>H23,(IF(I23<>"",(((I23-H23)-(I23-L23))/ABS(I23-H23)),"")),IF(I23<>"",(1-(I23+L23-H23)/I23),"")) | P23: =IF(F23<>"",F23,"")
A24: =IF(B23<>"",A23+1,"") | M24: =IF(B24<>"",(DAY(B24)+C24*30),"") | N24: =IF(K24<>"",(DAY(B24)+30*C24)-DAY(TODAY()),"") | O24: =IF(I24>H24,(IF(I24<>"",(((I24-H24)-(I24-L24))/ABS(I24-H24)),"")),IF(I24<>"",(1-(I24+L24-H24)/I24),"")) | P24: =IF(F24<>"",F24,"")
A25: =IF(B24<>"",A24+1,"") | M25: =IF(B25<>"",(DAY(B25)+C25*30),"") | N25: =IF(K25<>"",(DAY(B25)+30*C25)-DAY(TODAY()),"") | O25: =IF(I25>H25,(IF(I25<>"",(((I25-H25)-(I25-L25))/ABS(I25-H25)),"")),IF(I25<>"",(1-(I25+L25-H25)/I25),"")) | P25: =IF(F25<>"",F25,"")
A26: =IF(B25<>"",A25+1,"") | M26: =IF(B26<>"",(DAY(B26)+C26*30),"") | N26: =IF(K26<>"",(DAY(B26)+30*C26)-DAY(TODAY()),"") | O26: =IF(I26>H26,(IF(I26<>"",(((I26-H26)-(I26-L26))/ABS(I26-H26)),"")),IF(I26<>"",(1-(I26+L26-H26)/I26),"")) | P26: =IF(F26<>"",F26,"")
A27: =IF(B26<>"",A26+1,"") | M27: =IF(B27<>"",(DAY(B27)+C27*30),"") | N27: =IF(K27<>"",(DAY(B27)+30*C27)-DAY(TODAY()),"") | O27: =IF(I27>H27,(IF(I27<>"",(((I27-H27)-(I27-L27))/ABS(I27-H27)),"")),IF(I27<>"",(1-(I27+L27-H27)/I27),"")) | P27: =IF(F27<>"",F27,"")
A28: =IF(B27<>"",A27+1,"") | M28: =IF(B28<>"",(DAY(B28)+C28*30),"") | N28: =IF(K28<>"",(DAY(B28)+30*C28)-DAY(TODAY()),"") | O28: =IF(I28>H28,(IF(I28<>"",(((I28-H28)-(I28-L28))/ABS(I28-H28)),"")),IF(I28<>"",(1-(I28+L28-H28)/I28),"")) | P28: =IF(F28<>"",F28,"")
A29: =IF(B28<>"",A28+1,"") | M29: =IF(B29<>"",(DAY(B29)+C29*30),"") | N29: =IF(K29<>"",(DAY(B29)+30*C29)-DAY(TODAY()),"") | O29: =IF(I29>H29,(IF(I29<>"",(((I29-H29)-(I29-L29))/ABS(I29-H29)),"")),IF(I29<>"",(1-(I29+L29-H29)/I29),"")) | P29: =IF(F29<>"",F29,"")
A30: =IF(B29<>"",A29+1,"") | M30: =IF(B30<>"",(DAY(B30)+C30*30),"") | N30: =IF(K30<>"",(DAY(B30)+30*C30)-DAY(TODAY()),"") | O30: =IF(I30>H30,(IF(I30<>"",(((I30-H30)-(I30-L30))/ABS(I30-H30)),"")),IF(I30<>"",(1-(I30+L30-H30)/I30),"")) | P30: =IF(F30<>"",F30,"")
A31: =IF(B30<>"",A30+1,"") | M31: =IF(B31<>"",(DAY(B31)+C31*30),"") | N31: =IF(K31<>"",(DAY(B31)+30*C31)-DAY(TODAY()),"") | O31: =IF(I31>H31,(IF(I31<>"",(((I31-H31)-(I31-L31))/ABS(I31-H31)),"")),IF(I31<>"",(1-(I31+L31-H31)/I31),"")) | P31: =IF(F31<>"",F31,"")
A32: =IF(B31<>"",A31+1,"") | M32: =IF(B32<>"",(DAY(B32)+C32*30),"") | N32: =IF(K32<>"",(DAY(B32)+30*C32)-DAY(TODAY()),"") | O32: =IF(I32>H32,(IF(I32<>"",(((I32-H32)-(I32-L32))/ABS(I32-H32)),"")),IF(I32<>"",(1-(I32+L32-H32)/I32),"")) | P32: =IF(F32<>"",F32,"")
... A250: =IF(B249<>"",A249+1,"") | M250: =IF(B250<>"",(DAY(B250)+C250*30),"") | N250: =IF(K250<>"",(DAY(B250)+30*C250)-DAY(TODAY()),"") | O250: =IF(I250>H250,(IF(I250<>"",(((I250-H250)-(I250-L250))/ABS(I250-H250)),"")),IF(I250<>"",(1-(I250+L250-H250)/I250),"")) | P250: =IF(F250<>"",F250,"")
A251: 246 | M251: =IF(B251<>"",(DAY(B251)+C251*30),"") | N251: =IF(K251<>"",(DAY(B251)+30*C251)-DAY(TODAY()),"") | O251: =IF(I251>H251,(IF(I251<>"",(((I251-H251)-(I251-L251))/ABS(I251-H251)),"")),IF(I251<>"",(1-(I251+L251-H251)/I251),"")) | P251: =IF(F251<>"",F251,"")
A252: 247 | M252: =IF(B252<>"",(DAY(B252)+C252*30),"") | N252: =IF(K252<>"",(DAY(B252)+30*C252)-DAY(TODAY()),"") | O252: =IF(I252>H252,(IF(I252<>"",(((I252-H252)-(I252-L252))/ABS(I252-H252)),"")),IF(I252<>"",(1-(I252+L252-H252)/I252),"")) | P252: =IF(F252<>"",F252,"")
A253: 248 | M253: =IF(B253<>"",(DAY(B253)+C253*30),"") | N253: =IF(K253<>"",(DAY(B253)+30*C253)-DAY(TODAY()),"") | O253: =IF(I253>H253,(IF(I253<>"",(((I253-H253)-(I253-L253))/ABS(I253-H253)),"")),IF(I253<>"",(1-(I253+L253-H253)/I253),"")) | P253: =IF(F253<>"",F253,"")
A254: 249 | M254: =IF(B254<>"",(DAY(B254)+C254*30),"") | N254: =IF(K254<>"",(DAY(B254)+30*C254)-DAY(TODAY()),"") | O254: =IF(I254>H254,(IF(I254<>"",(((I254-H254)-(I254-L254))/ABS(I254-H254)),"")),IF(I254<>"",(1-(I254+L254-H254)/I254),"")) | P254: =IF(F254<>"",F254,"")
A255: 250 | M255: =IF(B255<>"",(DAY(B255)+C255*30),"") | N255: =IF(K255<>"",(DAY(B255)+30*C255)-DAY(TODAY()),"") | O255: =IF(I255>H255,(IF(I255<>"",(((I255-H255)-(I255-L255))/ABS(I255-H255)),"")),IF(I255<>"",(1-(I255+L255-H255)/I255),"")) | P255: =IF(F255<>"",F255,"")
A256: 251 | M256: =IF(B256<>"",(DAY(B256)+C256*30),"") | N256: =IF(K256<>"",(DAY(B256)+30*C256)-DAY(TODAY()),"") | O256: =IF(I256>H256,(IF(I256<>"",(((I256-H256)-(I256-L256))/ABS(I256-H256)),"")),IF(I256<>"",(1-(I256+L256-H256)/I256),"")) | P256: =IF(F256<>"",F256,"")
A257: 252 | M257: =IF(B257<>"",(DAY(B257)+C257*30),"") | N257: =IF(K257<>"",(DAY(B257)+30*C257)-DAY(TODAY()),"") | O257: =IF(I257>H257,(IF(I257<>"",(((I257-H257)-(I257-L257))/ABS(I257-H257)),"")),IF(I257<>"",(1-(I257+L257-H257)/I257),"")) | P257: =IF(F257<>"",F257,"")
A258: 253 | M258: =IF(B258<>"",(DAY(B258)+C258*30),"") | N258: =IF(K258<>"",(DAY(B258)+30*C258)-DAY(TODAY()),"") | O258: =IF(I258>H258,(IF(I258<>"",(((I258-H258)-(I258-L258))/ABS(I258-H258)),"")),IF(I258<>"",(1-(I258+L258-H258)/I258),"")) | P258: =IF(F258<>"",F258,"")
A259: 254 | M259: =IF(B259<>"",(DAY(B259)+C259*30),"") | N259: =IF(K259<>"",(DAY(B259)+30*C259)-DAY(TODAY()),"") | O259: =IF(I259>H259,(IF(I259<>"",(((I259-H259)-(I259-L259))/ABS(I259-H259)),"")),IF(I259<>"",(1-(I259+L259-H259)/I259),"")) | P259: =IF(F259<>"",F259,"")
A260: 255 | M260: =IF(B260<>"",(DAY(B260)+C260*30),"") | N260: =IF(K260<>"",(DAY(B260)+30*C260)-DAY(TODAY()),"") | O260: =IF(I260>H260,(IF(I260<>"",(((I260-H260)-(I260-L260))/ABS(I260-H260)),"")),IF(I260<>"",(1-(I260+L260-H260)/I260),"")) | P260: =IF(F260<>"",F260,"")
A261: 256 | M261: =IF(B261<>"",(DAY(B261)+C261*30),"") | N261: =IF(K261<>"",(DAY(B261)+30*C261)-DAY(TODAY()),"") | O261: =IF(I261>H261,(IF(I261<>"",(((I261-H261)-(I261-L261))/ABS(I261-H261)),"")),IF(I261<>"",(1-(I261+L261-H261)/I261),"")) | P261: =IF(F261<>"",F261,"")
A262: 257 | M262: =IF(B262<>"",(DAY(B262)+C262*30),"") | N262: =IF(K262<>"",(DAY(B262)+30*C262)-DAY(TODAY()),"") | O262: =IF(I262>H262,(IF(I262<>"",(((I262-H262)-(I262-L262))/ABS(I262-H262)),"")),IF(I262<>"",(1-(I262+L262-H262)/I262),"")) | P262: =IF(F262<>"",F262,"")
... A500: 495 | M500: =IF(B500<>"",(DAY(B500)+C500*30),"") | N500: =IF(K500<>"",(DAY(B500)+30*C500)-DAY(TODAY()),"") | O500: =IF(I500>H500,(IF(I500<>"",(((I500-H500)-(I500-L500))/ABS(I500-H500)),"")),IF(I500<>"",(1-(I500+L500-H500)/I500),"")) | P500: =IF(F500<>"",F500,"")

Sheet TA3
C2: =ESTRATEGIAS!I5 -> Objetivo 3 | D2: =ESTRATEGIAS!J5 -> Obj Estrategico 2
J4: ACTUALIZACIÓN
A5: No | B5: Fecha de inicio | C5: Meta | D5: Área de responsabilidad | E5: Responsable | F5: Estrategia | G5: Acciones | H5: Valor Actual | I5: Valor propuesto | J5: Estatus | K5: Fecha de actualización | L5: Valor Actual | M5: Días para alcanzar la meta | N5: Días restantes | O5: % de Avance | P5: Estrategia
A6: 1 | M6: =IF(B6<>"",(DAY(B6)+C6*30),"") | N6: =IF(K6<>"",(B6+30*C6)-NOW(),"") | O6: =IF(I6>H6,(IF(I6<>"",(((I6-H6)-(I6-L6))/ABS(I6-H6)),"")),IF(I6<>"",(1-(I6+L6-H6)/I6),"")) | P6: =IF(F6<>"",F6,"")
A7: =IF(B6<>"",A6+1,"") | M7: =IF(B7<>"",(DAY(B7)+C7*30),"") | N7: =IF(K7<>"",(B7+30*C7)-NOW(),"") | O7: =IF(I7>H7,(IF(I7<>"",(((I7-H7)-(I7-L7))/ABS(I7-H7)),"")),IF(I7<>"",(1-(I7+L7-H7)/I7),"")) | P7: =IF(F7<>"",F7,"")
A8: =IF(B7<>"",A7+1,"") | M8: =IF(B8<>"",(DAY(B8)+C8*30),"") | N8: =IF(K8<>"",(B8+30*C8)-NOW(),"") | O8: =IF(I8>H8,(IF(I8<>"",(((I8-H8)-(I8-L8))/ABS(I8-H8)),"")),IF(I8<>"",(1-(I8+L8-H8)/I8),"")) | P8: =IF(F8<>"",F8,"")
A9: =IF(B8<>"",A8+1,"") | M9: =IF(B9<>"",(DAY(B9)+C9*30),"") | N9: =IF(K9<>"",(B9+30*C9)-NOW(),"") | O9: =IF(I9>H9,(IF(I9<>"",(((I9-H9)-(I9-L9))/ABS(I9-H9)),"")),IF(I9<>"",(1-(I9+L9-H9)/I9),"")) | P9: =IF(F9<>"",F9,"")
A10: =IF(B9<>"",A9+1,"") | M10: =IF(B10<>"",(DAY(B10)+C10*30),"") | N10: =IF(K10<>"",(B10+30*C10)-NOW(),"") | O10: =IF(I10>H10,(IF(I10<>"",(((I10-H10)-(I10-L10))/ABS(I10-H10)),"")),IF(I10<>"",(1-(I10+L10-H10)/I10),"")) | P10: =IF(F10<>"",F10,"")
A11: =IF(B10<>"",A10+1,"") | M11: =IF(B11<>"",(DAY(B11)+C11*30),"") | N11: =IF(K11<>"",(B11+30*C11)-NOW(),"") | O11: =IF(I11>H11,(IF(I11<>"",(((I11-H11)-(I11-L11))/ABS(I11-H11)),"")),IF(I11<>"",(1-(I11+L11-H11)/I11),"")) | P11: =IF(F11<>"",F11,"")
A12: =IF(B11<>"",A11+1,"") | M12: =IF(B12<>"",(DAY(B12)+C12*30),"") | N12: =IF(K12<>"",(B12+30*C12)-NOW(),"") | O12: =IF(I12>H12,(IF(I12<>"",(((I12-H12)-(I12-L12))/ABS(I12-H12)),"")),IF(I12<>"",(1-(I12+L12-H12)/I12),"")) | P12: =IF(F12<>"",F12,"")
A13: =IF(B12<>"",A12+1,"") | M13: =IF(B13<>"",(DAY(B13)+C13*30),"") | N13: =IF(K13<>"",(B13+30*C13)-NOW(),"") | O13: =IF(I13>H13,(IF(I13<>"",(((I13-H13)-(I13-L13))/ABS(I13-H13)),"")),IF(I13<>"",(1-(I13+L13-H13)/I13),"")) | P13: =IF(F13<>"",F13,"")
A14: =IF(B13<>"",A13+1,"") | M14: =IF(B14<>"",(DAY(B14)+C14*30),"") | N14: =IF(K14<>"",(B14+30*C14)-NOW(),"") | O14: =IF(I14>H14,(IF(I14<>"",(((I14-H14)-(I14-L14))/ABS(I14-H14)),"")),IF(I14<>"",(1-(I14+L14-H14)/I14),"")) | P14: =IF(F14<>"",F14,"")
A15: =IF(B14<>"",A14+1,"") | M15: =IF(B15<>"",(DAY(B15)+C15*30),"") | N15: =IF(K15<>"",(B15+30*C15)-NOW(),"") | O15: =IF(I15>H15,(IF(I15<>"",(((I15-H15)-(I15-L15))/ABS(I15-H15)),"")),IF(I15<>"",(1-(I15+L15-H15)/I15),"")) | P15: =IF(F15<>"",F15,"")
A16: =IF(B15<>"",A15+1,"") | M16: =IF(B16<>"",(DAY(B16)+C16*30),"") | N16: =IF(K16<>"",(B16+30*C16)-NOW(),"") | O16: =IF(I16>H16,(IF(I16<>"",(((I16-H16)-(I16-L16))/ABS(I16-H16)),"")),IF(I16<>"",(1-(I16+L16-H16)/I16),"")) | P16: =IF(F16<>"",F16,"")
A17: =IF(B16<>"",A16+1,"") | M17: =IF(B17<>"",(DAY(B17)+C17*30),"") | N17: =IF(K17<>"",(B17+30*C17)-NOW(),"") | O17: =IF(I17>H17,(IF(I17<>"",(((I17-H17)-(I17-L17))/ABS(I17-H17)),"")),IF(I17<>"",(1-(I17+L17-H17)/I17),"")) | P17: =IF(F17<>"",F17,"")
A18: =IF(B17<>"",A17+1,"") | M18: =IF(B18<>"",(DAY(B18)+C18*30),"") | N18: =IF(K18<>"",(B18+30*C18)-NOW(),"") | O18: =IF(I18>H18,(IF(I18<>"",(((I18-H18)-(I18-L18))/ABS(I18-H18)),"")),IF(I18<>"",(1-(I18+L18-H18)/I18),"")) | P18: =IF(F18<>"",F18,"")
... A20: =IF(B19<>"",A19+1,"") | M20: =IF(B20<>"",(DAY(B20)+C20*30),"") | N20: =IF(K20<>"",(B20+30*C20)-NOW(),"") | O20: =IF(I20>H20,(IF(I20<>"",(((I20-H20)-(I20-L20))/ABS(I20-H20)),"")),IF(I20<>"",(1-(I20+L20-H20)/I20),"")) | P20: =IF(F20<>"",F20,"")
A21: =IF(B20<>"",A20+1,"") | M21: =IF(B21<>"",(DAY(B21)+C21*30),"") | N21: =IF(K21<>"",(DAY(B21)+30*C21)-DAY(TODAY()),"") | O21: =IF(I21>H21,(IF(I21<>"",(((I21-H21)-(I21-L21))/ABS(I21-H21)),"")),IF(I21<>"",(1-(I21+L21-H21)/I21),"")) | P21: =IF(F21<>"",F21,"")
A22: =IF(B21<>"",A21+1,"") | M22: =IF(B22<>"",(DAY(B22)+C22*30),"") | N22: =IF(K22<>"",(DAY(B22)+30*C22)-DAY(TODAY()),"") | O22: =IF(I22>H22,(IF(I22<>"",(((I22-H22)-(I22-L22))/ABS(I22-H22)),"")),IF(I22<>"",(1-(I22+L22-H22)/I22),"")) | P22: =IF(F22<>"",F22,"")
A23: =IF(B22<>"",A22+1,"") | M23: =IF(B23<>"",(DAY(B23)+C23*30),"") | N23: =IF(K23<>"",(DAY(B23)+30*C23)-DAY(TODAY()),"") | O23: =IF(I23>H23,(IF(I23<>"",(((I23-H23)-(I23-L23))/ABS(I23-H23)),"")),IF(I23<>"",(1-(I23+L23-H23)/I23),"")) | P23: =IF(F23<>"",F23,"")
A24: =IF(B23<>"",A23+1,"") | M24: =IF(B24<>"",(DAY(B24)+C24*30),"") | N24: =IF(K24<>"",(DAY(B24)+30*C24)-DAY(TODAY()),"") | O24: =IF(I24>H24,(IF(I24<>"",(((I24-H24)-(I24-L24))/ABS(I24-H24)),"")),IF(I24<>"",(1-(I24+L24-H24)/I24),"")) | P24: =IF(F24<>"",F24,"")
A25: =IF(B24<>"",A24+1,"") | M25: =IF(B25<>"",(DAY(B25)+C25*30),"") | N25: =IF(K25<>"",(DAY(B25)+30*C25)-DAY(TODAY()),"") | O25: =IF(I25>H25,(IF(I25<>"",(((I25-H25)-(I25-L25))/ABS(I25-H25)),"")),IF(I25<>"",(1-(I25+L25-H25)/I25),"")) | P25: =IF(F25<>"",F25,"")
A26: =IF(B25<>"",A25+1,"") | M26: =IF(B26<>"",(DAY(B26)+C26*30),"") | N26: =IF(K26<>"",(DAY(B26)+30*C26)-DAY(TODAY()),"") | O26: =IF(I26>H26,(IF(I26<>"",(((I26-H26)-(I26-L26))/ABS(I26-H26)),"")),IF(I26<>"",(1-(I26+L26-H26)/I26),"")) | P26: =IF(F26<>"",F26,"")
A27: =IF(B26<>"",A26+1,"") | M27: =IF(B27<>"",(DAY(B27)+C27*30),"") | N27: =IF(K27<>"",(DAY(B27)+30*C27)-DAY(TODAY()),"") | O27: =IF(I27>H27,(IF(I27<>"",(((I27-H27)-(I27-L27))/ABS(I27-H27)),"")),IF(I27<>"",(1-(I27+L27-H27)/I27),"")) | P27: =IF(F27<>"",F27,"")
A28: =IF(B27<>"",A27+1,"") | M28: =IF(B28<>"",(DAY(B28)+C28*30),"") | N28: =IF(K28<>"",(DAY(B28)+30*C28)-DAY(TODAY()),"") | O28: =IF(I28>H28,(IF(I28<>"",(((I28-H28)-(I28-L28))/ABS(I28-H28)),"")),IF(I28<>"",(1-(I28+L28-H28)/I28),"")) | P28: =IF(F28<>"",F28,"")
A29: =IF(B28<>"",A28+1,"") | M29: =IF(B29<>"",(DAY(B29)+C29*30),"") | N29: =IF(K29<>"",(DAY(B29)+30*C29)-DAY(TODAY()),"") | O29: =IF(I29>H29,(IF(I29<>"",(((I29-H29)-(I29-L29))/ABS(I29-H29)),"")),IF(I29<>"",(1-(I29+L29-H29)/I29),"")) | P29: =IF(F29<>"",F29,"")
A30: =IF(B29<>"",A29+1,"") | M30: =IF(B30<>"",(DAY(B30)+C30*30),"") | N30: =IF(K30<>"",(DAY(B30)+30*C30)-DAY(TODAY()),"") | O30: =IF(I30>H30,(IF(I30<>"",(((I30-H30)-(I30-L30))/ABS(I30-H30)),"")),IF(I30<>"",(1-(I30+L30-H30)/I30),"")) | P30: =IF(F30<>"",F30,"")
A31: =IF(B30<>"",A30+1,"") | M31: =IF(B31<>"",(DAY(B31)+C31*30),"") | N31: =IF(K31<>"",(DAY(B31)+30*C31)-DAY(TODAY()),"") | O31: =IF(I31>H31,(IF(I31<>"",(((I31-H31)-(I31-L31))/ABS(I31-H31)),"")),IF(I31<>"",(1-(I31+L31-H31)/I31),"")) | P31: =IF(F31<>"",F31,"")
A32: =IF(B31<>"",A31+1,"") | M32: =IF(B32<>"",(DAY(B32)+C32*30),"") | N32: =IF(K32<>"",(DAY(B32)+30*C32)-DAY(TODAY()),"") | O32: =IF(I32>H32,(IF(I32<>"",(((I32-H32)-(I32-L32))/ABS(I32-H32)),"")),IF(I32<>"",(1-(I32+L32-H32)/I32),"")) | P32: =IF(F32<>"",F32,"")
... A250: =IF(B249<>"",A249+1,"") | M250: =IF(B250<>"",(DAY(B250)+C250*30),"") | N250: =IF(K250<>"",(DAY(B250)+30*C250)-DAY(TODAY()),"") | O250: =IF(I250>H250,(IF(I250<>"",(((I250-H250)-(I250-L250))/ABS(I250-H250)),"")),IF(I250<>"",(1-(I250+L250-H250)/I250),"")) | P250: =IF(F250<>"",F250,"")
A251: 246 | M251: =IF(B251<>"",(DAY(B251)+C251*30),"") | N251: =IF(K251<>"",(DAY(B251)+30*C251)-DAY(TODAY()),"") | O251: =IF(I251>H251,(IF(I251<>"",(((I251-H251)-(I251-L251))/ABS(I251-H251)),"")),IF(I251<>"",(1-(I251+L251-H251)/I251),"")) | P251: =IF(F251<>"",F251,"")
A252: 247 | M252: =IF(B252<>"",(DAY(B252)+C252*30),"") | N252: =IF(K252<>"",(DAY(B252)+30*C252)-DAY(TODAY()),"") | O252: =IF(I252>H252,(IF(I252<>"",(((I252-H252)-(I252-L252))/ABS(I252-H252)),"")),IF(I252<>"",(1-(I252+L252-H252)/I252),"")) | P252: =IF(F252<>"",F252,"")
A253: 248 | M253: =IF(B253<>"",(DAY(B253)+C253*30),"") | N253: =IF(K253<>"",(DAY(B253)+30*C253)-DAY(TODAY()),"") | O253: =IF(I253>H253,(IF(I253<>"",(((I253-H253)-(I253-L253))/ABS(I253-H253)),"")),IF(I253<>"",(1-(I253+L253-H253)/I253),"")) | P253: =IF(F253<>"",F253,"")
A254: 249 | M254: =IF(B254<>"",(DAY(B254)+C254*30),"") | N254: =IF(K254<>"",(DAY(B254)+30*C254)-DAY(TODAY()),"") | O254: =IF(I254>H254,(IF(I254<>"",(((I254-H254)-(I254-L254))/ABS(I254-H254)),"")),IF(I254<>"",(1-(I254+L254-H254)/I254),"")) | P254: =IF(F254<>"",F254,"")
A255: 250 | M255: =IF(B255<>"",(DAY(B255)+C255*30),"") | N255: =IF(K255<>"",(DAY(B255)+30*C255)-DAY(TODAY()),"") | O255: =IF(I255>H255,(IF(I255<>"",(((I255-H255)-(I255-L255))/ABS(I255-H255)),"")),IF(I255<>"",(1-(I255+L255-H255)/I255),"")) | P255: =IF(F255<>"",F255,"")
A256: 251 | M256: =IF(B256<>"",(DAY(B256)+C256*30),"") | N256: =IF(K256<>"",(DAY(B256)+30*C256)-DAY(TODAY()),"") | O256: =IF(I256>H256,(IF(I256<>"",(((I256-H256)-(I256-L256))/ABS(I256-H256)),"")),IF(I256<>"",(1-(I256+L256-H256)/I256),"")) | P256: =IF(F256<>"",F256,"")
A257: 252 | M257: =IF(B257<>"",(DAY(B257)+C257*30),"") | N257: =IF(K257<>"",(DAY(B257)+30*C257)-DAY(TODAY()),"") | O257: =IF(I257>H257,(IF(I257<>"",(((I257-H257)-(I257-L257))/ABS(I257-H257)),"")),IF(I257<>"",(1-(I257+L257-H257)/I257),"")) | P257: =IF(F257<>"",F257,"")
A258: 253 | M258: =IF(B258<>"",(DAY(B258)+C258*30),"") | N258: =IF(K258<>"",(DAY(B258)+30*C258)-DAY(TODAY()),"") | O258: =IF(I258>H258,(IF(I258<>"",(((I258-H258)-(I258-L258))/ABS(I258-H258)),"")),IF(I258<>"",(1-(I258+L258-H258)/I258),"")) | P258: =IF(F258<>"",F258,"")
A259: 254 | M259: =IF(B259<>"",(DAY(B259)+C259*30),"") | N259: =IF(K259<>"",(DAY(B259)+30*C259)-DAY(TODAY()),"") | O259: =IF(I259>H259,(IF(I259<>"",(((I259-H259)-(I259-L259))/ABS(I259-H259)),"")),IF(I259<>"",(1-(I259+L259-H259)/I259),"")) | P259: =IF(F259<>"",F259,"")
A260: 255 | M260: =IF(B260<>"",(DAY(B260)+C260*30),"") | N260: =IF(K260<>"",(DAY(B260)+30*C260)-DAY(TODAY()),"") | O260: =IF(I260>H260,(IF(I260<>"",(((I260-H260)-(I260-L260))/ABS(I260-H260)),"")),IF(I260<>"",(1-(I260+L260-H260)/I260),"")) | P260: =IF(F260<>"",F260,"")
A261: 256 | M261: =IF(B261<>"",(DAY(B261)+C261*30),"") | N261: =IF(K261<>"",(DAY(B261)+30*C261)-DAY(TODAY()),"") | O261: =IF(I261>H261,(IF(I261<>"",(((I261-H261)-(I261-L261))/ABS(I261-H261)),"")),IF(I261<>"",(1-(I261+L261-H261)/I261),"")) | P261: =IF(F261<>"",F261,"")
A262: 257 | M262: =IF(B262<>"",(DAY(B262)+C262*30),"") | N262: =IF(K262<>"",(DAY(B262)+30*C262)-DAY(TODAY()),"") | O262: =IF(I262>H262,(IF(I262<>"",(((I262-H262)-(I262-L262))/ABS(I262-H262)),"")),IF(I262<>"",(1-(I262+L262-H262)/I262),"")) | P262: =IF(F262<>"",F262,"")
... A500: 495 | M500: =IF(B500<>"",(DAY(B500)+C500*30),"") | N500: =IF(K500<>"",(DAY(B500)+30*C500)-DAY(TODAY()),"") | O500: =IF(I500>H500,(IF(I500<>"",(((I500-H500)-(I500-L500))/ABS(I500-H500)),"")),IF(I500<>"",(1-(I500+L500-H500)/I500),"")) | P500: =IF(F500<>"",F500,"")

Sheet TA4
C2: =ESTRATEGIAS!M5 -> Objetivo 4 | D2: =ESTRATEGIAS!N5 -> Obj Estrategico 3
J4: ACTUALIZACIÓN
A5: No | B5: Fecha de inicio | C5: Meta | D5: Área de responsabilidad | E5: Responsable | F5: Estrategia | G5: Acciones | H5: Valor Actual | I5: Valor propuesto | J5: Estatus | K5: Fecha de actualización | L5: Valor Actual | M5: Días para alcanzar la meta | N5: Días restantes | O5: % de Avance | P5: Estrategia
A6: 1 | M6: =IF(B6<>"",(DAY(B6)+C6*30),"") | N6: =IF(K6<>"",(B6+30*C6)-NOW(),"") | O6: =IF(I6>H6,(IF(I6<>"",(((I6-H6)-(I6-L6))/ABS(I6-H6)),"")),IF(I6<>"",(1-(I6+L6-H6)/I6),"")) | P6: =IF(F6<>"",F6,"")
A7: =IF(B6<>"",A6+1,"") | M7: =IF(B7<>"",(DAY(B7)+C7*30),"") | N7: =IF(K7<>"",(B7+30*C7)-NOW(),"") | O7: =IF(I7>H7,(IF(I7<>"",(((I7-H7)-(I7-L7))/ABS(I7-H7)),"")),IF(I7<>"",(1-(I7+L7-H7)/I7),"")) | P7: =IF(F7<>"",F7,"")
A8: =IF(B7<>"",A7+1,"") | M8: =IF(B8<>"",(DAY(B8)+C8*30),"") | N8: =IF(K8<>"",(B8+30*C8)-NOW(),"") | O8: =IF(I8>H8,(IF(I8<>"",(((I8-H8)-(I8-L8))/ABS(I8-H8)),"")),IF(I8<>"",(1-(I8+L8-H8)/I8),"")) | P8: =IF(F8<>"",F8,"")
A9: =IF(B8<>"",A8+1,"") | M9: =IF(B9<>"",(DAY(B9)+C9*30),"") | N9: =IF(K9<>"",(B9+30*C9)-NOW(),"") | O9: =IF(I9>H9,(IF(I9<>"",(((I9-H9)-(I9-L9))/ABS(I9-H9)),"")),IF(I9<>"",(1-(I9+L9-H9)/I9),"")) | P9: =IF(F9<>"",F9,"")
A10: =IF(B9<>"",A9+1,"") | M10: =IF(B10<>"",(DAY(B10)+C10*30),"") | N10: =IF(K10<>"",(B10+30*C10)-NOW(),"") | O10: =IF(I10>H10,(IF(I10<>"",(((I10-H10)-(I10-L10))/ABS(I10-H10)),"")),IF(I10<>"",(1-(I10+L10-H10)/I10),"")) | P10: =IF(F10<>"",F10,"")
A11: =IF(B10<>"",A10+1,"") | M11: =IF(B11<>"",(DAY(B11)+C11*30),"") | N11: =IF(K11<>"",(B11+30*C11)-NOW(),"") | O11: =IF(I11>H11,(IF(I11<>"",(((I11-H11)-(I11-L11))/ABS(I11-H11)),"")),IF(I11<>"",(1-(I11+L11-H11)/I11),"")) | P11: =IF(F11<>"",F11,"")
A12: =IF(B11<>"",A11+1,"") | M12: =IF(B12<>"",(DAY(B12)+C12*30),"") | N12: =IF(K12<>"",(B12+30*C12)-NOW(),"") | O12: =IF(I12>H12,(IF(I12<>"",(((I12-H12)-(I12-L12))/ABS(I12-H12)),"")),IF(I12<>"",(1-(I12+L12-H12)/I12),"")) | P12: =IF(F12<>"",F12,"")
A13: =IF(B12<>"",A12+1,"") | M13: =IF(B13<>"",(DAY(B13)+C13*30),"") | N13: =IF(K13<>"",(B13+30*C13)-NOW(),"") | O13: =IF(I13>H13,(IF(I13<>"",(((I13-H13)-(I13-L13))/ABS(I13-H13)),"")),IF(I13<>"",(1-(I13+L13-H13)/I13),"")) | P13: =IF(F13<>"",F13,"")
A14: =IF(B13<>"",A13+1,"") | M14: =IF(B14<>"",(DAY(B14)+C14*30),"") | N14: =IF(K14<>"",(B14+30*C14)-NOW(),"") | O14: =IF(I14>H14,(IF(I14<>"",(((I14-H14)-(I14-L14))/ABS(I14-H14)),"")),IF(I14<>"",(1-(I14+L14-H14)/I14),"")) | P14: =IF(F14<>"",F14,"")
A15: =IF(B14<>"",A14+1,"") | M15: =IF(B15<>"",(DAY(B15)+C15*30),"") | N15: =IF(K15<>"",(B15+30*C15)-NOW(),"") | O15: =IF(I15>H15,(IF(I15<>"",(((I15-H15)-(I15-L15))/ABS(I15-H15)),"")),IF(I15<>"",(1-(I15+L15-H15)/I15),"")) | P15: =IF(F15<>"",F15,"")
A16: =IF(B15<>"",A15+1,"") | M16: =IF(B16<>"",(DAY(B16)+C16*30),"") | N16: =IF(K16<>"",(B16+30*C16)-NOW(),"") | O16: =IF(I16>H16,(IF(I16<>"",(((I16-H16)-(I16-L16))/ABS(I16-H16)),"")),IF(I16<>"",(1-(I16+L16-H16)/I16),"")) | P16: =IF(F16<>"",F16,"")
A17: =IF(B16<>"",A16+1,"") | M17: =IF(B17<>"",(DAY(B17)+C17*30),"") | N17: =IF(K17<>"",(B17+30*C17)-NOW(),"") | O17: =IF(I17>H17,(IF(I17<>"",(((I17-H17)-(I17-L17))/ABS(I17-H17)),"")),IF(I17<>"",(1-(I17+L17-H17)/I17),"")) | P17: =IF(F17<>"",F17,"")
A18: =IF(B17<>"",A17+1,"") | M18: =IF(B18<>"",(DAY(B18)+C18*30),"") | N18: =IF(K18<>"",(B18+30*C18)-NOW(),"") | O18: =IF(I18>H18,(IF(I18<>"",(((I18-H18)-(I18-L18))/ABS(I18-H18)),"")),IF(I18<>"",(1-(I18+L18-H18)/I18),"")) | P18: =IF(F18<>"",F18,"")
... A20: =IF(B19<>"",A19+1,"") | M20: =IF(B20<>"",(DAY(B20)+C20*30),"") | N20: =IF(K20<>"",(B20+30*C20)-NOW(),"") | O20: =IF(I20>H20,(IF(I20<>"",(((I20-H20)-(I20-L20))/ABS(I20-H20)),"")),IF(I20<>"",(1-(I20+L20-H20)/I20),"")) | P20: =IF(F20<>"",F20,"")
A21: =IF(B20<>"",A20+1,"") | M21: =IF(B21<>"",(DAY(B21)+C21*30),"") | N21: =IF(K21<>"",(DAY(B21)+30*C21)-DAY(TODAY()),"") | O21: =IF(I21>H21,(IF(I21<>"",(((I21-H21)-(I21-L21))/ABS(I21-H21)),"")),IF(I21<>"",(1-(I21+L21-H21)/I21),"")) | P21: =IF(F21<>"",F21,"")
A22: =IF(B21<>"",A21+1,"") | M22: =IF(B22<>"",(DAY(B22)+C22*30),"") | N22: =IF(K22<>"",(DAY(B22)+30*C22)-DAY(TODAY()),"") | O22: =IF(I22>H22,(IF(I22<>"",(((I22-H22)-(I22-L22))/ABS(I22-H22)),"")),IF(I22<>"",(1-(I22+L22-H22)/I22),"")) | P22: =IF(F22<>"",F22,"")
A23: =IF(B22<>"",A22+1,"") | M23: =IF(B23<>"",(DAY(B23)+C23*30),"") | N23: =IF(K23<>"",(DAY(B23)+30*C23)-DAY(TODAY()),"") | O23: =IF(I23>H23,(IF(I23<>"",(((I23-H23)-(I23-L23))/ABS(I23-H23)),"")),IF(I23<>"",(1-(I23+L23-H23)/I23),"")) | P23: =IF(F23<>"",F23,"")
A24: =IF(B23<>"",A23+1,"") | M24: =IF(B24<>"",(DAY(B24)+C24*30),"") | N24: =IF(K24<>"",(DAY(B24)+30*C24)-DAY(TODAY()),"") | O24: =IF(I24>H24,(IF(I24<>"",(((I24-H24)-(I24-L24))/ABS(I24-H24)),"")),IF(I24<>"",(1-(I24+L24-H24)/I24),"")) | P24: =IF(F24<>"",F24,"")
A25: =IF(B24<>"",A24+1,"") | M25: =IF(B25<>"",(DAY(B25)+C25*30),"") | N25: =IF(K25<>"",(DAY(B25)+30*C25)-DAY(TODAY()),"") | O25: =IF(I25>H25,(IF(I25<>"",(((I25-H25)-(I25-L25))/ABS(I25-H25)),"")),IF(I25<>"",(1-(I25+L25-H25)/I25),"")) | P25: =IF(F25<>"",F25,"")
A26: =IF(B25<>"",A25+1,"") | M26: =IF(B26<>"",(DAY(B26)+C26*30),"") | N26: =IF(K26<>"",(DAY(B26)+30*C26)-DAY(TODAY()),"") | O26: =IF(I26>H26,(IF(I26<>"",(((I26-H26)-(I26-L26))/ABS(I26-H26)),"")),IF(I26<>"",(1-(I26+L26-H26)/I26),"")) | P26: =IF(F26<>"",F26,"")
A27: =IF(B26<>"",A26+1,"") | M27: =IF(B27<>"",(DAY(B27)+C27*30),"") | N27: =IF(K27<>"",(DAY(B27)+30*C27)-DAY(TODAY()),"") | O27: =IF(I27>H27,(IF(I27<>"",(((I27-H27)-(I27-L27))/ABS(I27-H27)),"")),IF(I27<>"",(1-(I27+L27-H27)/I27),"")) | P27: =IF(F27<>"",F27,"")
A28: =IF(B27<>"",A27+1,"") | M28: =IF(B28<>"",(DAY(B28)+C28*30),"") | N28: =IF(K28<>"",(DAY(B28)+30*C28)-DAY(TODAY()),"") | O28: =IF(I28>H28,(IF(I28<>"",(((I28-H28)-(I28-L28))/ABS(I28-H28)),"")),IF(I28<>"",(1-(I28+L28-H28)/I28),"")) | P28: =IF(F28<>"",F28,"")
A29: =IF(B28<>"",A28+1,"") | M29: =IF(B29<>"",(DAY(B29)+C29*30),"") | N29: =IF(K29<>"",(DAY(B29)+30*C29)-DAY(TODAY()),"") | O29: =IF(I29>H29,(IF(I29<>"",(((I29-H29)-(I29-L29))/ABS(I29-H29)),"")),IF(I29<>"",(1-(I29+L29-H29)/I29),"")) | P29: =IF(F29<>"",F29,"")
A30: =IF(B29<>"",A29+1,"") | M30: =IF(B30<>"",(DAY(B30)+C30*30),"") | N30: =IF(K30<>"",(DAY(B30)+30*C30)-DAY(TODAY()),"") | O30: =IF(I30>H30,(IF(I30<>"",(((I30-H30)-(I30-L30))/ABS(I30-H30)),"")),IF(I30<>"",(1-(I30+L30-H30)/I30),"")) | P30: =IF(F30<>"",F30,"")
A31: =IF(B30<>"",A30+1,"") | M31: =IF(B31<>"",(DAY(B31)+C31*30),"") | N31: =IF(K31<>"",(DAY(B31)+30*C31)-DAY(TODAY()),"") | O31: =IF(I31>H31,(IF(I31<>"",(((I31-H31)-(I31-L31))/ABS(I31-H31)),"")),IF(I31<>"",(1-(I31+L31-H31)/I31),"")) | P31: =IF(F31<>"",F31,"")
A32: =IF(B31<>"",A31+1,"") | M32: =IF(B32<>"",(DAY(B32)+C32*30),"") | N32: =IF(K32<>"",(DAY(B32)+30*C32)-DAY(TODAY()),"") | O32: =IF(I32>H32,(IF(I32<>"",(((I32-H32)-(I32-L32))/ABS(I32-H32)),"")),IF(I32<>"",(1-(I32+L32-H32)/I32),"")) | P32: =IF(F32<>"",F32,"")
... A250: =IF(B249<>"",A249+1,"") | M250: =IF(B250<>"",(DAY(B250)+C250*30),"") | N250: =IF(K250<>"",(DAY(B250)+30*C250)-DAY(TODAY()),"") | O250: =IF(I250>H250,(IF(I250<>"",(((I250-H250)-(I250-L250))/ABS(I250-H250)),"")),IF(I250<>"",(1-(I250+L250-H250)/I250),"")) | P250: =IF(F250<>"",F250,"")
A251: 246 | M251: =IF(B251<>"",(DAY(B251)+C251*30),"") | N251: =IF(K251<>"",(DAY(B251)+30*C251)-DAY(TODAY()),"") | O251: =IF(I251>H251,(IF(I251<>"",(((I251-H251)-(I251-L251))/ABS(I251-H251)),"")),IF(I251<>"",(1-(I251+L251-H251)/I251),"")) | P251: =IF(F251<>"",F251,"")
A252: 247 | M252: =IF(B252<>"",(DAY(B252)+C252*30),"") | N252: =IF(K252<>"",(DAY(B252)+30*C252)-DAY(TODAY()),"") | O252: =IF(I252>H252,(IF(I252<>"",(((I252-H252)-(I252-L252))/ABS(I252-H252)),"")),IF(I252<>"",(1-(I252+L252-H252)/I252),"")) | P252: =IF(F252<>"",F252,"")
A253: 248 | M253: =IF(B253<>"",(DAY(B253)+C253*30),"") | N253: =IF(K253<>"",(DAY(B253)+30*C253)-DAY(TODAY()),"") | O253: =IF(I253>H253,(IF(I253<>"",(((I253-H253)-(I253-L253))/ABS(I253-H253)),"")),IF(I253<>"",(1-(I253+L253-H253)/I253),"")) | P253: =IF(F253<>"",F253,"")
A254: 249 | M254: =IF(B254<>"",(DAY(B254)+C254*30),"") | N254: =IF(K254<>"",(DAY(B254)+30*C254)-DAY(TODAY()),"") | O254: =IF(I254>H254,(IF(I254<>"",(((I254-H254)-(I254-L254))/ABS(I254-H254)),"")),IF(I254<>"",(1-(I254+L254-H254)/I254),"")) | P254: =IF(F254<>"",F254,"")
A255: 250 | M255: =IF(B255<>"",(DAY(B255)+C255*30),"") | N255: =IF(K255<>"",(DAY(B255)+30*C255)-DAY(TODAY()),"") | O255: =IF(I255>H255,(IF(I255<>"",(((I255-H255)-(I255-L255))/ABS(I255-H255)),"")),IF(I255<>"",(1-(I255+L255-H255)/I255),"")) | P255: =IF(F255<>"",F255,"")
A256: 251 | M256: =IF(B256<>"",(DAY(B256)+C256*30),"") | N256: =IF(K256<>"",(DAY(B256)+30*C256)-DAY(TODAY()),"") | O256: =IF(I256>H256,(IF(I256<>"",(((I256-H256)-(I256-L256))/ABS(I256-H256)),"")),IF(I256<>"",(1-(I256+L256-H256)/I256),"")) | P256: =IF(F256<>"",F256,"")
A257: 252 | M257: =IF(B257<>"",(DAY(B257)+C257*30),"") | N257: =IF(K257<>"",(DAY(B257)+30*C257)-DAY(TODAY()),"") | O257: =IF(I257>H257,(IF(I257<>"",(((I257-H257)-(I257-L257))/ABS(I257-H257)),"")),IF(I257<>"",(1-(I257+L257-H257)/I257),"")) | P257: =IF(F257<>"",F257,"")
A258: 253 | M258: =IF(B258<>"",(DAY(B258)+C258*30),"") | N258: =IF(K258<>"",(DAY(B258)+30*C258)-DAY(TODAY()),"") | O258: =IF(I258>H258,(IF(I258<>"",(((I258-H258)-(I258-L258))/ABS(I258-H258)),"")),IF(I258<>"",(1-(I258+L258-H258)/I258),"")) | P258: =IF(F258<>"",F258,"")
A259: 254 | M259: =IF(B259<>"",(DAY(B259)+C259*30),"") | N259: =IF(K259<>"",(DAY(B259)+30*C259)-DAY(TODAY()),"") | O259: =IF(I259>H259,(IF(I259<>"",(((I259-H259)-(I259-L259))/ABS(I259-H259)),"")),IF(I259<>"",(1-(I259+L259-H259)/I259),"")) | P259: =IF(F259<>"",F259,"")
A260: 255 | M260: =IF(B260<>"",(DAY(B260)+C260*30),"") | N260: =IF(K260<>"",(DAY(B260)+30*C260)-DAY(TODAY()),"") | O260: =IF(I260>H260,(IF(I260<>"",(((I260-H260)-(I260-L260))/ABS(I260-H260)),"")),IF(I260<>"",(1-(I260+L260-H260)/I260),"")) | P260: =IF(F260<>"",F260,"")
A261: 256 | M261: =IF(B261<>"",(DAY(B261)+C261*30),"") | N261: =IF(K261<>"",(DAY(B261)+30*C261)-DAY(TODAY()),"") | O261: =IF(I261>H261,(IF(I261<>"",(((I261-H261)-(I261-L261))/ABS(I261-H261)),"")),IF(I261<>"",(1-(I261+L261-H261)/I261),"")) | P261: =IF(F261<>"",F261,"")
A262: 257 | M262: =IF(B262<>"",(DAY(B262)+C262*30),"") | N262: =IF(K262<>"",(DAY(B262)+30*C262)-DAY(TODAY()),"") | O262: =IF(I262>H262,(IF(I262<>"",(((I262-H262)-(I262-L262))/ABS(I262-H262)),"")),IF(I262<>"",(1-(I262+L262-H262)/I262),"")) | P262: =IF(F262<>"",F262,"")
... A500: 495 | M500: =IF(B500<>"",(DAY(B500)+C500*30),"") | N500: =IF(K500<>"",(DAY(B500)+30*C500)-DAY(TODAY()),"") | O500: =IF(I500>H500,(IF(I500<>"",(((I500-H500)-(I500-L500))/ABS(I500-H500)),"")),IF(I500<>"",(1-(I500+L500-H500)/I500),"")) | P500: =IF(F500<>"",F500,"")

Sheet TA5
C2: =ESTRATEGIAS!Q5 -> Objetivo 5 | D2: =ESTRATEGIAS!R5 -> Obj Estrategico 4
J4: ACTUALIZACIÓN
A5: No | B5: Fecha de inicio | C5: Meta | D5: Área de responsabilidad | E5: Responsable | F5: Estrategia | G5: Acciones | H5: Valor Actual | I5: Valor propuesto | J5: Estatus | K5: Fecha de actualización | L5: Valor Actual | M5: Días para alcanzar la meta | N5: Días restantes | O5: % de Avance | P5: Estrategia
A6: 1 | M6: =IF(B6<>"",(DAY(B6)+C6*30),"") | N6: =IF(K6<>"",(B6+30*C6)-NOW(),"") | O6: =IF(I6>H6,(IF(I6<>"",(((I6-H6)-(I6-L6))/ABS(I6-H6)),"")),IF(I6<>"",(1-(I6+L6-H6)/I6),"")) | P6: =IF(F6<>"",F6,"")
A7: =IF(B6<>"",A6+1,"") | M7: =IF(B7<>"",(DAY(B7)+C7*30),"") | N7: =IF(K7<>"",(B7+30*C7)-NOW(),"") | O7: =IF(I7>H7,(IF(I7<>"",(((I7-H7)-(I7-L7))/ABS(I7-H7)),"")),IF(I7<>"",(1-(I7+L7-H7)/I7),"")) | P7: =IF(F7<>"",F7,"")
A8: =IF(B7<>"",A7+1,"") | M8: =IF(B8<>"",(DAY(B8)+C8*30),"") | N8: =IF(K8<>"",(B8+30*C8)-NOW(),"") | O8: =IF(I8>H8,(IF(I8<>"",(((I8-H8)-(I8-L8))/ABS(I8-H8)),"")),IF(I8<>"",(1-(I8+L8-H8)/I8),"")) | P8: =IF(F8<>"",F8,"")
A9: =IF(B8<>"",A8+1,"") | M9: =IF(B9<>"",(DAY(B9)+C9*30),"") | N9: =IF(K9<>"",(B9+30*C9)-NOW(),"") | O9: =IF(I9>H9,(IF(I9<>"",(((I9-H9)-(I9-L9))/ABS(I9-H9)),"")),IF(I9<>"",(1-(I9+L9-H9)/I9),"")) | P9: =IF(F9<>"",F9,"")
A10: =IF(B9<>"",A9+1,"") | M10: =IF(B10<>"",(DAY(B10)+C10*30),"") | N10: =IF(K10<>"",(B10+30*C10)-NOW(),"") | O10: =IF(I10>H10,(IF(I10<>"",(((I10-H10)-(I10-L10))/ABS(I10-H10)),"")),IF(I10<>"",(1-(I10+L10-H10)/I10),"")) | P10: =IF(F10<>"",F10,"")
A11: =IF(B10<>"",A10+1,"") | M11: =IF(B11<>"",(DAY(B11)+C11*30),"") | N11: =IF(K11<>"",(B11+30*C11)-NOW(),"") | O11: =IF(I11>H11,(IF(I11<>"",(((I11-H11)-(I11-L11))/ABS(I11-H11)),"")),IF(I11<>"",(1-(I11+L11-H11)/I11),"")) | P11: =IF(F11<>"",F11,"")
A12: =IF(B11<>"",A11+1,"") | M12: =IF(B12<>"",(DAY(B12)+C12*30),"") | N12: =IF(K12<>"",(B12+30*C12)-NOW(),"") | O12: =IF(I12>H12,(IF(I12<>"",(((I12-H12)-(I12-L12))/ABS(I12-H12)),"")),IF(I12<>"",(1-(I12+L12-H12)/I12),"")) | P12: =IF(F12<>"",F12,"")
A13: =IF(B12<>"",A12+1,"") | M13: =IF(B13<>"",(DAY(B13)+C13*30),"") | N13: =IF(K13<>"",(B13+30*C13)-NOW(),"") | O13: =IF(I13>H13,(IF(I13<>"",(((I13-H13)-(I13-L13))/ABS(I13-H13)),"")),IF(I13<>"",(1-(I13+L13-H13)/I13),"")) | P13: =IF(F13<>"",F13,"")
A14: =IF(B13<>"",A13+1,"") | M14: =IF(B14<>"",(DAY(B14)+C14*30),"") | N14: =IF(K14<>"",(B14+30*C14)-NOW(),"") | O14: =IF(I14>H14,(IF(I14<>"",(((I14-H14)-(I14-L14))/ABS(I14-H14)),"")),IF(I14<>"",(1-(I14+L14-H14)/I14),"")) | P14: =IF(F14<>"",F14,"")
A15: =IF(B14<>"",A14+1,"") | M15: =IF(B15<>"",(DAY(B15)+C15*30),"") | N15: =IF(K15<>"",(B15+30*C15)-NOW(),"") | O15: =IF(I15>H15,(IF(I15<>"",(((I15-H15)-(I15-L15))/ABS(I15-H15)),"")),IF(I15<>"",(1-(I15+L15-H15)/I15),"")) | P15: =IF(F15<>"",F15,"")
A16: =IF(B15<>"",A15+1,"") | M16: =IF(B16<>"",(DAY(B16)+C16*30),"") | N16: =IF(K16<>"",(B16+30*C16)-NOW(),"") | O16: =IF(I16>H16,(IF(I16<>"",(((I16-H16)-(I16-L16))/ABS(I16-H16)),"")),IF(I16<>"",(1-(I16+L16-H16)/I16),"")) | P16: =IF(F16<>"",F16,"")
A17: =IF(B16<>"",A16+1,"") | M17: =IF(B17<>"",(DAY(B17)+C17*30),"") | N17: =IF(K17<>"",(B17+30*C17)-NOW(),"") | O17: =IF(I17>H17,(IF(I17<>"",(((I17-H17)-(I17-L17))/ABS(I17-H17)),"")),IF(I17<>"",(1-(I17+L17-H17)/I17),"")) | P17: =IF(F17<>"",F17,"")
A18: =IF(B17<>"",A17+1,"") | M18: =IF(B18<>"",(DAY(B18)+C18*30),"") | N18: =IF(K18<>"",(B18+30*C18)-NOW(),"") | O18: =IF(I18>H18,(IF(I18<>"",(((I18-H18)-(I18-L18))/ABS(I18-H18)),"")),IF(I18<>"",(1-(I18+L18-H18)/I18),"")) | P18: =IF(F18<>"",F18,"")
... A20: =IF(B19<>"",A19+1,"") | M20: =IF(B20<>"",(DAY(B20)+C20*30),"") | N20: =IF(K20<>"",(B20+30*C20)-NOW(),"") | O20: =IF(I20>H20,(IF(I20<>"",(((I20-H20)-(I20-L20))/ABS(I20-H20)),"")),IF(I20<>"",(1-(I20+L20-H20)/I20),"")) | P20: =IF(F20<>"",F20,"")
A21: =IF(B20<>"",A20+1,"") | M21: =IF(B21<>"",(DAY(B21)+C21*30),"") | N21: =IF(K21<>"",(DAY(B21)+30*C21)-DAY(TODAY()),"") | O21: =IF(I21>H21,(IF(I21<>"",(((I21-H21)-(I21-L21))/ABS(I21-H21)),"")),IF(I21<>"",(1-(I21+L21-H21)/I21),"")) | P21: =IF(F21<>"",F21,"")
A22: =IF(B21<>"",A21+1,"") | M22: =IF(B22<>"",(DAY(B22)+C22*30),"") | N22: =IF(K22<>"",(DAY(B22)+30*C22)-DAY(TODAY()),"") | O22: =IF(I22>H22,(IF(I22<>"",(((I22-H22)-(I22-L22))/ABS(I22-H22)),"")),IF(I22<>"",(1-(I22+L22-H22)/I22),"")) | P22: =IF(F22<>"",F22,"")
A23: =IF(B22<>"",A22+1,"") | M23: =IF(B23<>"",(DAY(B23)+C23*30),"") | N23: =IF(K23<>"",(DAY(B23)+30*C23)-DAY(TODAY()),"") | O23: =IF(I23>H23,(IF(I23<>"",(((I23-H23)-(I23-L23))/ABS(I23-H23)),"")),IF(I23<>"",(1-(I23+L23-H23)/I23),"")) | P23: =IF(F23<>"",F23,"")
A24: =IF(B23<>"",A23+1,"") | M24: =IF(B24<>"",(DAY(B24)+C24*30),"") | N24: =IF(K24<>"",(DAY(B24)+30*C24)-DAY(TODAY()),"") | O24: =IF(I24>H24,(IF(I24<>"",(((I24-H24)-(I24-L24))/ABS(I24-H24)),"")),IF(I24<>"",(1-(I24+L24-H24)/I24),"")) | P24: =IF(F24<>"",F24,"")
A25: =IF(B24<>"",A24+1,"") | M25: =IF(B25<>"",(DAY(B25)+C25*30),"") | N25: =IF(K25<>"",(DAY(B25)+30*C25)-DAY(TODAY()),"") | O25: =IF(I25>H25,(IF(I25<>"",(((I25-H25)-(I25-L25))/ABS(I25-H25)),"")),IF(I25<>"",(1-(I25+L25-H25)/I25),"")) | P25: =IF(F25<>"",F25,"")
A26: =IF(B25<>"",A25+1,"") | M26: =IF(B26<>"",(DAY(B26)+C26*30),"") | N26: =IF(K26<>"",(DAY(B26)+30*C26)-DAY(TODAY()),"") | O26: =IF(I26>H26,(IF(I26<>"",(((I26-H26)-(I26-L26))/ABS(I26-H26)),"")),IF(I26<>"",(1-(I26+L26-H26)/I26),"")) | P26: =IF(F26<>"",F26,"")
A27: =IF(B26<>"",A26+1,"") | M27: =IF(B27<>"",(DAY(B27)+C27*30),"") | N27: =IF(K27<>"",(DAY(B27)+30*C27)-DAY(TODAY()),"") | O27: =IF(I27>H27,(IF(I27<>"",(((I27-H27)-(I27-L27))/ABS(I27-H27)),"")),IF(I27<>"",(1-(I27+L27-H27)/I27),"")) | P27: =IF(F27<>"",F27,"")
A28: =IF(B27<>"",A27+1,"") | M28: =IF(B28<>"",(DAY(B28)+C28*30),"") | N28: =IF(K28<>"",(DAY(B28)+30*C28)-DAY(TODAY()),"") | O28: =IF(I28>H28,(IF(I28<>"",(((I28-H28)-(I28-L28))/ABS(I28-H28)),"")),IF(I28<>"",(1-(I28+L28-H28)/I28),"")) | P28: =IF(F28<>"",F28,"")
A29: =IF(B28<>"",A28+1,"") | M29: =IF(B29<>"",(DAY(B29)+C29*30),"") | N29: =IF(K29<>"",(DAY(B29)+30*C29)-DAY(TODAY()),"") | O29: =IF(I29>H29,(IF(I29<>"",(((I29-H29)-(I29-L29))/ABS(I29-H29)),"")),IF(I29<>"",(1-(I29+L29-H29)/I29),"")) | P29: =IF(F29<>"",F29,"")
A30: =IF(B29<>"",A29+1,"") | M30: =IF(B30<>"",(DAY(B30)+C30*30),"") | N30: =IF(K30<>"",(DAY(B30)+30*C30)-DAY(TODAY()),"") | O30: =IF(I30>H30,(IF(I30<>"",(((I30-H30)-(I30-L30))/ABS(I30-H30)),"")),IF(I30<>"",(1-(I30+L30-H30)/I30),"")) | P30: =IF(F30<>"",F30,"")
A31: =IF(B30<>"",A30+1,"") | M31: =IF(B31<>"",(DAY(B31)+C31*30),"") | N31: =IF(K31<>"",(DAY(B31)+30*C31)-DAY(TODAY()),"") | O31: =IF(I31>H31,(IF(I31<>"",(((I31-H31)-(I31-L31))/ABS(I31-H31)),"")),IF(I31<>"",(1-(I31+L31-H31)/I31),"")) | P31: =IF(F31<>"",F31,"")
A32: =IF(B31<>"",A31+1,"") | M32: =IF(B32<>"",(DAY(B32)+C32*30),"") | N32: =IF(K32<>"",(DAY(B32)+30*C32)-DAY(TODAY()),"") | O32: =IF(I32>H32,(IF(I32<>"",(((I32-H32)-(I32-L32))/ABS(I32-H32)),"")),IF(I32<>"",(1-(I32+L32-H32)/I32),"")) | P32: =IF(F32<>"",F32,"")
... A250: =IF(B249<>"",A249+1,"") | M250: =IF(B250<>"",(DAY(B250)+C250*30),"") | N250: =IF(K250<>"",(DAY(B250)+30*C250)-DAY(TODAY()),"") | O250: =IF(I250>H250,(IF(I250<>"",(((I250-H250)-(I250-L250))/ABS(I250-H250)),"")),IF(I250<>"",(1-(I250+L250-H250)/I250),"")) | P250: =IF(F250<>"",F250,"")
A251: 246 | M251: =IF(B251<>"",(DAY(B251)+C251*30),"") | N251: =IF(K251<>"",(DAY(B251)+30*C251)-DAY(TODAY()),"") | O251: =IF(I251>H251,(IF(I251<>"",(((I251-H251)-(I251-L251))/ABS(I251-H251)),"")),IF(I251<>"",(1-(I251+L251-H251)/I251),"")) | P251: =IF(F251<>"",F251,"")
A252: 247 | M252: =IF(B252<>"",(DAY(B252)+C252*30),"") | N252: =IF(K252<>"",(DAY(B252)+30*C252)-DAY(TODAY()),"") | O252: =IF(I252>H252,(IF(I252<>"",(((I252-H252)-(I252-L252))/ABS(I252-H252)),"")),IF(I252<>"",(1-(I252+L252-H252)/I252),"")) | P252: =IF(F252<>"",F252,"")
A253: 248 | M253: =IF(B253<>"",(DAY(B253)+C253*30),"") | N253: =IF(K253<>"",(DAY(B253)+30*C253)-DAY(TODAY()),"") | O253: =IF(I253>H253,(IF(I253<>"",(((I253-H253)-(I253-L253))/ABS(I253-H253)),"")),IF(I253<>"",(1-(I253+L253-H253)/I253),"")) | P253: =IF(F253<>"",F253,"")
A254: 249 | M254: =IF(B254<>"",(DAY(B254)+C254*30),"") | N254: =IF(K254<>"",(DAY(B254)+30*C254)-DAY(TODAY()),"") | O254: =IF(I254>H254,(IF(I254<>"",(((I254-H254)-(I254-L254))/ABS(I254-H254)),"")),IF(I254<>"",(1-(I254+L254-H254)/I254),"")) | P254: =IF(F254<>"",F254,"")
A255: 250 | M255: =IF(B255<>"",(DAY(B255)+C255*30),"") | N255: =IF(K255<>"",(DAY(B255)+30*C255)-DAY(TODAY()),"") | O255: =IF(I255>H255,(IF(I255<>"",(((I255-H255)-(I255-L255))/ABS(I255-H255)),"")),IF(I255<>"",(1-(I255+L255-H255)/I255),"")) | P255: =IF(F255<>"",F255,"")
A256: 251 | M256: =IF(B256<>"",(DAY(B256)+C256*30),"") | N256: =IF(K256<>"",(DAY(B256)+30*C256)-DAY(TODAY()),"") | O256: =IF(I256>H256,(IF(I256<>"",(((I256-H256)-(I256-L256))/ABS(I256-H256)),"")),IF(I256<>"",(1-(I256+L256-H256)/I256),"")) | P256: =IF(F256<>"",F256,"")
A257: 252 | M257: =IF(B257<>"",(DAY(B257)+C257*30),"") | N257: =IF(K257<>"",(DAY(B257)+30*C257)-DAY(TODAY()),"") | O257: =IF(I257>H257,(IF(I257<>"",(((I257-H257)-(I257-L257))/ABS(I257-H257)),"")),IF(I257<>"",(1-(I257+L257-H257)/I257),"")) | P257: =IF(F257<>"",F257,"")
A258: 253 | M258: =IF(B258<>"",(DAY(B258)+C258*30),"") | N258: =IF(K258<>"",(DAY(B258)+30*C258)-DAY(TODAY()),"") | O258: =IF(I258>H258,(IF(I258<>"",(((I258-H258)-(I258-L258))/ABS(I258-H258)),"")),IF(I258<>"",(1-(I258+L258-H258)/I258),"")) | P258: =IF(F258<>"",F258,"")
A259: 254 | M259: =IF(B259<>"",(DAY(B259)+C259*30),"") | N259: =IF(K259<>"",(DAY(B259)+30*C259)-DAY(TODAY()),"") | O259: =IF(I259>H259,(IF(I259<>"",(((I259-H259)-(I259-L259))/ABS(I259-H259)),"")),IF(I259<>"",(1-(I259+L259-H259)/I259),"")) | P259: =IF(F259<>"",F259,"")
A260: 255 | M260: =IF(B260<>"",(DAY(B260)+C260*30),"") | N260: =IF(K260<>"",(DAY(B260)+30*C260)-DAY(TODAY()),"") | O260: =IF(I260>H260,(IF(I260<>"",(((I260-H260)-(I260-L260))/ABS(I260-H260)),"")),IF(I260<>"",(1-(I260+L260-H260)/I260),"")) | P260: =IF(F260<>"",F260,"")
A261: 256 | M261: =IF(B261<>"",(DAY(B261)+C261*30),"") | N261: =IF(K261<>"",(DAY(B261)+30*C261)-DAY(TODAY()),"") | O261: =IF(I261>H261,(IF(I261<>"",(((I261-H261)-(I261-L261))/ABS(I261-H261)),"")),IF(I261<>"",(1-(I261+L261-H261)/I261),"")) | P261: =IF(F261<>"",F261,"")
A262: 257 | M262: =IF(B262<>"",(DAY(B262)+C262*30),"") | N262: =IF(K262<>"",(DAY(B262)+30*C262)-DAY(TODAY()),"") | O262: =IF(I262>H262,(IF(I262<>"",(((I262-H262)-(I262-L262))/ABS(I262-H262)),"")),IF(I262<>"",(1-(I262+L262-H262)/I262),"")) | P262: =IF(F262<>"",F262,"")
... A500: 495 | M500: =IF(B500<>"",(DAY(B500)+C500*30),"") | N500: =IF(K500<>"",(DAY(B500)+30*C500)-DAY(TODAY()),"") | O500: =IF(I500>H500,(IF(I500<>"",(((I500-H500)-(I500-L500))/ABS(I500-H500)),"")),IF(I500<>"",(1-(I500+L500-H500)/I500),"")) | P500: =IF(F500<>"",F500,"")

Sheet TA6
C2: =ESTRATEGIAS!U5 -> Objetivo 6 | D2: =ESTRATEGIAS!V5 -> Obj Estrategico 5
J4: ACTUALIZACIÓN
A5: No | B5: Fecha de inicio | C5: Meta | D5: Área de responsabilidad | E5: Responsable | F5: Estrategia | G5: Acciones | H5: Valor Actual | I5: Valor propuesto | J5: Estatus | K5: Fecha de actualización | L5: Valor Actual | M5: Días para alcanzar la meta | N5: Días restantes | O5: % de Avance | P5: Estrategia
A6: 1 | M6: =IF(B6<>"",(DAY(B6)+C6*30),"") | N6: =IF(K6<>"",(B6+30*C6)-NOW(),"") | O6: =IF(I6>H6,(IF(I6<>"",(((I6-H6)-(I6-L6))/ABS(I6-H6)),"")),IF(I6<>"",(1-(I6+L6-H6)/I6),"")) | P6: =IF(F6<>"",F6,"")
A7: =IF(B6<>"",A6+1,"") | M7: =IF(B7<>"",(DAY(B7)+C7*30),"") | N7: =IF(K7<>"",(B7+30*C7)-NOW(),"") | O7: =IF(I7>H7,(IF(I7<>"",(((I7-H7)-(I7-L7))/ABS(I7-H7)),"")),IF(I7<>"",(1-(I7+L7-H7)/I7),"")) | P7: =IF(F7<>"",F7,"")
A8: =IF(B7<>"",A7+1,"") | M8: =IF(B8<>"",(DAY(B8)+C8*30),"") | N8: =IF(K8<>"",(B8+30*C8)-NOW(),"") | O8: =IF(I8>H8,(IF(I8<>"",(((I8-H8)-(I8-L8))/ABS(I8-H8)),"")),IF(I8<>"",(1-(I8+L8-H8)/I8),"")) | P8: =IF(F8<>"",F8,"")
A9: =IF(B8<>"",A8+1,"") | M9: =IF(B9<>"",(DAY(B9)+C9*30),"") | N9: =IF(K9<>"",(B9+30*C9)-NOW(),"") | O9: =IF(I9>H9,(IF(I9<>"",(((I9-H9)-(I9-L9))/ABS(I9-H9)),"")),IF(I9<>"",(1-(I9+L9-H9)/I9),"")) | P9: =IF(F9<>"",F9,"")
A10: =IF(B9<>"",A9+1,"") | M10: =IF(B10<>"",(DAY(B10)+C10*30),"") | N10: =IF(K10<>"",(B10+30*C10)-NOW(),"") | O10: =IF(I10>H10,(IF(I10<>"",(((I10-H10)-(I10-L10))/ABS(I10-H10)),"")),IF(I10<>"",(1-(I10+L10-H10)/I10),"")) | P10: =IF(F10<>"",F10,"")
A11: =IF(B10<>"",A10+1,"") | M11: =IF(B11<>"",(DAY(B11)+C11*30),"") | N11: =IF(K11<>"",(B11+30*C11)-NOW(),"") | O11: =IF(I11>H11,(IF(I11<>"",(((I11-H11)-(I11-L11))/ABS(I11-H11)),"")),IF(I11<>"",(1-(I11+L11-H11)/I11),"")) | P11: =IF(F11<>"",F11,"")
A12: =IF(B11<>"",A11+1,"") | M12: =IF(B12<>"",(DAY(B12)+C12*30),"") | N12: =IF(K12<>"",(B12+30*C12)-NOW(),"") | O12: =IF(I12>H12,(IF(I12<>"",(((I12-H12)-(I12-L12))/ABS(I12-H12)),"")),IF(I12<>"",(1-(I12+L12-H12)/I12),"")) | P12: =IF(F12<>"",F12,"")
A13: =IF(B12<>"",A12+1,"") | M13: =IF(B13<>"",(DAY(B13)+C13*30),"") | N13: =IF(K13<>"",(B13+30*C13)-NOW(),"") | O13: =IF(I13>H13,(IF(I13<>"",(((I13-H13)-(I13-L13))/ABS(I13-H13)),"")),IF(I13<>"",(1-(I13+L13-H13)/I13),"")) | P13: =IF(F13<>"",F13,"")
A14: =IF(B13<>"",A13+1,"") | M14: =IF(B14<>"",(DAY(B14)+C14*30),"") | N14: =IF(K14<>"",(B14+30*C14)-NOW(),"") | O14: =IF(I14>H14,(IF(I14<>"",(((I14-H14)-(I14-L14))/ABS(I14-H14)),"")),IF(I14<>"",(1-(I14+L14-H14)/I14),"")) | P14: =IF(F14<>"",F14,"")
A15: =IF(B14<>"",A14+1,"") | M15: =IF(B15<>"",(DAY(B15)+C15*30),"") | N15: =IF(K15<>"",(B15+30*C15)-NOW(),"") | O15: =IF(I15>H15,(IF(I15<>"",(((I15-H15)-(I15-L15))/ABS(I15-H15)),"")),IF(I15<>"",(1-(I15+L15-H15)/I15),"")) | P15: =IF(F15<>"",F15,"")
A16: =IF(B15<>"",A15+1,"") | M16: =IF(B16<>"",(DAY(B16)+C16*30),"") | N16: =IF(K16<>"",(B16+30*C16)-NOW(),"") | O16: =IF(I16>H16,(IF(I16<>"",(((I16-H16)-(I16-L16))/ABS(I16-H16)),"")),IF(I16<>"",(1-(I16+L16-H16)/I16),"")) | P16: =IF(F16<>"",F16,"")
A17: =IF(B16<>"",A16+1,"") | M17: =IF(B17<>"",(DAY(B17)+C17*30),"") | N17: =IF(K17<>"",(B17+30*C17)-NOW(),"") | O17: =IF(I17>H17,(IF(I17<>"",(((I17-H17)-(I17-L17))/ABS(I17-H17)),"")),IF(I17<>"",(1-(I17+L17-H17)/I17),"")) | P17: =IF(F17<>"",F17,"")
A18: =IF(B17<>"",A17+1,"") | M18: =IF(B18<>"",(DAY(B18)+C18*30),"") | N18: =IF(K18<>"",(B18+30*C18)-NOW(),"") | O18: =IF(I18>H18,(IF(I18<>"",(((I18-H18)-(I18-L18))/ABS(I18-H18)),"")),IF(I18<>"",(1-(I18+L18-H18)/I18),"")) | P18: =IF(F18<>"",F18,"")
... A20: =IF(B19<>"",A19+1,"") | M20: =IF(B20<>"",(DAY(B20)+C20*30),"") | N20: =IF(K20<>"",(B20+30*C20)-NOW(),"") | O20: =IF(I20>H20,(IF(I20<>"",(((I20-H20)-(I20-L20))/ABS(I20-H20)),"")),IF(I20<>"",(1-(I20+L20-H20)/I20),"")) | P20: =IF(F20<>"",F20,"")
A21: =IF(B20<>"",A20+1,"") | M21: =IF(B21<>"",(DAY(B21)+C21*30),"") | N21: =IF(K21<>"",(DAY(B21)+30*C21)-DAY(TODAY()),"") | O21: =IF(I21>H21,(IF(I21<>"",(((I21-H21)-(I21-L21))/ABS(I21-H21)),"")),IF(I21<>"",(1-(I21+L21-H21)/I21),"")) | P21: =IF(F21<>"",F21,"")
A22: =IF(B21<>"",A21+1,"") | M22: =IF(B22<>"",(DAY(B22)+C22*30),"") | N22: =IF(K22<>"",(DAY(B22)+30*C22)-DAY(TODAY()),"") | O22: =IF(I22>H22,(IF(I22<>"",(((I22-H22)-(I22-L22))/ABS(I22-H22)),"")),IF(I22<>"",(1-(I22+L22-H22)/I22),"")) | P22: =IF(F22<>"",F22,"")
A23: =IF(B22<>"",A22+1,"") | M23: =IF(B23<>"",(DAY(B23)+C23*30),"") | N23: =IF(K23<>"",(DAY(B23)+30*C23)-DAY(TODAY()),"") | O23: =IF(I23>H23,(IF(I23<>"",(((I23-H23)-(I23-L23))/ABS(I23-H23)),"")),IF(I23<>"",(1-(I23+L23-H23)/I23),"")) | P23: =IF(F23<>"",F23,"")
A24: =IF(B23<>"",A23+1,"") | M24: =IF(B24<>"",(DAY(B24)+C24*30),"") | N24: =IF(K24<>"",(DAY(B24)+30*C24)-DAY(TODAY()),"") | O24: =IF(I24>H24,(IF(I24<>"",(((I24-H24)-(I24-L24))/ABS(I24-H24)),"")),IF(I24<>"",(1-(I24+L24-H24)/I24),"")) | P24: =IF(F24<>"",F24,"")
A25: =IF(B24<>"",A24+1,"") | M25: =IF(B25<>"",(DAY(B25)+C25*30),"") | N25: =IF(K25<>"",(DAY(B25)+30*C25)-DAY(TODAY()),"") | O25: =IF(I25>H25,(IF(I25<>"",(((I25-H25)-(I25-L25))/ABS(I25-H25)),"")),IF(I25<>"",(1-(I25+L25-H25)/I25),"")) | P25: =IF(F25<>"",F25,"")
A26: =IF(B25<>"",A25+1,"") | M26: =IF(B26<>"",(DAY(B26)+C26*30),"") | N26: =IF(K26<>"",(DAY(B26)+30*C26)-DAY(TODAY()),"") | O26: =IF(I26>H26,(IF(I26<>"",(((I26-H26)-(I26-L26))/ABS(I26-H26)),"")),IF(I26<>"",(1-(I26+L26-H26)/I26),"")) | P26: =IF(F26<>"",F26,"")
A27: =IF(B26<>"",A26+1,"") | M27: =IF(B27<>"",(DAY(B27)+C27*30),"") | N27: =IF(K27<>"",(DAY(B27)+30*C27)-DAY(TODAY()),"") | O27: =IF(I27>H27,(IF(I27<>"",(((I27-H27)-(I27-L27))/ABS(I27-H27)),"")),IF(I27<>"",(1-(I27+L27-H27)/I27),"")) | P27: =IF(F27<>"",F27,"")
A28: =IF(B27<>"",A27+1,"") | M28: =IF(B28<>"",(DAY(B28)+C28*30),"") | N28: =IF(K28<>"",(DAY(B28)+30*C28)-DAY(TODAY()),"") | O28: =IF(I28>H28,(IF(I28<>"",(((I28-H28)-(I28-L28))/ABS(I28-H28)),"")),IF(I28<>"",(1-(I28+L28-H28)/I28),"")) | P28: =IF(F28<>"",F28,"")
A29: =IF(B28<>"",A28+1,"") | M29: =IF(B29<>"",(DAY(B29)+C29*30),"") | N29: =IF(K29<>"",(DAY(B29)+30*C29)-DAY(TODAY()),"") | O29: =IF(I29>H29,(IF(I29<>"",(((I29-H29)-(I29-L29))/ABS(I29-H29)),"")),IF(I29<>"",(1-(I29+L29-H29)/I29),"")) | P29: =IF(F29<>"",F29,"")
A30: =IF(B29<>"",A29+1,"") | M30: =IF(B30<>"",(DAY(B30)+C30*30),"") | N30: =IF(K30<>"",(DAY(B30)+30*C30)-DAY(TODAY()),"") | O30: =IF(I30>H30,(IF(I30<>"",(((I30-H30)-(I30-L30))/ABS(I30-H30)),"")),IF(I30<>"",(1-(I30+L30-H30)/I30),"")) | P30: =IF(F30<>"",F30,"")
A31: =IF(B30<>"",A30+1,"") | M31: =IF(B31<>"",(DAY(B31)+C31*30),"") | N31: =IF(K31<>"",(DAY(B31)+30*C31)-DAY(TODAY()),"") | O31: =IF(I31>H31,(IF(I31<>"",(((I31-H31)-(I31-L31))/ABS(I31-H31)),"")),IF(I31<>"",(1-(I31+L31-H31)/I31),"")) | P31: =IF(F31<>"",F31,"")
A32: =IF(B31<>"",A31+1,"") | M32: =IF(B32<>"",(DAY(B32)+C32*30),"") | N32: =IF(K32<>"",(DAY(B32)+30*C32)-DAY(TODAY()),"") | O32: =IF(I32>H32,(IF(I32<>"",(((I32-H32)-(I32-L32))/ABS(I32-H32)),"")),IF(I32<>"",(1-(I32+L32-H32)/I32),"")) | P32: =IF(F32<>"",F32,"")
... A250: =IF(B249<>"",A249+1,"") | M250: =IF(B250<>"",(DAY(B250)+C250*30),"") | N250: =IF(K250<>"",(DAY(B250)+30*C250)-DAY(TODAY()),"") | O250: =IF(I250>H250,(IF(I250<>"",(((I250-H250)-(I250-L250))/ABS(I250-H250)),"")),IF(I250<>"",(1-(I250+L250-H250)/I250),"")) | P250: =IF(F250<>"",F250,"")
A251: 246 | M251: =IF(B251<>"",(DAY(B251)+C251*30),"") | N251: =IF(K251<>"",(DAY(B251)+30*C251)-DAY(TODAY()),"") | O251: =IF(I251>H251,(IF(I251<>"",(((I251-H251)-(I251-L251))/ABS(I251-H251)),"")),IF(I251<>"",(1-(I251+L251-H251)/I251),"")) | P251: =IF(F251<>"",F251,"")
A252: 247 | M252: =IF(B252<>"",(DAY(B252)+C252*30),"") | N252: =IF(K252<>"",(DAY(B252)+30*C252)-DAY(TODAY()),"") | O252: =IF(I252>H252,(IF(I252<>"",(((I252-H252)-(I252-L252))/ABS(I252-H252)),"")),IF(I252<>"",(1-(I252+L252-H252)/I252),"")) | P252: =IF(F252<>"",F252,"")
A253: 248 | M253: =IF(B253<>"",(DAY(B253)+C253*30),"") | N253: =IF(K253<>"",(DAY(B253)+30*C253)-DAY(TODAY()),"") | O253: =IF(I253>H253,(IF(I253<>"",(((I253-H253)-(I253-L253))/ABS(I253-H253)),"")),IF(I253<>"",(1-(I253+L253-H253)/I253),"")) | P253: =IF(F253<>"",F253,"")
A254: 249 | M254: =IF(B254<>"",(DAY(B254)+C254*30),"") | N254: =IF(K254<>"",(DAY(B254)+30*C254)-DAY(TODAY()),"") | O254: =IF(I254>H254,(IF(I254<>"",(((I254-H254)-(I254-L254))/ABS(I254-H254)),"")),IF(I254<>"",(1-(I254+L254-H254)/I254),"")) | P254: =IF(F254<>"",F254,"")
A255: 250 | M255: =IF(B255<>"",(DAY(B255)+C255*30),"") | N255: =IF(K255<>"",(DAY(B255)+30*C255)-DAY(TODAY()),"") | O255: =IF(I255>H255,(IF(I255<>"",(((I255-H255)-(I255-L255))/ABS(I255-H255)),"")),IF(I255<>"",(1-(I255+L255-H255)/I255),"")) | P255: =IF(F255<>"",F255,"")
A256: 251 | M256: =IF(B256<>"",(DAY(B256)+C256*30),"") | N256: =IF(K256<>"",(DAY(B256)+30*C256)-DAY(TODAY()),"") | O256: =IF(I256>H256,(IF(I256<>"",(((I256-H256)-(I256-L256))/ABS(I256-H256)),"")),IF(I256<>"",(1-(I256+L256-H256)/I256),"")) | P256: =IF(F256<>"",F256,"")
A257: 252 | M257: =IF(B257<>"",(DAY(B257)+C257*30),"") | N257: =IF(K257<>"",(DAY(B257)+30*C257)-DAY(TODAY()),"") | O257: =IF(I257>H257,(IF(I257<>"",(((I257-H257)-(I257-L257))/ABS(I257-H257)),"")),IF(I257<>"",(1-(I257+L257-H257)/I257),"")) | P257: =IF(F257<>"",F257,"")
A258: 253 | M258: =IF(B258<>"",(DAY(B258)+C258*30),"") | N258: =IF(K258<>"",(DAY(B258)+30*C258)-DAY(TODAY()),"") | O258: =IF(I258>H258,(IF(I258<>"",(((I258-H258)-(I258-L258))/ABS(I258-H258)),"")),IF(I258<>"",(1-(I258+L258-H258)/I258),"")) | P258: =IF(F258<>"",F258,"")
A259: 254 | M259: =IF(B259<>"",(DAY(B259)+C259*30),"") | N259: =IF(K259<>"",(DAY(B259)+30*C259)-DAY(TODAY()),"") | O259: =IF(I259>H259,(IF(I259<>"",(((I259-H259)-(I259-L259))/ABS(I259-H259)),"")),IF(I259<>"",(1-(I259+L259-H259)/I259),"")) | P259: =IF(F259<>"",F259,"")
A260: 255 | M260: =IF(B260<>"",(DAY(B260)+C260*30),"") | N260: =IF(K260<>"",(DAY(B260)+30*C260)-DAY(TODAY()),"") | O260: =IF(I260>H260,(IF(I260<>"",(((I260-H260)-(I260-L260))/ABS(I260-H260)),"")),IF(I260<>"",(1-(I260+L260-H260)/I260),"")) | P260: =IF(F260<>"",F260,"")
A261: 256 | M261: =IF(B261<>"",(DAY(B261)+C261*30),"") | N261: =IF(K261<>"",(DAY(B261)+30*C261)-DAY(TODAY()),"") | O261: =IF(I261>H261,(IF(I261<>"",(((I261-H261)-(I261-L261))/ABS(I261-H261)),"")),IF(I261<>"",(1-(I261+L261-H261)/I261),"")) | P261: =IF(F261<>"",F261,"")
A262: 257 | M262: =IF(B262<>"",(DAY(B262)+C262*30),"") | N262: =IF(K262<>"",(DAY(B262)+30*C262)-DAY(TODAY()),"") | O262: =IF(I262>H262,(IF(I262<>"",(((I262-H262)-(I262-L262))/ABS(I262-H262)),"")),IF(I262<>"",(1-(I262+L262-H262)/I262),"")) | P262: =IF(F262<>"",F262,"")
... A500: 495 | M500: =IF(B500<>"",(DAY(B500)+C500*30),"") | N500: =IF(K500<>"",(DAY(B500)+30*C500)-DAY(TODAY()),"") | O500: =IF(I500>H500,(IF(I500<>"",(((I500-H500)-(I500-L500))/ABS(I500-H500)),"")),IF(I500<>"",(1-(I500+L500-H500)/I500),"")) | P500: =IF(F500<>"",F500,"")

Sheet TA7
C2: =ESTRATEGIAS!Y5 -> Objetivo 7 | D2: =ESTRATEGIAS!Z5
J4: ACTUALIZACIÓN
A5: No | B5: Fecha de inicio | C5: Meta | D5: Área de responsabilidad | E5: Responsable | F5: Estrategia | G5: Acciones | H5: Valor Actual | I5: Valor propuesto | J5: Estatus | K5: Fecha de actualización | L5: Valor Actual | M5: Días para alcanzar la meta | N5: Días restantes | O5: % de Avance | P5: Estrategia
A6: 1 | M6: =IF(B6<>"",(DAY(B6)+C6*30),"") | N6: =IF(K6<>"",(B6+30*C6)-NOW(),"") | O6: =IF(I6>H6,(IF(I6<>"",(((I6-H6)-(I6-L6))/ABS(I6-H6)),"")),IF(I6<>"",(1-(I6+L6-H6)/I6),"")) | P6: =IF(F6<>"",F6,"")
A7: =IF(B6<>"",A6+1,"") | M7: =IF(B7<>"",(DAY(B7)+C7*30),"") | N7: =IF(K7<>"",(B7+30*C7)-NOW(),"") | O7: =IF(I7>H7,(IF(I7<>"",(((I7-H7)-(I7-L7))/ABS(I7-H7)),"")),IF(I7<>"",(1-(I7+L7-H7)/I7),"")) | P7: =IF(F7<>"",F7,"")
A8: =IF(B7<>"",A7+1,"") | M8: =IF(B8<>"",(DAY(B8)+C8*30),"") | N8: =IF(K8<>"",(B8+30*C8)-NOW(),"") | O8: =IF(I8>H8,(IF(I8<>"",(((I8-H8)-(I8-L8))/ABS(I8-H8)),"")),IF(I8<>"",(1-(I8+L8-H8)/I8),"")) | P8: =IF(F8<>"",F8,"")
A9: =IF(B8<>"",A8+1,"") | M9: =IF(B9<>"",(DAY(B9)+C9*30),"") | N9: =IF(K9<>"",(B9+30*C9)-NOW(),"") | O9: =IF(I9>H9,(IF(I9<>"",(((I9-H9)-(I9-L9))/ABS(I9-H9)),"")),IF(I9<>"",(1-(I9+L9-H9)/I9),"")) | P9: =IF(F9<>"",F9,"")
A10: =IF(B9<>"",A9+1,"") | M10: =IF(B10<>"",(DAY(B10)+C10*30),"") | N10: =IF(K10<>"",(B10+30*C10)-NOW(),"") | O10: =IF(I10>H10,(IF(I10<>"",(((I10-H10)-(I10-L10))/ABS(I10-H10)),"")),IF(I10<>"",(1-(I10+L10-H10)/I10),"")) | P10: =IF(F10<>"",F10,"")
A11: =IF(B10<>"",A10+1,"") | M11: =IF(B11<>"",(DAY(B11)+C11*30),"") | N11: =IF(K11<>"",(B11+30*C11)-NOW(),"") | O11: =IF(I11>H11,(IF(I11<>"",(((I11-H11)-(I11-L11))/ABS(I11-H11)),"")),IF(I11<>"",(1-(I11+L11-H11)/I11),"")) | P11: =IF(F11<>"",F11,"")
A12: =IF(B11<>"",A11+1,"") | M12: =IF(B12<>"",(DAY(B12)+C12*30),"") | N12: =IF(K12<>"",(B12+30*C12)-NOW(),"") | O12: =IF(I12>H12,(IF(I12<>"",(((I12-H12)-(I12-L12))/ABS(I12-H12)),"")),IF(I12<>"",(1-(I12+L12-H12)/I12),"")) | P12: =IF(F12<>"",F12,"")
A13: =IF(B12<>"",A12+1,"") | M13: =IF(B13<>"",(DAY(B13)+C13*30),"") | N13: =IF(K13<>"",(B13+30*C13)-NOW(),"") | O13: =IF(I13>H13,(IF(I13<>"",(((I13-H13)-(I13-L13))/ABS(I13-H13)),"")),IF(I13<>"",(1-(I13+L13-H13)/I13),"")) | P13: =IF(F13<>"",F13,"")
A14: =IF(B13<>"",A13+1,"") | M14: =IF(B14<>"",(DAY(B14)+C14*30),"") | N14: =IF(K14<>"",(B14+30*C14)-NOW(),"") | O14: =IF(I14>H14,(IF(I14<>"",(((I14-H14)-(I14-L14))/ABS(I14-H14)),"")),IF(I14<>"",(1-(I14+L14-H14)/I14),"")) | P14: =IF(F14<>"",F14,"")
A15: =IF(B14<>"",A14+1,"") | M15: =IF(B15<>"",(DAY(B15)+C15*30),"") | N15: =IF(K15<>"",(B15+30*C15)-NOW(),"") | O15: =IF(I15>H15,(IF(I15<>"",(((I15-H15)-(I15-L15))/ABS(I15-H15)),"")),IF(I15<>"",(1-(I15+L15-H15)/I15),"")) | P15: =IF(F15<>"",F15,"")
A16: =IF(B15<>"",A15+1,"") | M16: =IF(B16<>"",(DAY(B16)+C16*30),"") | N16: =IF(K16<>"",(B16+30*C16)-NOW(),"") | O16: =IF(I16>H16,(IF(I16<>"",(((I16-H16)-(I16-L16))/ABS(I16-H16)),"")),IF(I16<>"",(1-(I16+L16-H16)/I16),"")) | P16: =IF(F16<>"",F16,"")
A17: =IF(B16<>"",A16+1,"") | M17: =IF(B17<>"",(DAY(B17)+C17*30),"") | N17: =IF(K17<>"",(B17+30*C17)-NOW(),"") | O17: =IF(I17>H17,(IF(I17<>"",(((I17-H17)-(I17-L17))/ABS(I17-H17)),"")),IF(I17<>"",(1-(I17+L17-H17)/I17),"")) | P17: =IF(F17<>"",F17,"")
A18: =IF(B17<>"",A17+1,"") | M18: =IF(B18<>"",(DAY(B18)+C18*30),"") | N18: =IF(K18<>"",(B18+30*C18)-NOW(),"") | O18: =IF(I18>H18,(IF(I18<>"",(((I18-H18)-(I18-L18))/ABS(I18-H18)),"")),IF(I18<>"",(1-(I18+L18-H18)/I18),"")) | P18: =IF(F18<>"",F18,"")
... A20: =IF(B19<>"",A19+1,"") | M20: =IF(B20<>"",(DAY(B20)+C20*30),"") | N20: =IF(K20<>"",(B20+30*C20)-NOW(),"") | O20: =IF(I20>H20,(IF(I20<>"",(((I20-H20)-(I20-L20))/ABS(I20-H20)),"")),IF(I20<>"",(1-(I20+L20-H20)/I20),"")) | P20: =IF(F20<>"",F20,"")
A21: =IF(B20<>"",A20+1,"") | M21: =IF(B21<>"",(DAY(B21)+C21*30),"") | N21: =IF(K21<>"",(DAY(B21)+30*C21)-DAY(TODAY()),"") | O21: =IF(I21>H21,(IF(I21<>"",(((I21-H21)-(I21-L21))/ABS(I21-H21)),"")),IF(I21<>"",(1-(I21+L21-H21)/I21),"")) | P21: =IF(F21<>"",F21,"")
A22: =IF(B21<>"",A21+1,"") | M22: =IF(B22<>"",(DAY(B22)+C22*30),"") | N22: =IF(K22<>"",(DAY(B22)+30*C22)-DAY(TODAY()),"") | O22: =IF(I22>H22,(IF(I22<>"",(((I22-H22)-(I22-L22))/ABS(I22-H22)),"")),IF(I22<>"",(1-(I22+L22-H22)/I22),"")) | P22: =IF(F22<>"",F22,"")
A23: =IF(B22<>"",A22+1,"") | M23: =IF(B23<>"",(DAY(B23)+C23*30),"") | N23: =IF(K23<>"",(DAY(B23)+30*C23)-DAY(TODAY()),"") | O23: =IF(I23>H23,(IF(I23<>"",(((I23-H23)-(I23-L23))/ABS(I23-H23)),"")),IF(I23<>"",(1-(I23+L23-H23)/I23),"")) | P23: =IF(F23<>"",F23,"")
A24: =IF(B23<>"",A23+1,"") | M24: =IF(B24<>"",(DAY(B24)+C24*30),"") | N24: =IF(K24<>"",(DAY(B24)+30*C24)-DAY(TODAY()),"") | O24: =IF(I24>H24,(IF(I24<>"",(((I24-H24)-(I24-L24))/ABS(I24-H24)),"")),IF(I24<>"",(1-(I24+L24-H24)/I24),"")) | P24: =IF(F24<>"",F24,"")
A25: =IF(B24<>"",A24+1,"") | M25: =IF(B25<>"",(DAY(B25)+C25*30),"") | N25: =IF(K25<>"",(DAY(B25)+30*C25)-DAY(TODAY()),"") | O25: =IF(I25>H25,(IF(I25<>"",(((I25-H25)-(I25-L25))/ABS(I25-H25)),"")),IF(I25<>"",(1-(I25+L25-H25)/I25),"")) | P25: =IF(F25<>"",F25,"")
A26: =IF(B25<>"",A25+1,"") | M26: =IF(B26<>"",(DAY(B26)+C26*30),"") | N26: =IF(K26<>"",(DAY(B26)+30*C26)-DAY(TODAY()),"") | O26: =IF(I26>H26,(IF(I26<>"",(((I26-H26)-(I26-L26))/ABS(I26-H26)),"")),IF(I26<>"",(1-(I26+L26-H26)/I26),"")) | P26: =IF(F26<>"",F26,"")
A27: =IF(B26<>"",A26+1,"") | M27: =IF(B27<>"",(DAY(B27)+C27*30),"") | N27: =IF(K27<>"",(DAY(B27)+30*C27)-DAY(TODAY()),"") | O27: =IF(I27>H27,(IF(I27<>"",(((I27-H27)-(I27-L27))/ABS(I27-H27)),"")),IF(I27<>"",(1-(I27+L27-H27)/I27),"")) | P27: =IF(F27<>"",F27,"")
A28: =IF(B27<>"",A27+1,"") | M28: =IF(B28<>"",(DAY(B28)+C28*30),"") | N28: =IF(K28<>"",(DAY(B28)+30*C28)-DAY(TODAY()),"") | O28: =IF(I28>H28,(IF(I28<>"",(((I28-H28)-(I28-L28))/ABS(I28-H28)),"")),IF(I28<>"",(1-(I28+L28-H28)/I28),"")) | P28: =IF(F28<>"",F28,"")
A29: =IF(B28<>"",A28+1,"") | M29: =IF(B29<>"",(DAY(B29)+C29*30),"") | N29: =IF(K29<>"",(DAY(B29)+30*C29)-DAY(TODAY()),"") | O29: =IF(I29>H29,(IF(I29<>"",(((I29-H29)-(I29-L29))/ABS(I29-H29)),"")),IF(I29<>"",(1-(I29+L29-H29)/I29),"")) | P29: =IF(F29<>"",F29,"")
A30: =IF(B29<>"",A29+1,"") | M30: =IF(B30<>"",(DAY(B30)+C30*30),"") | N30: =IF(K30<>"",(DAY(B30)+30*C30)-DAY(TODAY()),"") | O30: =IF(I30>H30,(IF(I30<>"",(((I30-H30)-(I30-L30))/ABS(I30-H30)),"")),IF(I30<>"",(1-(I30+L30-H30)/I30),"")) | P30: =IF(F30<>"",F30,"")
A31: =IF(B30<>"",A30+1,"") | M31: =IF(B31<>"",(DAY(B31)+C31*30),"") | N31: =IF(K31<>"",(DAY(B31)+30*C31)-DAY(TODAY()),"") | O31: =IF(I31>H31,(IF(I31<>"",(((I31-H31)-(I31-L31))/ABS(I31-H31)),"")),IF(I31<>"",(1-(I31+L31-H31)/I31),"")) | P31: =IF(F31<>"",F31,"")
A32: =IF(B31<>"",A31+1,"") | M32: =IF(B32<>"",(DAY(B32)+C32*30),"") | N32: =IF(K32<>"",(DAY(B32)+30*C32)-DAY(TODAY()),"") | O32: =IF(I32>H32,(IF(I32<>"",(((I32-H32)-(I32-L32))/ABS(I32-H32)),"")),IF(I32<>"",(1-(I32+L32-H32)/I32),"")) | P32: =IF(F32<>"",F32,"")
... A250: =IF(B249<>"",A249+1,"") | M250: =IF(B250<>"",(DAY(B250)+C250*30),"") | N250: =IF(K250<>"",(DAY(B250)+30*C250)-DAY(TODAY()),"") | O250: =IF(I250>H250,(IF(I250<>"",(((I250-H250)-(I250-L250))/ABS(I250-H250)),"")),IF(I250<>"",(1-(I250+L250-H250)/I250),"")) | P250: =IF(F250<>"",F250,"")
A251: 246 | M251: =IF(B251<>"",(DAY(B251)+C251*30),"") | N251: =IF(K251<>"",(DAY(B251)+30*C251)-DAY(TODAY()),"") | O251: =IF(I251>H251,(IF(I251<>"",(((I251-H251)-(I251-L251))/ABS(I251-H251)),"")),IF(I251<>"",(1-(I251+L251-H251)/I251),"")) | P251: =IF(F251<>"",F251,"")
A252: 247 | M252: =IF(B252<>"",(DAY(B252)+C252*30),"") | N252: =IF(K252<>"",(DAY(B252)+30*C252)-DAY(TODAY()),"") | O252: =IF(I252>H252,(IF(I252<>"",(((I252-H252)-(I252-L252))/ABS(I252-H252)),"")),IF(I252<>"",(1-(I252+L252-H252)/I252),"")) | P252: =IF(F252<>"",F252,"")
A253: 248 | M253: =IF(B253<>"",(DAY(B253)+C253*30),"") | N253: =IF(K253<>"",(DAY(B253)+30*C253)-DAY(TODAY()),"") | O253: =IF(I253>H253,(IF(I253<>"",(((I253-H253)-(I253-L253))/ABS(I253-H253)),"")),IF(I253<>"",(1-(I253+L253-H253)/I253),"")) | P253: =IF(F253<>"",F253,"")
A254: 249 | M254: =IF(B254<>"",(DAY(B254)+C254*30),"") | N254: =IF(K254<>"",(DAY(B254)+30*C254)-DAY(TODAY()),"") | O254: =IF(I254>H254,(IF(I254<>"",(((I254-H254)-(I254-L254))/ABS(I254-H254)),"")),IF(I254<>"",(1-(I254+L254-H254)/I254),"")) | P254: =IF(F254<>"",F254,"")
A255: 250 | M255: =IF(B255<>"",(DAY(B255)+C255*30),"") | N255: =IF(K255<>"",(DAY(B255)+30*C255)-DAY(TODAY()),"") | O255: =IF(I255>H255,(IF(I255<>"",(((I255-H255)-(I255-L255))/ABS(I255-H255)),"")),IF(I255<>"",(1-(I255+L255-H255)/I255),"")) | P255: =IF(F255<>"",F255,"")
A256: 251 | M256: =IF(B256<>"",(DAY(B256)+C256*30),"") | N256: =IF(K256<>"",(DAY(B256)+30*C256)-DAY(TODAY()),"") | O256: =IF(I256>H256,(IF(I256<>"",(((I256-H256)-(I256-L256))/ABS(I256-H256)),"")),IF(I256<>"",(1-(I256+L256-H256)/I256),"")) | P256: =IF(F256<>"",F256,"")
A257: 252 | M257: =IF(B257<>"",(DAY(B257)+C257*30),"") | N257: =IF(K257<>"",(DAY(B257)+30*C257)-DAY(TODAY()),"") | O257: =IF(I257>H257,(IF(I257<>"",(((I257-H257)-(I257-L257))/ABS(I257-H257)),"")),IF(I257<>"",(1-(I257+L257-H257)/I257),"")) | P257: =IF(F257<>"",F257,"")
A258: 253 | M258: =IF(B258<>"",(DAY(B258)+C258*30),"") | N258: =IF(K258<>"",(DAY(B258)+30*C258)-DAY(TODAY()),"") | O258: =IF(I258>H258,(IF(I258<>"",(((I258-H258)-(I258-L258))/ABS(I258-H258)),"")),IF(I258<>"",(1-(I258+L258-H258)/I258),"")) | P258: =IF(F258<>"",F258,"")
A259: 254 | M259: =IF(B259<>"",(DAY(B259)+C259*30),"") | N259: =IF(K259<>"",(DAY(B259)+30*C259)-DAY(TODAY()),"") | O259: =IF(I259>H259,(IF(I259<>"",(((I259-H259)-(I259-L259))/ABS(I259-H259)),"")),IF(I259<>"",(1-(I259+L259-H259)/I259),"")) | P259: =IF(F259<>"",F259,"")
A260: 255 | M260: =IF(B260<>"",(DAY(B260)+C260*30),"") | N260: =IF(K260<>"",(DAY(B260)+30*C260)-DAY(TODAY()),"") | O260: =IF(I260>H260,(IF(I260<>"",(((I260-H260)-(I260-L260))/ABS(I260-H260)),"")),IF(I260<>"",(1-(I260+L260-H260)/I260),"")) | P260: =IF(F260<>"",F260,"")
A261: 256 | M261: =IF(B261<>"",(DAY(B261)+C261*30),"") | N261: =IF(K261<>"",(DAY(B261)+30*C261)-DAY(TODAY()),"") | O261: =IF(I261>H261,(IF(I261<>"",(((I261-H261)-(I261-L261))/ABS(I261-H261)),"")),IF(I261<>"",(1-(I261+L261-H261)/I261),"")) | P261: =IF(F261<>"",F261,"")
A262: 257 | M262: =IF(B262<>"",(DAY(B262)+C262*30),"") | N262: =IF(K262<>"",(DAY(B262)+30*C262)-DAY(TODAY()),"") | O262: =IF(I262>H262,(IF(I262<>"",(((I262-H262)-(I262-L262))/ABS(I262-H262)),"")),IF(I262<>"",(1-(I262+L262-H262)/I262),"")) | P262: =IF(F262<>"",F262,"")
... A500: 495 | M500: =IF(B500<>"",(DAY(B500)+C500*30),"") | N500: =IF(K500<>"",(DAY(B500)+30*C500)-DAY(TODAY()),"") | O500: =IF(I500>H500,(IF(I500<>"",(((I500-H500)-(I500-L500))/ABS(I500-H500)),"")),IF(I500<>"",(1-(I500+L500-H500)/I500),"")) | P500: =IF(F500<>"",F500,"")

Sheet A1 estrategias
Y2: 1 | AB2: 2 | AE2: 3 | AH2: 4 | AK2: 5 | AN2: 6 | AQ2: 7
B3: E1 | C3: No | D3: Objetivo 1 | E3: E2 | F3: No | G3: Objetivo 2 | H3: E3 | I3: No | J3: Objetivo 3 | K3: E4 | L3: No | M3: Objetivo 4 | N3: E5 | O3: No | P3: Objetivo 5 | Q3: E6 | R3: No | S3: Objetivo 6 | T3: E7 | U3: No | V3: Objetivo 7 | X3: No | Y3: =BASES!B6 -> Obj Estrategico 0 | Z3: =Y3 -> Obj Estrategico 0 | AA3: No | AB3: =BASES!B7 -> Obj Estrategico 1 | AC3: =AB3 -> Obj Estrategico 1 | AD3: No | AE3: =BASES!B8 -> Obj Estrategico 2 | AF3: =AE3 -> Obj Estrategico 2 | AG3: No | AH3: =BASES!B9 -> Obj Estrategico 3 | AI3: =AH3 -> Obj Estrategico 3 | AJ3: No | AK3: =BASES!B10 -> Obj Estrategico 4 | AL3: =AK3 -> Obj Estrategico 4 | AM3: No | AN3: =BASES!B11 -> Obj Estrategico 5 | AO3: =AN3 -> Obj Estrategico 5 | AP3: No | AQ3: =BASES!B12 -> 0 | AR3: =AQ3 -> 0
X4: 1 | Y4: =IFERROR(VLOOKUP(X4,B$5:D$302,2,0),"") -> 7 | Z4: =IF(Y4<>"",VLOOKUP(Y4,'TABLA DE OBJETIVOS'!$A$6:$G$200,7,0),"") -> Estrategia 0 | AA4: 1 | AB4: =IFERROR(VLOOKUP(AA4,E$5:G$302,2,0),"") -> 1 | AC4: =IF(AB4<>"",VLOOKUP(AB4,'TABLA DE OBJETIVOS'!$A$6:$G$200,7,0),"") -> Estrategia 1 | AD4: 1 | AE4: =IFERROR(VLOOKUP(AD4,H$5:J$302,2,0),"") -> 2 | AF4: =IF(AE4<>"",VLOOKUP(AE4,'TABLA DE OBJETIVOS'!$A$6:$G$200,7,0),"") -> Estrategia 2 | AG4: 1 | AH4: =IFERROR(VLOOKUP(AG4,K$5:M$302,2,0),"") -> 3 | AI4: =IF(AH4<>"",VLOOKUP(AH4,'TABLA DE OBJETIVOS'!$A$6:$G$200,7,0),"") -> Estrategia 3 | AJ4: 1 | AK4: =IFERROR(VLOOKUP(AJ4,N$5:P$302,2,0),"") -> 4 | AL4: =IF(AK4<>"",VLOOKUP(AK4,'TABLA DE OBJETIVOS'!$A$6:$G$200,7,0),"") -> Estrategia 4 | AM4: 1 | AN4: =IFERROR(VLOOKUP(AM4,Q$5:S$302,2,0),"") -> 5 | AO4: =IF(AN4<>"",VLOOKUP(AN4,'TABLA DE OBJETIVOS'!$A$6:$G$200,7,0),"") -> Estrategia 5 | AP4: 1 | AQ4: =IFERROR(VLOOKUP(AP4,T$5:V$302,2,0),"") | AR4: =IF(AQ4<>"",VLOOKUP(AQ4,'TABLA DE OBJETIVOS'!$A$6:$G$200,7,0),"")
B5: =IF((C5<>"")^(SUM(B$4:B4)<>""),MAX(B$4:B4)+1,"") | C5: =IF(D5="SI",'TABLA DE OBJETIVOS'!$A6,"") | D5: =IF(BASES!$B$6<>"",IF('TABLA DE OBJETIVOS'!$F6=BASES!$B$6,"SI",""),"") | E5: =IF((F5<>"")^(SUM(E$4:E4)<>""),MAX(E$4:E4)+1,"") -> 1 | F5: =IF(G5="SI",'TABLA DE OBJETIVOS'!$A6,"") -> 1 | G5: =IF(BASES!$B$7<>"",IF('TABLA DE OBJETIVOS'!$F6=BASES!$B$7,"SI",""),"") -> SI | H5: =IF((I5<>"")^(SUM(H$4:H4)<>""),MAX(H$4:H4)+1,"") | I5: =IF(J5="SI",'TABLA DE OBJETIVOS'!$A6,"") | J5: =IF(BASES!$B$8<>"",IF('TABLA DE OBJETIVOS'!$F6=BASES!$B$8,"SI",""),"") | K5: =IF((L5<>"")^(SUM(K$4:K4)<>""),MAX(K$4:K4)+1,"") | L5: =IF(M5="SI",'TABLA DE OBJETIVOS'!$A6,"") | M5: =IF(BASES!$B$9<>"",IF('TABLA DE OBJETIVOS'!$F6=BASES!$B$9,"SI",""),"") | N5: =IF((O5<>"")^(SUM(N$4:N4)<>""),MAX(N$4:N4)+1,"") | O5: =IF(P5="SI",'TABLA DE OBJETIVOS'!$A6,"") | P5: =IF(BASES!$B$10<>"",IF('TABLA DE OBJETIVOS'!$F6=BASES!$B$10,"SI",""),"") | Q5: =IF((R5<>"")^(SUM(Q$4:Q4)<>""),MAX(Q$4:Q4)+1,"") | R5: =IF(S5="SI",'TABLA DE OBJETIVOS'!$A6,"") | S5: =IF(BASES!$B$11<>"",IF('TABLA DE OBJETIVOS'!$F6=BASES!$B$11,"SI",""),"") | T5: =IF((U5<>"")^(SUM(T$4:T4)<>""),MAX(T$4:T4)+1,"") | U5: =IF(V5="SI",'TABLA DE OBJETIVOS'!$A6,"") | V5: =IF(BASES!$B$12<>"",IF('TABLA DE OBJETIVOS'!$F6=BASES!$B$12,"SI",""),"") | X5: 2 | Y5: =IFERROR(VLOOKUP(X5,B$5:D$302,2,0),"") -> 8 | Z5: =IF(Y5<>"",VLOOKUP(Y5,'TABLA DE OBJETIVOS'!$A$6:$G$200,7,0),"") -> Estrategia 7 | AA5: 2 | AB5: =IFERROR(VLOOKUP(AA5,E$5:G$302,2,0),"") | AC5: =IF(AB5<>"",VLOOKUP(AB5,'TABLA DE OBJETIVOS'!$A$6:$G$200,7,0),"") | AD5: 2 | AE5: =IFERROR(VLOOKUP(AD5,H$5:J$302,2,0),"") | AF5: =IF(AE5<>"",VLOOKUP(AE5,'TABLA DE OBJETIVOS'!$A$6:$G$200,7,0),"") | AG5: 2 | AH5: =IFERROR(VLOOKUP(AG5,K$5:M$302,2,0),"") | AI5: =IF(AH5<>"",VLOOKUP(AH5,'TABLA DE OBJETIVOS'!$A$6:$G$200,7,0),"") | AJ5: 2 | AK5: =IFERROR(VLOOKUP(AJ5,N$5:P$302,2,0),"") | AL5: =IF(AK5<>"",VLOOKUP(AK5,'TABLA DE OBJETIVOS'!$A$6:$G$200,7,0),"") | AM5: 2 | AN5: =IFERROR(VLOOKUP(AM5,Q$5:S$302,2,0),"") -> 6 | AO5: =IF(AN5<>"",VLOOKUP(AN5,'TABLA DE OBJETIVOS'!$A$6:$G$200,7,0),"") -> Estrategia 6 | AP5: 2 | AQ5: =IFERROR(VLOOKUP(AP5,T$5:V$302,2,0),"") | AR5: =IF(AQ5<>"",VLOOKUP(AQ5,'TABLA DE OBJETIVOS'!$A$6:$G$200,7,0),"")
B6: =IF((C6<>"")^(SUM(B$4:B5)<>""),MAX(B$4:B5)+1,"") | C6: =IF(D6="SI",'TABLA DE OBJETIVOS'!$A7,"") | D6: =IF(BASES!$B$6<>"",IF('TABLA DE OBJETIVOS'!$F7=BASES!$B$6,"SI",""),"") | E6: =IF((F6<>"")^(SUM(E$4:E5)<>""),MAX(E$4:E5)+1,"") | F6: =IF(G6="SI",'TABLA DE OBJETIVOS'!$A7,"") | G6: =IF(BASES!$B$7<>"",IF('TABLA DE OBJETIVOS'!$F7=BASES!$B$7,"SI",""),"") | H6: =IF((I6<>"")^(SUM(H$4:H5)<>""),MAX(H$4:H5)+1,"") -> 1 | I6: =IF(J6="SI",'TABLA DE OBJETIVOS'!$A7,"") -> 2 | J6: =IF(BASES!$B$8<>"",IF('TABLA DE OBJETIVOS'!$F7=BASES!$B$8,"SI",""),"") -> SI | K6: =IF((L6<>"")^(SUM(K$4:K5)<>""),MAX(K$4:K5)+1,"") | L6: =IF(M6="SI",'TABLA DE OBJETIVOS'!$A7,"") | M6: =IF(BASES!$B$9<>"",IF('TABLA DE OBJETIVOS'!$F7=BASES!$B$9,"SI",""),"") | N6: =IF((O6<>"")^(SUM(N$4:N5)<>""),MAX(N$4:N5)+1,"") | O6: =IF(P6="SI",'TABLA DE OBJETIVOS'!$A7,"") | P6: =IF(BASES!$B$10<>"",IF('TABLA DE OBJETIVOS'!$F7=BASES!$B$10,"SI",""),"") | Q6: =IF((R6<>"")^(SUM(Q$4:Q5)<>""),MAX(Q$4:Q5)+1,"") | R6: =IF(S6="SI",'TABLA DE OBJETIVOS'!$A7,"") | S6: =IF(BASES!$B$11<>"",IF('TABLA DE OBJETIVOS'!$F7=BASES!$B$11,"SI",""),"") | T6: =IF((U6<>"")^(SUM(T$4:T5)<>""),MAX(T$4:T5)+1,"") | U6: =IF(V6="SI",'TABLA DE OBJETIVOS'!$A7,"") | V6: =IF(BASES!$B$12<>"",IF('TABLA DE OBJETIVOS'!$F7=BASES!$B$12,"SI",""),"") | X6: 3 | Y6: =IFERROR(VLOOKUP(X6,B$5:D$302,2,0),"") | Z6: =IF(Y6<>"",VLOOKUP(Y6,'TABLA DE OBJETIVOS'!$A$6:$G$200,7,0),"") | AA6: 3 | AB6: =IFERROR(VLOOKUP(AA6,E$5:G$302,2,0),"") | AC6: =IF(AB6<>"",VLOOKUP(AB6,'TABLA DE OBJETIVOS'!$A$6:$G$200,7,0),"") | AD6: 3 | AE6: =IFERROR(VLOOKUP(AD6,H$5:J$302,2,0),"") | AF6: =IF(AE6<>"",VLOOKUP(AE6,'TABLA DE OBJETIVOS'!$A$6:$G$200,7,0),"") | AG6: 3 | AH6: =IFERROR(VLOOKUP(AG6,K$5:M$302,2,0),"") | AI6: =IF(AH6<>"",VLOOKUP(AH6,'TABLA DE OBJETIVOS'!$A$6:$G$200,7,0),"") | AJ6: 3 | AK6: =IFERROR(VLOOKUP(AJ6,N$5:P$302,2,0),"") | AL6: =IF(AK6<>"",VLOOKUP(AK6,'TABLA DE OBJETIVOS'!$A$6:$G$200,7,0),"") | AM6: 3 | AN6: =IFERROR(VLOOKUP(AM6,Q$5:S$302,2,0),"") | AO6: =IF(AN6<>"",VLOOKUP(AN6,'TABLA DE OBJETIVOS'!$A$6:$G$200,7,0),"") | AP6: 3 | AQ6: =IFERROR(VLOOKUP(AP6,T$5:V$302,2,0),"") | AR6: =IF(AQ6<>"",VLOOKUP(AQ6,'TABLA DE OBJETIVOS'!$A$6:$G$200,7,0),"")
B7: =IF((C7<>"")^(SUM(B$4:B6)<>""),MAX(B$4:B6)+1,"") | C7: =IF(D7="SI",'TABLA DE OBJETIVOS'!$A8,"") | D7: =IF(BASES!$B$6<>"",IF('TABLA DE OBJETIVOS'!$F8=BASES!$B$6,"SI",""),"") | E7: =IF((F7<>"")^(SUM(E$4:E6)<>""),MAX(E$4:E6)+1,"") | F7: =IF(G7="SI",'TABLA DE OBJETIVOS'!$A8,"") | G7: =IF(BASES!$B$7<>"",IF('TABLA DE OBJETIVOS'!$F8=BASES!$B$7,"SI",""),"") | H7: =IF((I7<>"")^(SUM(H$4:H6)<>""),MAX(H$4:H6)+1,"") | I7: =IF(J7="SI",'TABLA DE OBJETIVOS'!$A8,"") | J7: =IF(BASES!$B$8<>"",IF('TABLA DE OBJETIVOS'!$F8=BASES!$B$8,"SI",""),"") | K7: =IF((L7<>"")^(SUM(K$4:K6)<>""),MAX(K$4:K6)+1,"") -> 1 | L7: =IF(M7="SI",'TABLA DE OBJETIVOS'!$A8,"") -> 3 | M7: =IF(BASES!$B$9<>"",IF('TABLA DE OBJETIVOS'!$F8=BASES!$B$9,"SI",""),"") -> SI | N7: =IF((O7<>"")^(SUM(N$4:N6)<>""),MAX(N$4:N6)+1,"") | O7: =IF(P7="SI",'TABLA DE OBJETIVOS'!$A8,"") | P7: =IF(BASES!$B$10<>"",IF('TABLA DE OBJETIVOS'!$F8=BASES!$B$10,"SI",""),"") | Q7: =IF((R7<>"")^(SUM(Q$4:Q6)<>""),MAX(Q$4:Q6)+1,"") | R7: =IF(S7="SI",'TABLA DE OBJETIVOS'!$A8,"") | S7: =IF(BASES!$B$11<>"",IF('TABLA DE OBJETIVOS'!$F8=BASES!$B$11,"SI",""),"") | T7: =IF((U7<>"")^(SUM(T$4:T6)<>""),MAX(T$4:T6)+1,"") | U7: =IF(V7="SI",'TABLA DE OBJETIVOS'!$A8,"") | V7: =IF(BASES!$B$12<>"",IF('TABLA DE OBJETIVOS'!$F8=BASES!$B$12,"SI",""),"") | X7: 4 | Y7: =IFERROR(VLOOKUP(X7,B$5:D$302,2,0),"") | Z7: =IF(Y7<>"",VLOOKUP(Y7,'TABLA DE OBJETIVOS'!$A$6:$G$200,7,0),"") | AA7: 4 | AB7: =IFERROR(VLOOKUP(AA7,E$5:G$302,2,0),"") | AC7: =IF(AB7<>"",VLOOKUP(AB7,'TABLA DE OBJETIVOS'!$A$6:$G$200,7,0),"") | AD7: 4 | AE7: =IFERROR(VLOOKUP(AD7,H$5:J$302,2,0),"") | AF7: =IF(AE7<>"",VLOOKUP(AE7,'TABLA DE OBJETIVOS'!$A$6:$G$200,7,0),"") | AG7: 4 | AH7: =IFERROR(VLOOKUP(AG7,K$5:M$302,2,0),"") | AI7: =IF(AH7<>"",VLOOKUP(AH7,'TABLA DE OBJETIVOS'!$A$6:$G$200,7,0),"") | AJ7: 4 | AK7: =IFERROR(VLOOKUP(AJ7,N$5:P$302,2,0),"") | AL7: =IF(AK7<>"",VLOOKUP(AK7,'TABLA DE OBJETIVOS'!$A$6:$G$200,7,0),"") | AM7: 4 | AN7: =IFERROR(VLOOKUP(AM7,Q$5:S$302,2,0),"") | AO7: =IF(AN7<>"",VLOOKUP(AN7,'TABLA DE OBJETIVOS'!$A$6:$G$200,7,0),"") | AP7: 4 | AQ7: =IFERROR(VLOOKUP(AP7,T$5:V$302,2,0),"") | AR7: =IF(AQ7<>"",VLOOKUP(AQ7,'TABLA DE OBJETIVOS'!$A$6:$G$200,7,0),"")
B8: =IF((C8<>"")^(SUM(B$4:B7)<>""),MAX(B$4:B7)+1,"") | C8: =IF(D8="SI",'TABLA DE OBJETIVOS'!$A9,"") | D8: =IF(BASES!$B$6<>"",IF('TABLA DE OBJETIVOS'!$F9=BASES!$B$6,"SI",""),"") | E8: =IF((F8<>"")^(SUM(E$4:E7)<>""),MAX(E$4:E7)+1,"") | F8: =IF(G8="SI",'TABLA DE OBJETIVOS'!$A9,"") | G8: =IF(BASES!$B$7<>"",IF('TABLA DE OBJETIVOS'!$F9=BASES!$B$7,"SI",""),"") | H8: =IF((I8<>"")^(SUM(H$4:H7)<>""),MAX(H$4:H7)+1,"") | I8: =IF(J8="SI",'TABLA DE OBJETIVOS'!$A9,"") | J8: =IF(BASES!$B$8<>"",IF('TABLA DE OBJETIVOS'!$F9=BASES!$B$8,"SI",""),"") | K8: =IF((L8<>"")^(SUM(K$4:K7)<>""),MAX(K$4:K7)+1,"") | L8: =IF(M8="SI",'TABLA DE OBJETIVOS'!$A9,"") | M8: =IF(BASES!$B$9<>"",IF('TABLA DE OBJETIVOS'!$F9=BASES!$B$9,"SI",""),"") | N8: =IF((O8<>"")^(SUM(N$4:N7)<>""),MAX(N$4:N7)+1,"") -> 1 | O8: =IF(P8="SI",'TABLA DE OBJETIVOS'!$A9,"") -> 4 | P8: =IF(BASES!$B$10<>"",IF('TABLA DE OBJETIVOS'!$F9=BASES!$B$10,"SI",""),"") -> SI | Q8: =IF((R8<>"")^(SUM(Q$4:Q7)<>""),MAX(Q$4:Q7)+1,"") | R8: =IF(S8="SI",'TABLA DE OBJETIVOS'!$A9,"") | S8: =IF(BASES!$B$11<>"",IF('TABLA DE OBJETIVOS'!$F9=BASES!$B$11,"SI",""),"") | T8: =IF((U8<>"")^(SUM(T$4:T7)<>""),MAX(T$4:T7)+1,"") | U8: =IF(V8="SI",'TABLA DE OBJETIVOS'!$A9,"") | V8: =IF(BASES!$B$12<>"",IF('TABLA DE OBJETIVOS'!$F9=BASES!$B$12,"SI",""),"") | X8: 5 | Y8: =IFERROR(VLOOKUP(X8,B$5:D$302,2,0),"") | Z8: =IF(Y8<>"",VLOOKUP(Y8,'TABLA DE OBJETIVOS'!$A$6:$G$200,7,0),"") | AA8: 5 | AB8: =IFERROR(VLOOKUP(AA8,E$5:G$302,2,0),"") | AC8: =IF(AB8<>"",VLOOKUP(AB8,'TABLA DE OBJETIVOS'!$A$6:$G$200,7,0),"") | AD8: 5 | AE8: =IFERROR(VLOOKUP(AD8,H$5:J$302,2,0),"") | AF8: =IF(AE8<>"",VLOOKUP(AE8,'TABLA DE OBJETIVOS'!$A$6:$G$200,7,0),"") | AG8: 5 | AH8: =IFERROR(VLOOKUP(AG8,K$5:M$302,2,0),"") | AI8: =IF(AH8<>"",VLOOKUP(AH8,'TABLA DE OBJETIVOS'!$A$6:$G$200,7,0),"") | AJ8: 5 | AK8: =IFERROR(VLOOKUP(AJ8,N$5:P$302,2,0),"") | AL8: =IF(AK8<>"",VLOOKUP(AK8,'TABLA DE OBJETIVOS'!$A$6:$G$200,7,0),"") | AM8: 5 | AN8: =IFERROR(VLOOKUP(AM8,Q$5:S$302,2,0),"") | AO8: =IF(AN8<>"",VLOOKUP(AN8,'TABLA DE OBJETIVOS'!$A$6:$G$200,7,0),"") | AP8: 5 | AQ8: =IFERROR(VLOOKUP(AP8,T$5:V$302,2,0),"") | AR8: =IF(AQ8<>"",VLOOKUP(AQ8,'TABLA DE OBJETIVOS'!$A$6:$G$200,7,0),"")
B9: =IF((C9<>"")^(SUM(B$4:B8)<>""),MAX(B$4:B8)+1,"") | C9: =IF(D9="SI",'TABLA DE OBJETIVOS'!$A10,"") | D9: =IF(BASES!$B$6<>"",IF('TABLA DE OBJETIVOS'!$F10=BASES!$B$6,"SI",""),"") | E9: =IF((F9<>"")^(SUM(E$4:E8)<>""),MAX(E$4:E8)+1,"") | F9: =IF(G9="SI",'TABLA DE OBJETIVOS'!$A10,"") | G9: =IF(BASES!$B$7<>"",IF('TABLA DE OBJETIVOS'!$F10=BASES!$B$7,"SI",""),"") | H9: =IF((I9<>"")^(SUM(H$4:H8)<>""),MAX(H$4:H8)+1,"") | I9: =IF(J9="SI",'TABLA DE OBJETIVOS'!$A10,"") | J9: =IF(BASES!$B$8<>"",IF('TABLA DE OBJETIVOS'!$F10=BASES!$B$8,"SI",""),"") | K9: =IF((L9<>"")^(SUM(K$4:K8)<>""),MAX(K$4:K8)+1,"") | L9: =IF(M9="SI",'TABLA DE OBJETIVOS'!$A10,"") | M9: =IF(BASES!$B$9<>"",IF('TABLA DE OBJETIVOS'!$F10=BASES!$B$9,"SI",""),"") | N9: =IF((O9<>"")^(SUM(N$4:N8)<>""),MAX(N$4:N8)+1,"") | O9: =IF(P9="SI",'TABLA DE OBJETIVOS'!$A10,"") | P9: =IF(BASES!$B$10<>"",IF('TABLA DE OBJETIVOS'!$F10=BASES!$B$10,"SI",""),"") | Q9: =IF((R9<>"")^(SUM(Q$4:Q8)<>""),MAX(Q$4:Q8)+1,"") -> 1 | R9: =IF(S9="SI",'TABLA DE OBJETIVOS'!$A10,"") -> 5 | S9: =IF(BASES!$B$11<>"",IF('TABLA DE OBJETIVOS'!$F10=BASES!$B$11,"SI",""),"") -> SI | T9: =IF((U9<>"")^(SUM(T$4:T8)<>""),MAX(T$4:T8)+1,"") | U9: =IF(V9="SI",'TABLA DE OBJETIVOS'!$A10,"") | V9: =IF(BASES!$B$12<>"",IF('TABLA DE OBJETIVOS'!$F10=BASES!$B$12,"SI",""),"") | X9: 6 | Y9: =IFERROR(VLOOKUP(X9,B$5:D$302,2,0),"") | Z9: =IF(Y9<>"",VLOOKUP(Y9,'TABLA DE OBJETIVOS'!$A$6:$G$200,7,0),"") | AA9: 6 | AB9: =IFERROR(VLOOKUP(AA9,E$5:G$302,2,0),"") | AC9: =IF(AB9<>"",VLOOKUP(AB9,'TABLA DE OBJETIVOS'!$A$6:$G$200,7,0),"") | AD9: 6 | AE9: =IFERROR(VLOOKUP(AD9,H$5:J$302,2,0),"") | AF9: =IF(AE9<>"",VLOOKUP(AE9,'TABLA DE OBJETIVOS'!$A$6:$G$200,7,0),"") | AG9: 6 | AH9: =IFERROR(VLOOKUP(AG9,K$5:M$302,2,0),"") | AI9: =IF(AH9<>"",VLOOKUP(AH9,'TABLA DE OBJETIVOS'!$A$6:$G$200,7,0),"") | AJ9: 6 | AK9: =IFERROR(VLOOKUP(AJ9,N$5:P$302,2,0),"") | AL9: =IF(AK9<>"",VLOOKUP(AK9,'TABLA DE OBJETIVOS'!$A$6:$G$200,7,0),"") | AM9: 6 | AN9: =IFERROR(VLOOKUP(AM9,Q$5:S$302,2,0),"") | AO9: =IF(AN9<>"",VLOOKUP(AN9,'TABLA DE OBJETIVOS'!$A$6:$G$200,7,0),"") | AP9: 6 | AQ9: =IFERROR(VLOOKUP(AP9,T$5:V$302,2,0),"") | AR9: =IF(AQ9<>"",VLOOKUP(AQ9,'TABLA DE OBJETIVOS'!$A$6:$G$200,7,0),"")
B10: =IF((C10<>"")^(SUM(B$4:B9)<>""),MAX(B$4:B9)+1,"") | C10: =IF(D10="SI",'TABLA DE OBJETIVOS'!$A11,"") | D10: =IF(BASES!$B$6<>"",IF('TABLA DE OBJETIVOS'!$F11=BASES!$B$6,"SI",""),"") | E10: =IF((F10<>"")^(SUM(E$4:E9)<>""),MAX(E$4:E9)+1,"") | F10: =IF(G10="SI",'TABLA DE OBJETIVOS'!$A11,"") | G10: =IF(BASES!$B$7<>"",IF('TABLA DE OBJETIVOS'!$F11=BASES!$B$7,"SI",""),"") | H10: =IF((I10<>"")^(SUM(H$4:H9)<>""),MAX(H$4:H9)+1,"") | I10: =IF(J10="SI",'TABLA DE OBJETIVOS'!$A11,"") | J10: =IF(BASES!$B$8<>"",IF('TABLA DE OBJETIVOS'!$F11=BASES!$B$8,"SI",""),"") | K10: =IF((L10<>"")^(SUM(K$4:K9)<>""),MAX(K$4:K9)+1,"") | L10: =IF(M10="SI",'TABLA DE OBJETIVOS'!$A11,"") | M10: =IF(BASES!$B$9<>"",IF('TABLA DE OBJETIVOS'!$F11=BASES!$B$9,"SI",""),"") | N10: =IF((O10<>"")^(SUM(N$4:N9)<>""),MAX(N$4:N9)+1,"") | O10: =IF(P10="SI",'TABLA DE OBJETIVOS'!$A11,"") | P10: =IF(BASES!$B$10<>"",IF('TABLA DE OBJETIVOS'!$F11=BASES!$B$10,"SI",""),"") | Q10: =IF((R10<>"")^(SUM(Q$4:Q9)<>""),MAX(Q$4:Q9)+1,"") -> 2 | R10: =IF(S10="SI",'TABLA DE OBJETIVOS'!$A11,"") -> 6 | S10: =IF(BASES!$B$11<>"",IF('TABLA DE OBJETIVOS'!$F11=BASES!$B$11,"SI",""),"") -> SI | T10: =IF((U10<>"")^(SUM(T$4:T9)<>""),MAX(T$4:T9)+1,"") | U10: =IF(V10="SI",'TABLA DE OBJETIVOS'!$A11,"") | V10: =IF(BASES!$B$12<>"",IF('TABLA DE OBJETIVOS'!$F11=BASES!$B$12,"SI",""),"") | X10: 7 | Y10: =IFERROR(VLOOKUP(X10,B$5:D$302,2,0),"") | Z10: =IF(Y10<>"",VLOOKUP(Y10,'TABLA DE OBJETIVOS'!$A$6:$G$200,7,0),"") | AA10: 7 | AB10: =IFERROR(VLOOKUP(AA10,E$5:G$302,2,0),"") | AC10: =IF(AB10<>"",VLOOKUP(AB10,'TABLA DE OBJETIVOS'!$A$6:$G$200,7,0),"") | AD10: 7 | AE10: =IFERROR(VLOOKUP(AD10,H$5:J$302,2,0),"") | AF10: =IF(AE10<>"",VLOOKUP(AE10,'TABLA DE OBJETIVOS'!$A$6:$G$200,7,0),"") | AG10: 7 | AH10: =IFERROR(VLOOKUP(AG10,K$5:M$302,2,0),"") | AI10: =IF(AH10<>"",VLOOKUP(AH10,'TABLA DE OBJETIVOS'!$A$6:$G$200,7,0),"") | AJ10: 7 | AK10: =IFERROR(VLOOKUP(AJ10,N$5:P$302,2,0),"") | AL10: =IF(AK10<>"",VLOOKUP(AK10,'TABLA DE OBJETIVOS'!$A$6:$G$200,7,0),"") | AM10: 7 | AN10: =IFERROR(VLOOKUP(AM10,Q$5:S$302,2,0),"") | AO10: =IF(AN10<>"",VLOOKUP(AN10,'TABLA DE OBJETIVOS'!$A$6:$G$200,7,0),"") | AP10: 7 | AQ10: =IFERROR(VLOOKUP(AP10,T$5:V$302,2,0),"") | AR10: =IF(AQ10<>"",VLOOKUP(AQ10,'TABLA DE OBJETIVOS'!$A$6:$G$200,7,0),"")
B11: =IF((C11<>"")^(SUM(B$4:B10)<>""),MAX(B$4:B10)+1,"") -> 1 | C11: =IF(D11="SI",'TABLA DE OBJETIVOS'!$A12,"") -> 7 | D11: =IF(BASES!$B$6<>"",IF('TABLA DE OBJETIVOS'!$F12=BASES!$B$6,"SI",""),"") -> SI | E11: =IF((F11<>"")^(SUM(E$4:E10)<>""),MAX(E$4:E10)+1,"") | F11: =IF(G11="SI",'TABLA DE OBJETIVOS'!$A12,"") | G11: =IF(BASES!$B$7<>"",IF('TABLA DE OBJETIVOS'!$F12=BASES!$B$7,"SI",""),"") | H11: =IF((I11<>"")^(SUM(H$4:H10)<>""),MAX(H$4:H10)+1,"") | I11: =IF(J11="SI",'TABLA DE OBJETIVOS'!$A12,"") | J11: =IF(BASES!$B$8<>"",IF('TABLA DE OBJETIVOS'!$F12=BASES!$B$8,"SI",""),"") | K11: =IF((L11<>"")^(SUM(K$4:K10)<>""),MAX(K$4:K10)+1,"") | L11: =IF(M11="SI",'TABLA DE OBJETIVOS'!$A12,"") | M11: =IF(BASES!$B$9<>"",IF('TABLA DE OBJETIVOS'!$F12=BASES!$B$9,"SI",""),"") | N11: =IF((O11<>"")^(SUM(N$4:N10)<>""),MAX(N$4:N10)+1,"") | O11: =IF(P11="SI",'TABLA DE OBJETIVOS'!$A12,"") | P11: =IF(BASES!$B$10<>"",IF('TABLA DE OBJETIVOS'!$F12=BASES!$B$10,"SI",""),"") | Q11: =IF((R11<>"")^(SUM(Q$4:Q10)<>""),MAX(Q$4:Q10)+1,"") | R11: =IF(S11="SI",'TABLA DE OBJETIVOS'!$A12,"") | S11: =IF(BASES!$B$11<>"",IF('TABLA DE OBJETIVOS'!$F12=BASES!$B$11,"SI",""),"") | T11: =IF((U11<>"")^(SUM(T$4:T10)<>""),MAX(T$4:T10)+1,"") | U11: =IF(V11="SI",'TABLA DE OBJETIVOS'!$A12,"") | V11: =IF(BASES!$B$12<>"",IF('TABLA DE OBJETIVOS'!$F12=BASES!$B$12,"SI",""),"") | X11: 8 | Y11: =IFERROR(VLOOKUP(X11,B$5:D$302,2,0),"") | Z11: =IF(Y11<>"",VLOOKUP(Y11,'TABLA DE OBJETIVOS'!$A$6:$G$200,7,0),"") | AA11: 8 | AB11: =IFERROR(VLOOKUP(AA11,E$5:G$302,2,0),"") | AC11: =IF(AB11<>"",VLOOKUP(AB11,'TABLA DE OBJETIVOS'!$A$6:$G$200,7,0),"") | AD11: 8 | AE11: =IFERROR(VLOOKUP(AD11,H$5:J$302,2,0),"") | AF11: =IF(AE11<>"",VLOOKUP(AE11,'TABLA DE OBJETIVOS'!$A$6:$G$200,7,0),"") | AG11: 8 | AH11: =IFERROR(VLOOKUP(AG11,K$5:M$302,2,0),"") | AI11: =IF(AH11<>"",VLOOKUP(AH11,'TABLA DE OBJETIVOS'!$A$6:$G$200,7,0),"") | AJ11: 8 | AK11: =IFERROR(VLOOKUP(AJ11,N$5:P$302,2,0),"") | AL11: =IF(AK11<>"",VLOOKUP(AK11,'TABLA DE OBJETIVOS'!$A$6:$G$200,7,0),"") | AM11: 8 | AN11: =IFERROR(VLOOKUP(AM11,Q$5:S$302,2,0),"") | AO11: =IF(AN11<>"",VLOOKUP(AN11,'TABLA DE OBJETIVOS'!$A$6:$G$200,7,0),"") | AP11: 8 | AQ11: =IFERROR(VLOOKUP(AP11,T$5:V$302,2,0),"") | AR11: =IF(AQ11<>"",VLOOKUP(AQ11,'TABLA DE OBJETIVOS'!$A$6:$G$200,7,0),"")
B12: =IF((C12<>"")^(SUM(B$4:B11)<>""),MAX(B$4:B11)+1,"") -> 2 | C12: =IF(D12="SI",'TABLA DE OBJETIVOS'!$A13,"") -> 8 | D12: =IF(BASES!$B$6<>"",IF('TABLA DE OBJETIVOS'!$F13=BASES!$B$6,"SI",""),"") -> SI | E12: =IF((F12<>"")^(SUM(E$4:E11)<>""),MAX(E$4:E11)+1,"") | F12: =IF(G12="SI",'TABLA DE OBJETIVOS'!$A13,"") | G12: =IF(BASES!$B$7<>"",IF('TABLA DE OBJETIVOS'!$F13=BASES!$B$7,"SI",""),"") | H12: =IF((I12<>"")^(SUM(H$4:H11)<>""),MAX(H$4:H11)+1,"") | I12: =IF(J12="SI",'TABLA DE OBJETIVOS'!$A13,"") | J12: =IF(BASES!$B$8<>"",IF('TABLA DE OBJETIVOS'!$F13=BASES!$B$8,"SI",""),"") | K12: =IF((L12<>"")^(SUM(K$4:K11)<>""),MAX(K$4:K11)+1,"") | L12: =IF(M12="SI",'TABLA DE OBJETIVOS'!$A13,"") | M12: =IF(BASES!$B$9<>"",IF('TABLA DE OBJETIVOS'!$F13=BASES!$B$9,"SI",""),"") | N12: =IF((O12<>"")^(SUM(N$4:N11)<>""),MAX(N$4:N11)+1,"") | O12: =IF(P12="SI",'TABLA DE OBJETIVOS'!$A13,"") | P12: =IF(BASES!$B$10<>"",IF('TABLA DE OBJETIVOS'!$F13=BASES!$B$10,"SI",""),"") | Q12: =IF((R12<>"")^(SUM(Q$4:Q11)<>""),MAX(Q$4:Q11)+1,"") | R12: =IF(S12="SI",'TABLA DE OBJETIVOS'!$A13,"") | S12: =IF(BASES!$B$11<>"",IF('TABLA DE OBJETIVOS'!$F13=BASES!$B$11,"SI",""),"") | T12: =IF((U12<>"")^(SUM(T$4:T11)<>""),MAX(T$4:T11)+1,"") | U12: =IF(V12="SI",'TABLA DE OBJETIVOS'!$A13,"") | V12: =IF(BASES!$B$12<>"",IF('TABLA DE OBJETIVOS'!$F13=BASES!$B$12,"SI",""),"") | X12: 9 | Y12: =IFERROR(VLOOKUP(X12,B$5:D$302,2,0),"") | Z12: =IF(Y12<>"",VLOOKUP(Y12,'TABLA DE OBJETIVOS'!$A$6:$G$200,7,0),"") | AA12: 9 | AB12: =IFERROR(VLOOKUP(AA12,E$5:G$302,2,0),"") | AC12: =IF(AB12<>"",VLOOKUP(AB12,'TABLA DE OBJETIVOS'!$A$6:$G$200,7,0),"") | AD12: 9 | AE12: =IFERROR(VLOOKUP(AD12,H$5:J$302,2,0),"") | AF12: =IF(AE12<>"",VLOOKUP(AE12,'TABLA DE OBJETIVOS'!$A$6:$G$200,7,0),"") | AG12: 9 | AH12: =IFERROR(VLOOKUP(AG12,K$5:M$302,2,0),"") | AI12: =IF(AH12<>"",VLOOKUP(AH12,'TABLA DE OBJETIVOS'!$A$6:$G$200,7,0),"") | AJ12: 9 | AK12: =IFERROR(VLOOKUP(AJ12,N$5:P$302,2,0),"") | AL12: =IF(AK12<>"",VLOOKUP(AK12,'TABLA DE OBJETIVOS'!$A$6:$G$200,7,0),"") | AM12: 9 | AN12: =IFERROR(VLOOKUP(AM12,Q$5:S$302,2,0),"") | AO12: =IF(AN12<>"",VLOOKUP(AN12,'TABLA DE OBJETIVOS'!$A$6:$G$200,7,0),"") | AP12: 9 | AQ12: =IFERROR(VLOOKUP(AP12,T$5:V$302,2,0),"") | AR12: =IF(AQ12<>"",VLOOKUP(AQ12,'TABLA DE OBJETIVOS'!$A$6:$G$200,7,0),"")
B13: =IF((C13<>"")^(SUM(B$4:B12)<>""),MAX(B$4:B12)+1,"") | C13: =IF(D13="SI",'TABLA DE OBJETIVOS'!$A14,"") | D13: =IF(BASES!$B$6<>"",IF('TABLA DE OBJETIVOS'!$F14=BASES!$B$6,"SI",""),"") | E13: =IF((F13<>"")^(SUM(E$4:E12)<>""),MAX(E$4:E12)+1,"") | F13: =IF(G13="SI",'TABLA DE OBJETIVOS'!$A14,"") | G13: =IF(BASES!$B$7<>"",IF('TABLA DE OBJETIVOS'!$F14=BASES!$B$7,"SI",""),"") | H13: =IF((I13<>"")^(SUM(H$4:H12)<>""),MAX(H$4:H12)+1,"") | I13: =IF(J13="SI",'TABLA DE OBJETIVOS'!$A14,"") | J13: =IF(BASES!$B$8<>"",IF('TABLA DE OBJETIVOS'!$F14=BASES!$B$8,"SI",""),"") | K13: =IF((L13<>"")^(SUM(K$4:K12)<>""),MAX(K$4:K12)+1,"") | L13: =IF(M13="SI",'TABLA DE OBJETIVOS'!$A14,"") | M13: =IF(BASES!$B$9<>"",IF('TABLA DE OBJETIVOS'!$F14=BASES!$B$9,"SI",""),"") | N13: =IF((O13<>"")^(SUM(N$4:N12)<>""),MAX(N$4:N12)+1,"") | O13: =IF(P13="SI",'TABLA DE OBJETIVOS'!$A14,"") | P13: =IF(BASES!$B$10<>"",IF('TABLA DE OBJETIVOS'!$F14=BASES!$B$10,"SI",""),"") | Q13: =IF((R13<>"")^(SUM(Q$4:Q12)<>""),MAX(Q$4:Q12)+1,"") | R13: =IF(S13="SI",'TABLA DE OBJETIVOS'!$A14,"") | S13: =IF(BASES!$B$11<>"",IF('TABLA DE OBJETIVOS'!$F14=BASES!$B$11,"SI",""),"") | T13: =IF((U13<>"")^(SUM(T$4:T12)<>""),MAX(T$4:T12)+1,"") | U13: =IF(V13="SI",'TABLA DE OBJETIVOS'!$A14,"") | V13: =IF(BASES!$B$12<>"",IF('TABLA DE OBJETIVOS'!$F14=BASES!$B$12,"SI",""),"") | X13: 10 | Y13: =IFERROR(VLOOKUP(X13,B$5:D$302,2,0),"") | Z13: =IF(Y13<>"",VLOOKUP(Y13,'TABLA DE OBJETIVOS'!$A$6:$G$200,7,0),"") | AA13: 10 | AB13: =IFERROR(VLOOKUP(AA13,E$5:G$302,2,0),"") | AC13: =IF(AB13<>"",VLOOKUP(AB13,'TABLA DE OBJETIVOS'!$A$6:$G$200,7,0),"") | AD13: 10 | AE13: =IFERROR(VLOOKUP(AD13,H$5:J$302,2,0),"") | AF13: =IF(AE13<>"",VLOOKUP(AE13,'TABLA DE OBJETIVOS'!$A$6:$G$200,7,0),"") | AG13: 10 | AH13: =IFERROR(VLOOKUP(AG13,K$5:M$302,2,0),"") | AI13: =IF(AH13<>"",VLOOKUP(AH13,'TABLA DE OBJETIVOS'!$A$6:$G$200,7,0),"") | AJ13: 10 | AK13: =IFERROR(VLOOKUP(AJ13,N$5:P$302,2,0),"") | AL13: =IF(AK13<>"",VLOOKUP(AK13,'TABLA DE OBJETIVOS'!$A$6:$G$200,7,0),"") | AM13: 10 | AN13: =IFERROR(VLOOKUP(AM13,Q$5:S$302,2,0),"") | AO13: =IF(AN13<>"",VLOOKUP(AN13,'TABLA DE OBJETIVOS'!$A$6:$G$200,7,0),"") | AP13: 10 | AQ13: =IFERROR(VLOOKUP(AP13,T$5:V$302,2,0),"") | AR13: =IF(AQ13<>"",VLOOKUP(AQ13,'TABLA DE OBJETIVOS'!$A$6:$G$200,7,0),"")
B14: =IF((C14<>"")^(SUM(B$4:B13)<>""),MAX(B$4:B13)+1,"") | C14: =IF(D14="SI",'TABLA DE OBJETIVOS'!$A15,"") | D14: =IF(BASES!$B$6<>"",IF('TABLA DE OBJETIVOS'!$F15=BASES!$B$6,"SI",""),"") | E14: =IF((F14<>"")^(SUM(E$4:E13)<>""),MAX(E$4:E13)+1,"") | F14: =IF(G14="SI",'TABLA DE OBJETIVOS'!$A15,"") | G14: =IF(BASES!$B$7<>"",IF('TABLA DE OBJETIVOS'!$F15=BASES!$B$7,"SI",""),"") | H14: =IF((I14<>"")^(SUM(H$4:H13)<>""),MAX(H$4:H13)+1,"") | I14: =IF(J14="SI",'TABLA DE OBJETIVOS'!$A15,"") | J14: =IF(BASES!$B$8<>"",IF('TABLA DE OBJETIVOS'!$F15=BASES!$B$8,"SI",""),"") | K14: =IF((L14<>"")^(SUM(K$4:K13)<>""),MAX(K$4:K13)+1,"") | L14: =IF(M14="SI",'TABLA DE OBJETIVOS'!$A15,"") | M14: =IF(BASES!$B$9<>"",IF('TABLA DE OBJETIVOS'!$F15=BASES!$B$9,"SI",""),"") | N14: =IF((O14<>"")^(SUM(N$4:N13)<>""),MAX(N$4:N13)+1,"") | O14: =IF(P14="SI",'TABLA DE OBJETIVOS'!$A15,"") | P14: =IF(BASES!$B$10<>"",IF('TABLA DE OBJETIVOS'!$F15=BASES!$B$10,"SI",""),"") | Q14: =IF((R14<>"")^(SUM(Q$4:Q13)<>""),MAX(Q$4:Q13)+1,"") | R14: =IF(S14="SI",'TABLA DE OBJETIVOS'!$A15,"") | S14: =IF(BASES!$B$11<>"",IF('TABLA DE OBJETIVOS'!$F15=BASES!$B$11,"SI",""),"") | T14: =IF((U14<>"")^(SUM(T$4:T13)<>""),MAX(T$4:T13)+1,"") | U14: =IF(V14="SI",'TABLA DE OBJETIVOS'!$A15,"") | V14: =IF(BASES!$B$12<>"",IF('TABLA DE OBJETIVOS'!$F15=BASES!$B$12,"SI",""),"") | X14: 11 | Y14: =IFERROR(VLOOKUP(X14,B$5:D$302,2,0),"") | Z14: =IF(Y14<>"",VLOOKUP(Y14,'TABLA DE OBJETIVOS'!$A$6:$G$200,7,0),"") | AA14: 11 | AB14: =IFERROR(VLOOKUP(AA14,E$5:G$302,2,0),"") | AC14: =IF(AB14<>"",VLOOKUP(AB14,'TABLA DE OBJETIVOS'!$A$6:$G$200,7,0),"") | AD14: 11 | AE14: =IFERROR(VLOOKUP(AD14,H$5:J$302,2,0),"") | AF14: =IF(AE14<>"",VLOOKUP(AE14,'TABLA DE OBJETIVOS'!$A$6:$G$200,7,0),"") | AG14: 11 | AH14: =IFERROR(VLOOKUP(AG14,K$5:M$302,2,0),"") | AI14: =IF(AH14<>"",VLOOKUP(AH14,'TABLA DE OBJETIVOS'!$A$6:$G$200,7,0),"") | AJ14: 11 | AK14: =IFERROR(VLOOKUP(AJ14,N$5:P$302,2,0),"") | AL14: =IF(AK14<>"",VLOOKUP(AK14,'TABLA DE OBJETIVOS'!$A$6:$G$200,7,0),"") | AM14: 11 | AN14: =IFERROR(VLOOKUP(AM14,Q$5:S$302,2,0),"") | AO14: =IF(AN14<>"",VLOOKUP(AN14,'TABLA DE OBJETIVOS'!$A$6:$G$200,7,0),"") | AP14: 11 | AQ14: =IFERROR(VLOOKUP(AP14,T$5:V$302,2,0),"") | AR14: =IF(AQ14<>"",VLOOKUP(AQ14,'TABLA DE OBJETIVOS'!$A$6:$G$200,7,0),"")
B15: =IF((C15<>"")^(SUM(B$4:B14)<>""),MAX(B$4:B14)+1,"") | C15: =IF(D15="SI",'TABLA DE OBJETIVOS'!$A16,"") | D15: =IF(BASES!$B$6<>"",IF('TABLA DE OBJETIVOS'!$F16=BASES!$B$6,"SI",""),"") | E15: =IF((F15<>"")^(SUM(E$4:E14)<>""),MAX(E$4:E14)+1,"") | F15: =IF(G15="SI",'TABLA DE OBJETIVOS'!$A16,"") | G15: =IF(BASES!$B$7<>"",IF('TABLA DE OBJETIVOS'!$F16=BASES!$B$7,"SI",""),"") | H15: =IF((I15<>"")^(SUM(H$4:H14)<>""),MAX(H$4:H14)+1,"") | I15: =IF(J15="SI",'TABLA DE OBJETIVOS'!$A16,"") | J15: =IF(BASES!$B$8<>"",IF('TABLA DE OBJETIVOS'!$F16=BASES!$B$8,"SI",""),"") | K15: =IF((L15<>"")^(SUM(K$4:K14)<>""),MAX(K$4:K14)+1,"") | L15: =IF(M15="SI",'TABLA DE OBJETIVOS'!$A16,"") | M15: =IF(BASES!$B$9<>"",IF('TABLA DE OBJETIVOS'!$F16=BASES!$B$9,"SI",""),"") | N15: =IF((O15<>"")^(SUM(N$4:N14)<>""),MAX(N$4:N14)+1,"") | O15: =IF(P15="SI",'TABLA DE OBJETIVOS'!$A16,"") | P15: =IF(BASES!$B$10<>"",IF('TABLA DE OBJETIVOS'!$F16=BASES!$B$10,"SI",""),"") | Q15: =IF((R15<>"")^(SUM(Q$4:Q14)<>""),MAX(Q$4:Q14)+1,"") | R15: =IF(S15="SI",'TABLA DE OBJETIVOS'!$A16,"") | S15: =IF(BASES!$B$11<>"",IF('TABLA DE OBJETIVOS'!$F16=BASES!$B$11,"SI",""),"") | T15: =IF((U15<>"")^(SUM(T$4:T14)<>""),MAX(T$4:T14)+1,"") | U15: =IF(V15="SI",'TABLA DE OBJETIVOS'!$A16,"") | V15: =IF(BASES!$B$12<>"",IF('TABLA DE OBJETIVOS'!$F16=BASES!$B$12,"SI",""),"") | X15: 12 | Y15: =IFERROR(VLOOKUP(X15,B$5:D$302,2,0),"") | Z15: =IF(Y15<>"",VLOOKUP(Y15,'TABLA DE OBJETIVOS'!$A$6:$G$200,7,0),"") | AA15: 12 | AB15: =IFERROR(VLOOKUP(AA15,E$5:G$302,2,0),"") | AC15: =IF(AB15<>"",VLOOKUP(AB15,'TABLA DE OBJETIVOS'!$A$6:$G$200,7,0),"") | AD15: 12 | AE15: =IFERROR(VLOOKUP(AD15,H$5:J$302,2,0),"") | AF15: =IF(AE15<>"",VLOOKUP(AE15,'TABLA DE OBJETIVOS'!$A$6:$G$200,7,0),"") | AG15: 12 | AH15: =IFERROR(VLOOKUP(AG15,K$5:M$302,2,0),"") | AI15: =IF(AH15<>"",VLOOKUP(AH15,'TABLA DE OBJETIVOS'!$A$6:$G$200,7,0),"") | AJ15: 12 | AK15: =IFERROR(VLOOKUP(AJ15,N$5:P$302,2,0),"") | AL15: =IF(AK15<>"",VLOOKUP(AK15,'TABLA DE OBJETIVOS'!$A$6:$G$200,7,0),"") | AM15: 12 | AN15: =IFERROR(VLOOKUP(AM15,Q$5:S$302,2,0),"") | AO15: =IF(AN15<>"",VLOOKUP(AN15,'TABLA DE OBJETIVOS'!$A$6:$G$200,7,0),"") | AP15: 12 | AQ15: =IFERROR(VLOOKUP(AP15,T$5:V$302,2,0),"") | AR15: =IF(AQ15<>"",VLOOKUP(AQ15,'TABLA DE OBJETIVOS'!$A$6:$G$200,7,0),"")
B16: =IF((C16<>"")^(SUM(B$4:B15)<>""),MAX(B$4:B15)+1,"") | C16: =IF(D16="SI",'TABLA DE OBJETIVOS'!$A17,"") | D16: =IF(BASES!$B$6<>"",IF('TABLA DE OBJETIVOS'!$F17=BASES!$B$6,"SI",""),"") | E16: =IF((F16<>"")^(SUM(E$4:E15)<>""),MAX(E$4:E15)+1,"") | F16: =IF(G16="SI",'TABLA DE OBJETIVOS'!$A17,"") | G16: =IF(BASES!$B$7<>"",IF('TABLA DE OBJETIVOS'!$F17=BASES!$B$7,"SI",""),"") | H16: =IF((I16<>"")^(SUM(H$4:H15)<>""),MAX(H$4:H15)+1,"") | I16: =IF(J16="SI",'TABLA DE OBJETIVOS'!$A17,"") | J16: =IF(BASES!$B$8<>"",IF('TABLA DE OBJETIVOS'!$F17=BASES!$B$8,"SI",""),"") | K16: =IF((L16<>"")^(SUM(K$4:K15)<>""),MAX(K$4:K15)+1,"") | L16: =IF(M16="SI",'TABLA DE OBJETIVOS'!$A17,"") | M16: =IF(BASES!$B$9<>"",IF('TABLA DE OBJETIVOS'!$F17=BASES!$B$9,"SI",""),"") | N16: =IF((O16<>"")^(SUM(N$4:N15)<>""),MAX(N$4:N15)+1,"") | O16: =IF(P16="SI",'TABLA DE OBJETIVOS'!$A17,"") | P16: =IF(BASES!$B$10<>"",IF('TABLA DE OBJETIVOS'!$F17=BASES!$B$10,"SI",""),"") | Q16: =IF((R16<>"")^(SUM(Q$4:Q15)<>""),MAX(Q$4:Q15)+1,"") | R16: =IF(S16="SI",'TABLA DE OBJETIVOS'!$A17,"") | S16: =IF(BASES!$B$11<>"",IF('TABLA DE OBJETIVOS'!$F17=BASES!$B$11,"SI",""),"") | T16: =IF((U16<>"")^(SUM(T$4:T15)<>""),MAX(T$4:T15)+1,"") | U16: =IF(V16="SI",'TABLA DE OBJETIVOS'!$A17,"") | V16: =IF(BASES!$B$12<>"",IF('TABLA DE OBJETIVOS'!$F17=BASES!$B$12,"SI",""),"") | X16: 13 | Y16: =IFERROR(VLOOKUP(X16,B$5:D$302,2,0),"") | Z16: =IF(Y16<>"",VLOOKUP(Y16,'TABLA DE OBJETIVOS'!$A$6:$G$200,7,0),"") | AA16: 13 | AB16: =IFERROR(VLOOKUP(AA16,E$5:G$302,2,0),"") | AC16: =IF(AB16<>"",VLOOKUP(AB16,'TABLA DE OBJETIVOS'!$A$6:$G$200,7,0),"") | AD16: 13 | AE16: =IFERROR(VLOOKUP(AD16,H$5:J$302,2,0),"") | AF16: =IF(AE16<>"",VLOOKUP(AE16,'TABLA DE OBJETIVOS'!$A$6:$G$200,7,0),"") | AG16: 13 | AH16: =IFERROR(VLOOKUP(AG16,K$5:M$302,2,0),"") | AI16: =IF(AH16<>"",VLOOKUP(AH16,'TABLA DE OBJETIVOS'!$A$6:$G$200,7,0),"") | AJ16: 13 | AK16: =IFERROR(VLOOKUP(AJ16,N$5:P$302,2,0),"") | AL16: =IF(AK16<>"",VLOOKUP(AK16,'TABLA DE OBJETIVOS'!$A$6:$G$200,7,0),"") | AM16: 13 | AN16: =IFERROR(VLOOKUP(AM16,Q$5:S$302,2,0),"") | AO16: =IF(AN16<>"",VLOOKUP(AN16,'TABLA DE OBJETIVOS'!$A$6:$G$200,7,0),"") | AP16: 13 | AQ16: =IFERROR(VLOOKUP(AP16,T$5:V$302,2,0),"") | AR16: =IF(AQ16<>"",VLOOKUP(AQ16,'TABLA DE OBJETIVOS'!$A$6:$G$200,7,0),"")
... B28: =IF((C28<>"")^(SUM(B$4:B27)<>""),MAX(B$4:B27)+1,"") | C28: =IF(D28="SI",'TABLA DE OBJETIVOS'!$A29,"") | D28: =IF(BASES!$B$6<>"",IF('TABLA DE OBJETIVOS'!$F29=BASES!$B$6,"SI",""),"") | E28: =IF((F28<>"")^(SUM(E$4:E27)<>""),MAX(E$4:E27)+1,"") | F28: =IF(G28="SI",'TABLA DE OBJETIVOS'!$A29,"") | G28: =IF(BASES!$B$7<>"",IF('TABLA DE OBJETIVOS'!$F29=BASES!$B$7,"SI",""),"") | H28: =IF((I28<>"")^(SUM(H$4:H27)<>""),MAX(H$4:H27)+1,"") | I28: =IF(J28="SI",'TABLA DE OBJETIVOS'!$A29,"") | J28: =IF(BASES!$B$8<>"",IF('TABLA DE OBJETIVOS'!$F29=BASES!$B$8,"SI",""),"") | K28: =IF((L28<>"")^(SUM(K$4:K27)<>""),MAX(K$4:K27)+1,"") | L28: =IF(M28="SI",'TABLA DE OBJETIVOS'!$A29,"") | M28: =IF(BASES!$B$9<>"",IF('TABLA DE OBJETIVOS'!$F29=BASES!$B$9,"SI",""),"") | N28: =IF((O28<>"")^(SUM(N$4:N27)<>""),MAX(N$4:N27)+1,"") | O28: =IF(P28="SI",'TABLA DE OBJETIVOS'!$A29,"") | P28: =IF(BASES!$B$10<>"",IF('TABLA DE OBJETIVOS'!$F29=BASES!$B$10,"SI",""),"") | Q28: =IF((R28<>"")^(SUM(Q$4:Q27)<>""),MAX(Q$4:Q27)+1,"") | R28: =IF(S28="SI",'TABLA DE OBJETIVOS'!$A29,"") | S28: =IF(BASES!$B$11<>"",IF('TABLA DE OBJETIVOS'!$F29=BASES!$B$11,"SI",""),"") | T28: =IF((U28<>"")^(SUM(T$4:T27)<>""),MAX(T$4:T27)+1,"") | U28: =IF(V28="SI",'TABLA DE OBJETIVOS'!$A29,"") | V28: =IF(BASES!$B$12<>"",IF('TABLA DE OBJETIVOS'!$F29=BASES!$B$12,"SI",""),"") | X28: 25 | Y28: =IFERROR(VLOOKUP(X28,B$5:D$302,2,0),"") | Z28: =IF(Y28<>"",VLOOKUP(Y28,'TABLA DE OBJETIVOS'!$A$6:$G$200,7,0),"") | AA28: 25 | AB28: =IFERROR(VLOOKUP(AA28,E$5:G$302,2,0),"") | AC28: =IF(AB28<>"",VLOOKUP(AB28,'TABLA DE OBJETIVOS'!$A$6:$G$200,7,0),"") | AD28: 25 | AE28: =IFERROR(VLOOKUP(AD28,H$5:J$302,2,0),"") | AF28: =IF(AE28<>"",VLOOKUP(AE28,'TABLA DE OBJETIVOS'!$A$6:$G$200,7,0),"") | AG28: 25 | AH28: =IFERROR(VLOOKUP(AG28,K$5:M$302,2,0),"") | AI28: =IF(AH28<>"",VLOOKUP(AH28,'TABLA DE OBJETIVOS'!$A$6:$G$200,7,0),"") | AJ28: 25 | AK28: =IFERROR(VLOOKUP(AJ28,N$5:P$302,2,0),"") | AL28: =IF(AK28<>"",VLOOKUP(AK28,'TABLA DE OBJETIVOS'!$A$6:$G$200,7,0),"") | AM28: 25 | AN28: =IFERROR(VLOOKUP(AM28,Q$5:S$302,2,0),"") | AO28: =IF(AN28<>"",VLOOKUP(AN28,'TABLA DE OBJETIVOS'!$A$6:$G$200,7,0),"") | AP28: 25 | AQ28: =IFERROR(VLOOKUP(AP28,T$5:V$302,2,0),"") | AR28: =IF(AQ28<>"",VLOOKUP(AQ28,'TABLA DE OBJETIVOS'!$A$6:$G$200,7,0),"")
B29: =IF((C29<>"")^(SUM(B$4:B28)<>""),MAX(B$4:B28)+1,"") | C29: =IF(D29="SI",'TABLA DE OBJETIVOS'!$A30,"") | D29: =IF(BASES!$B$6<>"",IF('TABLA DE OBJETIVOS'!$F30=BASES!$B$6,"SI",""),"") | E29: =IF((F29<>"")^(SUM(E$4:E28)<>""),MAX(E$4:E28)+1,"") | F29: =IF(G29="SI",'TABLA DE OBJETIVOS'!$A30,"") | G29: =IF(BASES!$B$7<>"",IF('TABLA DE OBJETIVOS'!$F30=BASES!$B$7,"SI",""),"") | H29: =IF((I29<>"")^(SUM(H$4:H28)<>""),MAX(H$4:H28)+1,"") | I29: =IF(J29="SI",'TABLA DE OBJETIVOS'!$A30,"") | J29: =IF(BASES!$B$8<>"",IF('TABLA DE OBJETIVOS'!$F30=BASES!$B$8,"SI",""),"") | K29: =IF((L29<>"")^(SUM(K$4:K28)<>""),MAX(K$4:K28)+1,"") | L29: =IF(M29="SI",'TABLA DE OBJETIVOS'!$A30,"") | M29: =IF(BASES!$B$9<>"",IF('TABLA DE OBJETIVOS'!$F30=BASES!$B$9,"SI",""),"") | N29: =IF((O29<>"")^(SUM(N$4:N28)<>""),MAX(N$4:N28)+1,"") | O29: =IF(P29="SI",'TABLA DE OBJETIVOS'!$A30,"") | P29: =IF(BASES!$B$10<>"",IF('TABLA DE OBJETIVOS'!$F30=BASES!$B$10,"SI",""),"") | Q29: =IF((R29<>"")^(SUM(Q$4:Q28)<>""),MAX(Q$4:Q28)+1,"") | R29: =IF(S29="SI",'TABLA DE OBJETIVOS'!$A30,"") | S29: =IF(BASES!$B$11<>"",IF('TABLA DE OBJETIVOS'!$F30=BASES!$B$11,"SI",""),"") | T29: =IF((U29<>"")^(SUM(T$4:T28)<>""),MAX(T$4:T28)+1,"") | U29: =IF(V29="SI",'TABLA DE OBJETIVOS'!$A30,"") | V29: =IF(BASES!$B$12<>"",IF('TABLA DE OBJETIVOS'!$F30=BASES!$B$12,"SI",""),"") | Z29: =IF(Y29<>"",VLOOKUP(Y29,'TABLA DE OBJETIVOS'!$A$6:$G$200,7,0),"") | AC29: =IF(AB29<>"",VLOOKUP(AB29,'TABLA DE OBJETIVOS'!$A$6:$G$200,7,0),"") | AF29: =IF(AE29<>"",VLOOKUP(AE29,'TABLA DE OBJETIVOS'!$A$6:$G$200,7,0),"") | AI29: =IF(AH29<>"",VLOOKUP(AH29,'TABLA DE OBJETIVOS'!$A$6:$G$200,7,0),"") | AL29: =IF(AK29<>"",VLOOKUP(AK29,'TABLA DE OBJETIVOS'!$A$6:$G$200,7,0),"") | AO29: =IF(AN29<>"",VLOOKUP(AN29,'TABLA DE OBJETIVOS'!$A$6:$G$200,7,0),"") | AR29: =IF(AQ29<>"",VLOOKUP(AQ29,'TABLA DE OBJETIVOS'!$A$6:$G$200,7,0),"")
B30: =IF((C30<>"")^(SUM(B$4:B29)<>""),MAX(B$4:B29)+1,"") | C30: =IF(D30="SI",'TABLA DE OBJETIVOS'!$A31,"") | D30: =IF(BASES!$B$6<>"",IF('TABLA DE OBJETIVOS'!$F31=BASES!$B$6,"SI",""),"") | E30: =IF((F30<>"")^(SUM(E$4:E29)<>""),MAX(E$4:E29)+1,"") | F30: =IF(G30="SI",'TABLA DE OBJETIVOS'!$A31,"") | G30: =IF(BASES!$B$7<>"",IF('TABLA DE OBJETIVOS'!$F31=BASES!$B$7,"SI",""),"") | H30: =IF((I30<>"")^(SUM(H$4:H29)<>""),MAX(H$4:H29)+1,"") | I30: =IF(J30="SI",'TABLA DE OBJETIVOS'!$A31,"") | J30: =IF(BASES!$B$8<>"",IF('TABLA DE OBJETIVOS'!$F31=BASES!$B$8,"SI",""),"") | K30: =IF((L30<>"")^(SUM(K$4:K29)<>""),MAX(K$4:K29)+1,"") | L30: =IF(M30="SI",'TABLA DE OBJETIVOS'!$A31,"") | M30: =IF(BASES!$B$9<>"",IF('TABLA DE OBJETIVOS'!$F31=BASES!$B$9,"SI",""),"") | N30: =IF((O30<>"")^(SUM(N$4:N29)<>""),MAX(N$4:N29)+1,"") | O30: =IF(P30="SI",'TABLA DE OBJETIVOS'!$A31,"") | P30: =IF(BASES!$B$10<>"",IF('TABLA DE OBJETIVOS'!$F31=BASES!$B$10,"SI",""),"") | Q30: =IF((R30<>"")^(SUM(Q$4:Q29)<>""),MAX(Q$4:Q29)+1,"") | R30: =IF(S30="SI",'TABLA DE OBJETIVOS'!$A31,"") | S30: =IF(BASES!$B$11<>"",IF('TABLA DE OBJETIVOS'!$F31=BASES!$B$11,"SI",""),"") | T30: =IF((U30<>"")^(SUM(T$4:T29)<>""),MAX(T$4:T29)+1,"") | U30: =IF(V30="SI",'TABLA DE OBJETIVOS'!$A31,"") | V30: =IF(BASES!$B$12<>"",IF('TABLA DE OBJETIVOS'!$F31=BASES!$B$12,"SI",""),"")
B31: =IF((C31<>"")^(SUM(B$4:B30)<>""),MAX(B$4:B30)+1,"") | C31: =IF(D31="SI",'TABLA DE OBJETIVOS'!$A32,"") | D31: =IF(BASES!$B$6<>"",IF('TABLA DE OBJETIVOS'!$F32=BASES!$B$6,"SI",""),"") | E31: =IF((F31<>"")^(SUM(E$4:E30)<>""),MAX(E$4:E30)+1,"") | F31: =IF(G31="SI",'TABLA DE OBJETIVOS'!$A32,"") | G31: =IF(BASES!$B$7<>"",IF('TABLA DE OBJETIVOS'!$F32=BASES!$B$7,"SI",""),"") | H31: =IF((I31<>"")^(SUM(H$4:H30)<>""),MAX(H$4:H30)+1,"") | I31: =IF(J31="SI",'TABLA DE OBJETIVOS'!$A32,"") | J31: =IF(BASES!$B$8<>"",IF('TABLA DE OBJETIVOS'!$F32=BASES!$B$8,"SI",""),"") | K31: =IF((L31<>"")^(SUM(K$4:K30)<>""),MAX(K$4:K30)+1,"") | L31: =IF(M31="SI",'TABLA DE OBJETIVOS'!$A32,"") | M31: =IF(BASES!$B$9<>"",IF('TABLA DE OBJETIVOS'!$F32=BASES!$B$9,"SI",""),"") | N31: =IF((O31<>"")^(SUM(N$4:N30)<>""),MAX(N$4:N30)+1,"") | O31: =IF(P31="SI",'TABLA DE OBJETIVOS'!$A32,"") | P31: =IF(BASES!$B$10<>"",IF('TABLA DE OBJETIVOS'!$F32=BASES!$B$10,"SI",""),"") | Q31: =IF((R31<>"")^(SUM(Q$4:Q30)<>""),MAX(Q$4:Q30)+1,"") | R31: =IF(S31="SI",'TABLA DE OBJETIVOS'!$A32,"") | S31: =IF(BASES!$B$11<>"",IF('TABLA DE OBJETIVOS'!$F32=BASES!$B$11,"SI",""),"") | T31: =IF((U31<>"")^(SUM(T$4:T30)<>""),MAX(T$4:T30)+1,"") | U31: =IF(V31="SI",'TABLA DE OBJETIVOS'!$A32,"") | V31: =IF(BASES!$B$12<>"",IF('TABLA DE OBJETIVOS'!$F32=BASES!$B$12,"SI",""),"")
B32: =IF((C32<>"")^(SUM(B$4:B31)<>""),MAX(B$4:B31)+1,"") | C32: =IF(D32="SI",'TABLA DE OBJETIVOS'!$A33,"") | D32: =IF(BASES!$B$6<>"",IF('TABLA DE OBJETIVOS'!$F33=BASES!$B$6,"SI",""),"") | E32: =IF((F32<>"")^(SUM(E$4:E31)<>""),MAX(E$4:E31)+1,"") | F32: =IF(G32="SI",'TABLA DE OBJETIVOS'!$A33,"") | G32: =IF(BASES!$B$7<>"",IF('TABLA DE OBJETIVOS'!$F33=BASES!$B$7,"SI",""),"") | H32: =IF((I32<>"")^(SUM(H$4:H31)<>""),MAX(H$4:H31)+1,"") | I32: =IF(J32="SI",'TABLA DE OBJETIVOS'!$A33,"") | J32: =IF(BASES!$B$8<>"",IF('TABLA DE OBJETIVOS'!$F33=BASES!$B$8,"SI",""),"") | K32: =IF((L32<>"")^(SUM(K$4:K31)<>""),MAX(K$4:K31)+1,"") | L32: =IF(M32="SI",'TABLA DE OBJETIVOS'!$A33,"") | M32: =IF(BASES!$B$9<>"",IF('TABLA DE OBJETIVOS'!$F33=BASES!$B$9,"SI",""),"") | N32: =IF((O32<>"")^(SUM(N$4:N31)<>""),MAX(N$4:N31)+1,"") | O32: =IF(P32="SI",'TABLA DE OBJETIVOS'!$A33,"") | P32: =IF(BASES!$B$10<>"",IF('TABLA DE OBJETIVOS'!$F33=BASES!$B$10,"SI",""),"") | Q32: =IF((R32<>"")^(SUM(Q$4:Q31)<>""),MAX(Q$4:Q31)+1,"") | R32: =IF(S32="SI",'TABLA DE OBJETIVOS'!$A33,"") | S32: =IF(BASES!$B$11<>"",IF('TABLA DE OBJETIVOS'!$F33=BASES!$B$11,"SI",""),"") | T32: =IF((U32<>"")^(SUM(T$4:T31)<>""),MAX(T$4:T31)+1,"") | U32: =IF(V32="SI",'TABLA DE OBJETIVOS'!$A33,"") | V32: =IF(BASES!$B$12<>"",IF('TABLA DE OBJETIVOS'!$F33=BASES!$B$12,"SI",""),"")
B33: =IF((C33<>"")^(SUM(B$4:B32)<>""),MAX(B$4:B32)+1,"") | C33: =IF(D33="SI",'TABLA DE OBJETIVOS'!$A34,"") | D33: =IF(BASES!$B$6<>"",IF('TABLA DE OBJETIVOS'!$F34=BASES!$B$6,"SI",""),"") | E33: =IF((F33<>"")^(SUM(E$4:E32)<>""),MAX(E$4:E32)+1,"") | F33: =IF(G33="SI",'TABLA DE OBJETIVOS'!$A34,"") | G33: =IF(BASES!$B$7<>"",IF('TABLA DE OBJETIVOS'!$F34=BASES!$B$7,"SI",""),"") | H33: =IF((I33<>"")^(SUM(H$4:H32)<>""),MAX(H$4:H32)+1,"") | I33: =IF(J33="SI",'TABLA DE OBJETIVOS'!$A34,"") | J33: =IF(BASES!$B$8<>"",IF('TABLA DE OBJETIVOS'!$F34=BASES!$B$8,"SI",""),"") | K33: =IF((L33<>"")^(SUM(K$4:K32)<>""),MAX(K$4:K32)+1,"") | L33: =IF(M33="SI",'TABLA DE OBJETIVOS'!$A34,"") | M33: =IF(BASES!$B$9<>"",IF('TABLA DE OBJETIVOS'!$F34=BASES!$B$9,"SI",""),"") | N33: =IF((O33<>"")^(SUM(N$4:N32)<>""),MAX(N$4:N32)+1,"") | O33: =IF(P33="SI",'TABLA DE OBJETIVOS'!$A34,"") | P33: =IF(BASES!$B$10<>"",IF('TABLA DE OBJETIVOS'!$F34=BASES!$B$10,"SI",""),"") | Q33: =IF((R33<>"")^(SUM(Q$4:Q32)<>""),MAX(Q$4:Q32)+1,"") | R33: =IF(S33="SI",'TABLA DE OBJETIVOS'!$A34,"") | S33: =IF(BASES!$B$11<>"",IF('TABLA DE OBJETIVOS'!$F34=BASES!$B$11,"SI",""),"") | T33: =IF((U33<>"")^(SUM(T$4:T32)<>""),MAX(T$4:T32)+1,"") | U33: =IF(V33="SI",'TABLA DE OBJETIVOS'!$A34,"") | V33: =IF(BASES!$B$12<>"",IF('TABLA DE OBJETIVOS'!$F34=BASES!$B$12,"SI",""),"")
B34: =IF((C34<>"")^(SUM(B$4:B33)<>""),MAX(B$4:B33)+1,"") | C34: =IF(D34="SI",'TABLA DE OBJETIVOS'!$A35,"") | D34: =IF(BASES!$B$6<>"",IF('TABLA DE OBJETIVOS'!$F35=BASES!$B$6,"SI",""),"") | E34: =IF((F34<>"")^(SUM(E$4:E33)<>""),MAX(E$4:E33)+1,"") | F34: =IF(G34="SI",'TABLA DE OBJETIVOS'!$A35,"") | G34: =IF(BASES!$B$7<>"",IF('TABLA DE OBJETIVOS'!$F35=BASES!$B$7,"SI",""),"") | H34: =IF((I34<>"")^(SUM(H$4:H33)<>""),MAX(H$4:H33)+1,"") | I34: =IF(J34="SI",'TABLA DE OBJETIVOS'!$A35,"") | J34: =IF(BASES!$B$8<>"",IF('TABLA DE OBJETIVOS'!$F35=BASES!$B$8,"SI",""),"") | K34: =IF((L34<>"")^(SUM(K$4:K33)<>""),MAX(K$4:K33)+1,"") | L34: =IF(M34="SI",'TABLA DE OBJETIVOS'!$A35,"") | M34: =IF(BASES!$B$9<>"",IF('TABLA DE OBJETIVOS'!$F35=BASES!$B$9,"SI",""),"") | N34: =IF((O34<>"")^(SUM(N$4:N33)<>""),MAX(N$4:N33)+1,"") | O34: =IF(P34="SI",'TABLA DE OBJETIVOS'!$A35,"") | P34: =IF(BASES!$B$10<>"",IF('TABLA DE OBJETIVOS'!$F35=BASES!$B$10,"SI",""),"") | Q34: =IF((R34<>"")^(SUM(Q$4:Q33)<>""),MAX(Q$4:Q33)+1,"") | R34: =IF(S34="SI",'TABLA DE OBJETIVOS'!$A35,"") | S34: =IF(BASES!$B$11<>"",IF('TABLA DE OBJETIVOS'!$F35=BASES!$B$11,"SI",""),"") | T34: =IF((U34<>"")^(SUM(T$4:T33)<>""),MAX(T$4:T33)+1,"") | U34: =IF(V34="SI",'TABLA DE OBJETIVOS'!$A35,"") | V34: =IF(BASES!$B$12<>"",IF('TABLA DE OBJETIVOS'!$F35=BASES!$B$12,"SI",""),"")
B35: =IF((C35<>"")^(SUM(B$4:B34)<>""),MAX(B$4:B34)+1,"") | C35: =IF(D35="SI",'TABLA DE OBJETIVOS'!$A36,"") | D35: =IF(BASES!$B$6<>"",IF('TABLA DE OBJETIVOS'!$F36=BASES!$B$6,"SI",""),"") | E35: =IF((F35<>"")^(SUM(E$4:E34)<>""),MAX(E$4:E34)+1,"") | F35: =IF(G35="SI",'TABLA DE OBJETIVOS'!$A36,"") | G35: =IF(BASES!$B$7<>"",IF('TABLA DE OBJETIVOS'!$F36=BASES!$B$7,"SI",""),"") | H35: =IF((I35<>"")^(SUM(H$4:H34)<>""),MAX(H$4:H34)+1,"") | I35: =IF(J35="SI",'TABLA DE OBJETIVOS'!$A36,"") | J35: =IF(BASES!$B$8<>"",IF('TABLA DE OBJETIVOS'!$F36=BASES!$B$8,"SI",""),"") | K35: =IF((L35<>"")^(SUM(K$4:K34)<>""),MAX(K$4:K34)+1,"") | L35: =IF(M35="SI",'TABLA DE OBJETIVOS'!$A36,"") | M35: =IF(BASES!$B$9<>"",IF('TABLA DE OBJETIVOS'!$F36=BASES!$B$9,"SI",""),"") | N35: =IF((O35<>"")^(SUM(N$4:N34)<>""),MAX(N$4:N34)+1,"") | O35: =IF(P35="SI",'TABLA DE OBJETIVOS'!$A36,"") | P35: =IF(BASES!$B$10<>"",IF('TABLA DE OBJETIVOS'!$F36=BASES!$B$10,"SI",""),"") | Q35: =IF((R35<>"")^(SUM(Q$4:Q34)<>""),MAX(Q$4:Q34)+1,"") | R35: =IF(S35="SI",'TABLA DE OBJETIVOS'!$A36,"") | S35: =IF(BASES!$B$11<>"",IF('TABLA DE OBJETIVOS'!$F36=BASES!$B$11,"SI",""),"") | T35: =IF((U35<>"")^(SUM(T$4:T34)<>""),MAX(T$4:T34)+1,"") | U35: =IF(V35="SI",'TABLA DE OBJETIVOS'!$A36,"") | V35: =IF(BASES!$B$12<>"",IF('TABLA DE OBJETIVOS'!$F36=BASES!$B$12,"SI",""),"")
B36: =IF((C36<>"")^(SUM(B$4:B35)<>""),MAX(B$4:B35)+1,"") | C36: =IF(D36="SI",'TABLA DE OBJETIVOS'!$A37,"") | D36: =IF(BASES!$B$6<>"",IF('TABLA DE OBJETIVOS'!$F37=BASES!$B$6,"SI",""),"") | E36: =IF((F36<>"")^(SUM(E$4:E35)<>""),MAX(E$4:E35)+1,"") | F36: =IF(G36="SI",'TABLA DE OBJETIVOS'!$A37,"") | G36: =IF(BASES!$B$7<>"",IF('TABLA DE OBJETIVOS'!$F37=BASES!$B$7,"SI",""),"") | H36: =IF((I36<>"")^(SUM(H$4:H35)<>""),MAX(H$4:H35)+1,"") | I36: =IF(J36="SI",'TABLA DE OBJETIVOS'!$A37,"") | J36: =IF(BASES!$B$8<>"",IF('TABLA DE OBJETIVOS'!$F37=BASES!$B$8,"SI",""),"") | K36: =IF((L36<>"")^(SUM(K$4:K35)<>""),MAX(K$4:K35)+1,"") | L36: =IF(M36="SI",'TABLA DE OBJETIVOS'!$A37,"") | M36: =IF(BASES!$B$9<>"",IF('TABLA DE OBJETIVOS'!$F37=BASES!$B$9,"SI",""),"") | N36: =IF((O36<>"")^(SUM(N$4:N35)<>""),MAX(N$4:N35)+1,"") | O36: =IF(P36="SI",'TABLA DE OBJETIVOS'!$A37,"") | P36: =IF(BASES!$B$10<>"",IF('TABLA DE OBJETIVOS'!$F37=BASES!$B$10,"SI",""),"") | Q36: =IF((R36<>"")^(SUM(Q$4:Q35)<>""),MAX(Q$4:Q35)+1,"") | R36: =IF(S36="SI",'TABLA DE OBJETIVOS'!$A37,"") | S36: =IF(BASES!$B$11<>"",IF('TABLA DE OBJETIVOS'!$F37=BASES!$B$11,"SI",""),"") | T36: =IF((U36<>"")^(SUM(T$4:T35)<>""),MAX(T$4:T35)+1,"") | U36: =IF(V36="SI",'TABLA DE OBJETIVOS'!$A37,"") | V36: =IF(BASES!$B$12<>"",IF('TABLA DE OBJETIVOS'!$F37=BASES!$B$12,"SI",""),"")
B37: =IF((C37<>"")^(SUM(B$4:B36)<>""),MAX(B$4:B36)+1,"") | C37: =IF(D37="SI",'TABLA DE OBJETIVOS'!$A38,"") | D37: =IF(BASES!$B$6<>"",IF('TABLA DE OBJETIVOS'!$F38=BASES!$B$6,"SI",""),"") | E37: =IF((F37<>"")^(SUM(E$4:E36)<>""),MAX(E$4:E36)+1,"") | F37: =IF(G37="SI",'TABLA DE OBJETIVOS'!$A38,"") | G37: =IF(BASES!$B$7<>"",IF('TABLA DE OBJETIVOS'!$F38=BASES!$B$7,"SI",""),"") | H37: =IF((I37<>"")^(SUM(H$4:H36)<>""),MAX(H$4:H36)+1,"") | I37: =IF(J37="SI",'TABLA DE OBJETIVOS'!$A38,"") | J37: =IF(BASES!$B$8<>"",IF('TABLA DE OBJETIVOS'!$F38=BASES!$B$8,"SI",""),"") | K37: =IF((L37<>"")^(SUM(K$4:K36)<>""),MAX(K$4:K36)+1,"") | L37: =IF(M37="SI",'TABLA DE OBJETIVOS'!$A38,"") | M37: =IF(BASES!$B$9<>"",IF('TABLA DE OBJETIVOS'!$F38=BASES!$B$9,"SI",""),"") | N37: =IF((O37<>"")^(SUM(N$4:N36)<>""),MAX(N$4:N36)+1,"") | O37: =IF(P37="SI",'TABLA DE OBJETIVOS'!$A38,"") | P37: =IF(BASES!$B$10<>"",IF('TABLA DE OBJETIVOS'!$F38=BASES!$B$10,"SI",""),"") | Q37: =IF((R37<>"")^(SUM(Q$4:Q36)<>""),MAX(Q$4:Q36)+1,"") | R37: =IF(S37="SI",'TABLA DE OBJETIVOS'!$A38,"") | S37: =IF(BASES!$B$11<>"",IF('TABLA DE OBJETIVOS'!$F38=BASES!$B$11,"SI",""),"") | T37: =IF((U37<>"")^(SUM(T$4:T36)<>""),MAX(T$4:T36)+1,"") | U37: =IF(V37="SI",'TABLA DE OBJETIVOS'!$A38,"") | V37: =IF(BASES!$B$12<>"",IF('TABLA DE OBJETIVOS'!$F38=BASES!$B$12,"SI",""),"")
B38: =IF((C38<>"")^(SUM(B$4:B37)<>""),MAX(B$4:B37)+1,"") | C38: =IF(D38="SI",'TABLA DE OBJETIVOS'!$A39,"") | D38: =IF(BASES!$B$6<>"",IF('TABLA DE OBJETIVOS'!$F39=BASES!$B$6,"SI",""),"") | E38: =IF((F38<>"")^(SUM(E$4:E37)<>""),MAX(E$4:E37)+1,"") | F38: =IF(G38="SI",'TABLA DE OBJETIVOS'!$A39,"") | G38: =IF(BASES!$B$7<>"",IF('TABLA DE OBJETIVOS'!$F39=BASES!$B$7,"SI",""),"") | H38: =IF((I38<>"")^(SUM(H$4:H37)<>""),MAX(H$4:H37)+1,"") | I38: =IF(J38="SI",'TABLA DE OBJETIVOS'!$A39,"") | J38: =IF(BASES!$B$8<>"",IF('TABLA DE OBJETIVOS'!$F39=BASES!$B$8,"SI",""),"") | K38: =IF((L38<>"")^(SUM(K$4:K37)<>""),MAX(K$4:K37)+1,"") | L38: =IF(M38="SI",'TABLA DE OBJETIVOS'!$A39,"") | M38: =IF(BASES!$B$9<>"",IF('TABLA DE OBJETIVOS'!$F39=BASES!$B$9,"SI",""),"") | N38: =IF((O38<>"")^(SUM(N$4:N37)<>""),MAX(N$4:N37)+1,"") | O38: =IF(P38="SI",'TABLA DE OBJETIVOS'!$A39,"") | P38: =IF(BASES!$B$10<>"",IF('TABLA DE OBJETIVOS'!$F39=BASES!$B$10,"SI",""),"") | Q38: =IF((R38<>"")^(SUM(Q$4:Q37)<>""),MAX(Q$4:Q37)+1,"") | R38: =IF(S38="SI",'TABLA DE OBJETIVOS'!$A39,"") | S38: =IF(BASES!$B$11<>"",IF('TABLA DE OBJETIVOS'!$F39=BASES!$B$11,"SI",""),"") | T38: =IF((U38<>"")^(SUM(T$4:T37)<>""),MAX(T$4:T37)+1,"") | U38: =IF(V38="SI",'TABLA DE OBJETIVOS'!$A39,"") | V38: =IF(BASES!$B$12<>"",IF('TABLA DE OBJETIVOS'!$F39=BASES!$B$12,"SI",""),"")
B39: =IF((C39<>"")^(SUM(B$4:B38)<>""),MAX(B$4:B38)+1,"") | C39: =IF(D39="SI",'TABLA DE OBJETIVOS'!$A40,"") | D39: =IF(BASES!$B$6<>"",IF('TABLA DE OBJETIVOS'!$F40=BASES!$B$6,"SI",""),"") | E39: =IF((F39<>"")^(SUM(E$4:E38)<>""),MAX(E$4:E38)+1,"") | F39: =IF(G39="SI",'TABLA DE OBJETIVOS'!$A40,"") | G39: =IF(BASES!$B$7<>"",IF('TABLA DE OBJETIVOS'!$F40=BASES!$B$7,"SI",""),"") | H39: =IF((I39<>"")^(SUM(H$4:H38)<>""),MAX(H$4:H38)+1,"") | I39: =IF(J39="SI",'TABLA DE OBJETIVOS'!$A40,"") | J39: =IF(BASES!$B$8<>"",IF('TABLA DE OBJETIVOS'!$F40=BASES!$B$8,"SI",""),"") | K39: =IF((L39<>"")^(SUM(K$4:K38)<>""),MAX(K$4:K38)+1,"") | L39: =IF(M39="SI",'TABLA DE OBJETIVOS'!$A40,"") | M39: =IF(BASES!$B$9<>"",IF('TABLA DE OBJETIVOS'!$F40=BASES!$B$9,"SI",""),"") | N39: =IF((O39<>"")^(SUM(N$4:N38)<>""),MAX(N$4:N38)+1,"") | O39: =IF(P39="SI",'TABLA DE OBJETIVOS'!$A40,"") | P39: =IF(BASES!$B$10<>"",IF('TABLA DE OBJETIVOS'!$F40=BASES!$B$10,"SI",""),"") | Q39: =IF((R39<>"")^(SUM(Q$4:Q38)<>""),MAX(Q$4:Q38)+1,"") | R39: =IF(S39="SI",'TABLA DE OBJETIVOS'!$A40,"") | S39: =IF(BASES!$B$11<>"",IF('TABLA DE OBJETIVOS'!$F40=BASES!$B$11,"SI",""),"") | T39: =IF((U39<>"")^(SUM(T$4:T38)<>""),MAX(T$4:T38)+1,"") | U39: =IF(V39="SI",'TABLA DE OBJETIVOS'!$A40,"") | V39: =IF(BASES!$B$12<>"",IF('TABLA DE OBJETIVOS'!$F40=BASES!$B$12,"SI",""),"")
B40: =IF((C40<>"")^(SUM(B$4:B39)<>""),MAX(B$4:B39)+1,"") | C40: =IF(D40="SI",'TABLA DE OBJETIVOS'!$A41,"") | D40: =IF(BASES!$B$6<>"",IF('TABLA DE OBJETIVOS'!$F41=BASES!$B$6,"SI",""),"") | E40: =IF((F40<>"")^(SUM(E$4:E39)<>""),MAX(E$4:E39)+1,"") | F40: =IF(G40="SI",'TABLA DE OBJETIVOS'!$A41,"") | G40: =IF(BASES!$B$7<>"",IF('TABLA DE OBJETIVOS'!$F41=BASES!$B$7,"SI",""),"") | H40: =IF((I40<>"")^(SUM(H$4:H39)<>""),MAX(H$4:H39)+1,"") | I40: =IF(J40="SI",'TABLA DE OBJETIVOS'!$A41,"") | J40: =IF(BASES!$B$8<>"",IF('TABLA DE OBJETIVOS'!$F41=BASES!$B$8,"SI",""),"") | K40: =IF((L40<>"")^(SUM(K$4:K39)<>""),MAX(K$4:K39)+1,"") | L40: =IF(M40="SI",'TABLA DE OBJETIVOS'!$A41,"") | M40: =IF(BASES!$B$9<>"",IF('TABLA DE OBJETIVOS'!$F41=BASES!$B$9,"SI",""),"") | N40: =IF((O40<>"")^(SUM(N$4:N39)<>""),MAX(N$4:N39)+1,"") | O40: =IF(P40="SI",'TABLA DE OBJETIVOS'!$A41,"") | P40: =IF(BASES!$B$10<>"",IF('TABLA DE OBJETIVOS'!$F41=BASES!$B$10,"SI",""),"") | Q40: =IF((R40<>"")^(SUM(Q$4:Q39)<>""),MAX(Q$4:Q39)+1,"") | R40: =IF(S40="SI",'TABLA DE OBJETIVOS'!$A41,"") | S40: =IF(BASES!$B$11<>"",IF('TABLA DE OBJETIVOS'!$F41=BASES!$B$11,"SI",""),"") | T40: =IF((U40<>"")^(SUM(T$4:T39)<>""),MAX(T$4:T39)+1,"") | U40: =IF(V40="SI",'TABLA DE OBJETIVOS'!$A41,"") | V40: =IF(BASES!$B$12<>"",IF('TABLA DE OBJETIVOS'!$F41=BASES!$B$12,"SI",""),"")
B41: =IF((C41<>"")^(SUM(B$4:B40)<>""),MAX(B$4:B40)+1,"") | C41: =IF(D41="SI",'TABLA DE OBJETIVOS'!$A42,"") | D41: =IF(BASES!$B$6<>"",IF('TABLA DE OBJETIVOS'!$F42=BASES!$B$6,"SI",""),"") | E41: =IF((F41<>"")^(SUM(E$4:E40)<>""),MAX(E$4:E40)+1,"") | F41: =IF(G41="SI",'TABLA DE OBJETIVOS'!$A42,"") | G41: =IF(BASES!$B$7<>"",IF('TABLA DE OBJETIVOS'!$F42=BASES!$B$7,"SI",""),"") | H41: =IF((I41<>"")^(SUM(H$4:H40)<>""),MAX(H$4:H40)+1,"") | I41: =IF(J41="SI",'TABLA DE OBJETIVOS'!$A42,"") | J41: =IF(BASES!$B$8<>"",IF('TABLA DE OBJETIVOS'!$F42=BASES!$B$8,"SI",""),"") | K41: =IF((L41<>"")^(SUM(K$4:K40)<>""),MAX(K$4:K40)+1,"") | L41: =IF(M41="SI",'TABLA DE OBJETIVOS'!$A42,"") | M41: =IF(BASES!$B$9<>"",IF('TABLA DE OBJETIVOS'!$F42=BASES!$B$9,"SI",""),"") | N41: =IF((O41<>"")^(SUM(N$4:N40)<>""),MAX(N$4:N40)+1,"") | O41: =IF(P41="SI",'TABLA DE OBJETIVOS'!$A42,"") | P41: =IF(BASES!$B$10<>"",IF('TABLA DE OBJETIVOS'!$F42=BASES!$B$10,"SI",""),"") | Q41: =IF((R41<>"")^(SUM(Q$4:Q40)<>""),MAX(Q$4:Q40)+1,"") | R41: =IF(S41="SI",'TABLA DE OBJETIVOS'!$A42,"") | S41: =IF(BASES!$B$11<>"",IF('TABLA DE OBJETIVOS'!$F42=BASES!$B$11,"SI",""),"") | T41: =IF((U41<>"")^(SUM(T$4:T40)<>""),MAX(T$4:T40)+1,"") | U41: =IF(V41="SI",'TABLA DE OBJETIVOS'!$A42,"") | V41: =IF(BASES!$B$12<>"",IF('TABLA DE OBJETIVOS'!$F42=BASES!$B$12,"SI",""),"")
... B302: =IF((C302<>"")^(SUM(B$4:B301)<>""),MAX(B$4:B301)+1,"") | C302: =IF(D302="SI",'TABLA DE OBJETIVOS'!$A303,"") | D302: =IF(BASES!$B$6<>"",IF('TABLA DE OBJETIVOS'!$F303=BASES!$B$6,"SI",""),"") | E302: =IF((F302<>"")^(SUM(E$4:E301)<>""),MAX(E$4:E301)+1,"") | F302: =IF(G302="SI",'TABLA DE OBJETIVOS'!$A303,"") | G302: =IF(BASES!$B$7<>"",IF('TABLA DE OBJETIVOS'!$F303=BASES!$B$7,"SI",""),"") | H302: =IF((I302<>"")^(SUM(H$4:H301)<>""),MAX(H$4:H301)+1,"") | I302: =IF(J302="SI",'TABLA DE OBJETIVOS'!$A303,"") | J302: =IF(BASES!$B$8<>"",IF('TABLA DE OBJETIVOS'!$F303=BASES!$B$8,"SI",""),"") | K302: =IF((L302<>"")^(SUM(K$4:K301)<>""),MAX(K$4:K301)+1,"") | L302: =IF(M302="SI",'TABLA DE OBJETIVOS'!$A303,"") | M302: =IF(BASES!$B$9<>"",IF('TABLA DE OBJETIVOS'!$F303=BASES!$B$9,"SI",""),"") | N302: =IF((O302<>"")^(SUM(N$4:N301)<>""),MAX(N$4:N301)+1,"") | O302: =IF(P302="SI",'TABLA DE OBJETIVOS'!$A303,"") | P302: =IF(BASES!$B$10<>"",IF('TABLA DE OBJETIVOS'!$F303=BASES!$B$10,"SI",""),"") | Q302: =IF((R302<>"")^(SUM(Q$4:Q301)<>""),MAX(Q$4:Q301)+1,"") | R302: =IF(S302="SI",'TABLA DE OBJETIVOS'!$A303,"") | S302: =IF(BASES!$B$11<>"",IF('TABLA DE OBJETIVOS'!$F303=BASES!$B$11,"SI",""),"") | T302: =IF((U302<>"")^(SUM(T$4:T301)<>""),MAX(T$4:T301)+1,"") | U302: =IF(V302="SI",'TABLA DE OBJETIVOS'!$A303,"") | V302: =IF(BASES!$B$12<>"",IF('TABLA DE OBJETIVOS'!$F303=BASES!$B$12,"SI",""),"")
